From mboxrd@z Thu Jan  1 00:00:00 1970
Return-Path: <test-report-bounces@dpdk.org>
Received: from mails.dpdk.org (mails.dpdk.org [217.70.189.124])
	by inbox.dpdk.org (Postfix) with ESMTP id 20769454F6
	for <public@inbox.dpdk.org>; Wed, 26 Jun 2024 06:55:01 +0200 (CEST)
Received: from mails.dpdk.org (localhost [127.0.0.1])
	by mails.dpdk.org (Postfix) with ESMTP id 14DB1402A9;
	Wed, 26 Jun 2024 06:55:01 +0200 (CEST)
Received: from mail-qt1-f226.google.com (mail-qt1-f226.google.com
 [209.85.160.226])
 by mails.dpdk.org (Postfix) with ESMTP id EC27640264
 for <test-report@dpdk.org>; Wed, 26 Jun 2024 06:54:59 +0200 (CEST)
Received: by mail-qt1-f226.google.com with SMTP id
 d75a77b69052e-445ae4cfe5aso1507791cf.0
 for <test-report@dpdk.org>; Tue, 25 Jun 2024 21:54:59 -0700 (PDT)
DKIM-Signature: v=1; a=rsa-sha256; c=relaxed/relaxed;
 d=iol.unh.edu; s=unh-iol; t=1719377699; x=1719982499; darn=dpdk.org;
 h=references:in-reply-to:cc:to:from:subject:message-id:date:from:to
 :cc:subject:date:message-id:reply-to;
 bh=7woMDeHWTmhjqb/k+DPpKKRKfSS9fJ7AZaKvcNvy+ms=;
 b=QUPxz9zoZ6u8BleNzQsSoh1ztyj5IKgeJsOkbu4NdaBYqEl3bTXseLQo7DsmToIWgi
 7fl9LtaSHZ3i6NdlJ14fA7fa5mYFoulz32JrPQHkF1uDcew/4DNnxqYxTcYnc52s9jcU
 IoQiE48Jmj4RBABqr0vF/gRIfmiGD4qQEV7Pk=
X-Google-DKIM-Signature: v=1; a=rsa-sha256; c=relaxed/relaxed;
 d=1e100.net; s=20230601; t=1719377699; x=1719982499;
 h=references:in-reply-to:cc:to:from:subject:message-id:date
 :x-gm-message-state:from:to:cc:subject:date:message-id:reply-to;
 bh=7woMDeHWTmhjqb/k+DPpKKRKfSS9fJ7AZaKvcNvy+ms=;
 b=cCuV4hCVzI0nanJ95eTVmCSX851OOh8DdosAx7/DuHwxrNEkCWhDBWvxtu2MsS++Ie
 SLRajJelTtFHojPK0fnG05P0WR9slQucEwGcOiO3qr33sCpsKG/fyY/kKGfeLhTEXkQX
 +DVlapss4WFAuJk++BcxidSYIUGXiZ0UU34F9D3r0ay0J1yf6NaquQ1bDHltheOge0dw
 0xC1EdYXMOkubPjZRbMz+mbKPKTQJsnQYKxlvWxv+poD3bTXHu3AjLOA3RJBVs1Pd3Cw
 /2fbOqcWpAMm7QvTX+373qh2tGA6nINdfvHOV5n62KONNrQuXTKgBYR9SwRPPE2iaY6h
 zbjA==
X-Gm-Message-State: AOJu0Yyup2lqBa9IyfNDFpTri5WE2swmyFZDSe2UgS1U9uAr2wuxMMAO
 Lt0UH9BDfbHJSOI+QRLnrwX7lUJk1RbTQiZA1TmsQLVXDs+l9feTwnb0tBuDcNtKRrCzoHFIZv+
 /0gTdE17y8kylJ7WpJXhrH3VqeGciDdLSQP7ga2mI
X-Google-Smtp-Source: AGHT+IHAT2uclT8QbVtJC9QEjfeTEpAUuwxcaqDvR/zUL1AnZdDLgVbduLr98BM/3SviDJghvogvflA+3A2m
X-Received: by 2002:a05:622a:1a28:b0:43a:3505:53d8 with SMTP id
 d75a77b69052e-444d64665bamr119325221cf.1.1719377699372; 
 Tue, 25 Jun 2024 21:54:59 -0700 (PDT)
Received: from postal.iol.unh.edu (postal.iol.unh.edu. [132.177.123.84])
 by smtp-relay.gmail.com with ESMTPS id
 d75a77b69052e-444c2b42059sm2480041cf.2.2024.06.25.21.54.59
 (version=TLS1_2 cipher=ECDHE-ECDSA-AES128-GCM-SHA256 bits=128/128);
 Tue, 25 Jun 2024 21:54:59 -0700 (PDT)
X-Relaying-Domain: iol.unh.edu
Date: Tue, 25 Jun 2024 21:54:59 -0700 (PDT)
Message-ID: <667b9f23.c80a0220.f9751.23bbSMTPIN_ADDED_MISSING@mx.google.com>
Received: from [172.21.0.6] (unknown [172.18.0.240])
 by postal.iol.unh.edu (Postfix) with ESMTP id 16FFD6050A9C;
 Wed, 26 Jun 2024 00:54:59 -0400 (EDT)
Subject: |SUCCESS| pw141748 [PATCH] [v1,1/1] bbdev: add missing symbols in ve
From: dpdklab@iol.unh.edu
To: Test Report <test-report@dpdk.org>
Cc: dpdk-test-reports@iol.unh.edu
In-Reply-To: <20240626000451.1230464-2-nicolas.chautru@intel.com>
References: <20240626000451.1230464-2-nicolas.chautru@intel.com>
Content-Type: text/plain
X-BeenThere: test-report@dpdk.org
X-Mailman-Version: 2.1.29
Precedence: list
List-Id: automatic DPDK test reports <test-report.dpdk.org>
List-Unsubscribe: <https://mails.dpdk.org/options/test-report>,
 <mailto:test-report-request@dpdk.org?subject=unsubscribe>
List-Archive: <http://mails.dpdk.org/archives/test-report/>
List-Post: <mailto:test-report@dpdk.org>
List-Help: <mailto:test-report-request@dpdk.org?subject=help>
List-Subscribe: <https://mails.dpdk.org/listinfo/test-report>,
 <mailto:test-report-request@dpdk.org?subject=subscribe>
Errors-To: test-report-bounces@dpdk.org

Test-Label: iol-compile-amd64-testing
Test-Status: SUCCESS
http://dpdk.org/patch/141748

_Testing PASS_

Submitter: Nicolas Chautru <nicolas.chautru@intel.com>
Date: Wednesday, June 26 2024 00:04:51 
DPDK git baseline: Repo:dpdk
  Branch: master
  CommitID:e195680f6f1c109cd7812b1ef6f2a38cea70ea9b

141748 --> testing pass

Test environment and result as below:

+---------------------+--------------------+----------------------+-------------------+
|     Environment     | dpdk_meson_compile | dpdk_mingw64_compile | dpdk_msvc_compile |
+=====================+====================+======================+===================+
| FreeBSD 13.3        | PASS               | SKIPPED              | SKIPPED           |
+---------------------+--------------------+----------------------+-------------------+
| FreeBSD 14.1        | PASS               | SKIPPED              | SKIPPED           |
+---------------------+--------------------+----------------------+-------------------+
| Windows Server 2022 | PASS               | PASS                 | PASS              |
+---------------------+--------------------+----------------------+-------------------+
| Windows Server 2019 | PASS               | PASS                 | SKIPPED           |
+---------------------+--------------------+----------------------+-------------------+


FreeBSD 13.3
	Kernel: 13.3-RELEASE-p1
	Compiler: clang 17.0.6

FreeBSD 14.1
	Kernel: 14.1
	Compiler: clang 18.1.5

Windows Server 2022
	Kernel: 10.0.20348.2031
	Compiler: clang 15.0.7, gcc 8.1.0 (MinGW), and MSVC VS 17.9

Windows Server 2019
	Kernel: 10.0.17763
	Compiler: clang 14.0 and gcc 8.1.0 (MinGW)

To view detailed results, visit:
https://lab.dpdk.org/results/dashboard/patchsets/30314/

UNH-IOL DPDK Community Lab

To manage your email subscriptions, visit: 
https://lab.dpdk.org/results/dashboard/preferences/subscriptions/