From mboxrd@z Thu Jan  1 00:00:00 1970
Return-Path: <test-report-bounces@dpdk.org>
Received: from mails.dpdk.org (mails.dpdk.org [217.70.189.124])
	by inbox.dpdk.org (Postfix) with ESMTP id D880D454F6
	for <public@inbox.dpdk.org>; Wed, 26 Jun 2024 07:44:06 +0200 (CEST)
Received: from mails.dpdk.org (localhost [127.0.0.1])
	by mails.dpdk.org (Postfix) with ESMTP id D251742E5D;
	Wed, 26 Jun 2024 07:44:06 +0200 (CEST)
Received: from mail-qv1-f97.google.com (mail-qv1-f97.google.com
 [209.85.219.97]) by mails.dpdk.org (Postfix) with ESMTP id AB50B40264
 for <test-report@dpdk.org>; Wed, 26 Jun 2024 07:43:52 +0200 (CEST)
Received: by mail-qv1-f97.google.com with SMTP id
 6a1803df08f44-6b4fe2c79fdso26266266d6.0
 for <test-report@dpdk.org>; Tue, 25 Jun 2024 22:43:52 -0700 (PDT)
DKIM-Signature: v=1; a=rsa-sha256; c=relaxed/relaxed;
 d=iol.unh.edu; s=unh-iol; t=1719380632; x=1719985432; darn=dpdk.org;
 h=references:in-reply-to:cc:to:from:subject:message-id:date:from:to
 :cc:subject:date:message-id:reply-to;
 bh=DjzUtxh3/ysh52XfwkJQDW0uttydxUZtBk7q1HMMgnE=;
 b=MIVsSORZlle0n4fr0fqNF9D9Z0HpvftJa79bS/JQyHEXFrtuT8uO05EWPV9U6pTHVv
 2zKFMIY+X6XSvIPhqeo8M7j8Kd3ndamk2X0fUC6CkUh6ZXwemWpELFz/g2c2Nuoo7V9L
 3BlLlg6Wc6I8NsQ4RvYUb0KGMRnyjxPdFwrAA=
X-Google-DKIM-Signature: v=1; a=rsa-sha256; c=relaxed/relaxed;
 d=1e100.net; s=20230601; t=1719380632; x=1719985432;
 h=references:in-reply-to:cc:to:from:subject:message-id:date
 :x-gm-message-state:from:to:cc:subject:date:message-id:reply-to;
 bh=DjzUtxh3/ysh52XfwkJQDW0uttydxUZtBk7q1HMMgnE=;
 b=Rf4R8MFS6EDpllkaaQLe939FBiyS+3rxgMKnwAI1P5ganbRTX4TRYVoLly8YeOFjbP
 o6V1r4h6H9DKMfo35KpXUkyvIPuvz2j+WhhHUkYYoE7ebmmaB076oVr8aSZeK9U/lG4D
 NwP8jMJSapxXu1/Zgl0W+pmQjKF+2F9NVQ0Zw6Nh+T7sHEu6XicvxDI0VXYg0dA6KiNj
 I8dgiEM7Mgcq/wjvvf9ufxM2RJCshRgoj8tXdfbF600YPVzzhte0mSGeMm/aMe6b7m0Y
 Dq6z/MflIQmGAf3BY11eLrj9fuXakQcMw9BayixCKiGr/Lsq2f+mR59ZBJVMACGY1hF4
 dUSQ==
X-Gm-Message-State: AOJu0YxKbc6OfeynhT5AEopPnUnEHZ6V34RxUxgPUx7tdwG2ElQ1/KfP
 TcfwQGPRESwGf4p+aWT9BqFpGo+RlNnopLTd0As6HEeQwkCzmxIrLbOKLRVBiKWBliMM4gAjnXt
 GjFyDcaCON/tQT5CX0YUeN/5Pf4vdr3aceheqdvwS9y/qXyFDviWGe6KH
X-Google-Smtp-Source: AGHT+IGJsl/2TNvcMJzgyEtPFo4p2Jo0OUyjtnveIqGaeCIxAnpqwllQWhFmyySA+0MrQUzN0ZDXr1uDxdY2
X-Received: by 2002:a05:6214:5593:b0:6b0:789f:9ce2 with SMTP id
 6a1803df08f44-6b53bbbe202mr109339346d6.2.1719380632160; 
 Tue, 25 Jun 2024 22:43:52 -0700 (PDT)
Received: from postal.iol.unh.edu (postal.iol.unh.edu.
 [2606:4100:3880:1234::84]) by smtp-relay.gmail.com with ESMTPS id
 6a1803df08f44-6b51ed35e93sm4609836d6.41.2024.06.25.22.43.52
 (version=TLS1_2 cipher=ECDHE-ECDSA-AES128-GCM-SHA256 bits=128/128);
 Tue, 25 Jun 2024 22:43:52 -0700 (PDT)
X-Relaying-Domain: iol.unh.edu
Date: Tue, 25 Jun 2024 22:43:52 -0700 (PDT)
Message-ID: <667baa98.050a0220.94f22.174eSMTPIN_ADDED_MISSING@mx.google.com>
Received: from [172.17.0.2] (unknown [172.18.0.217])
 by postal.iol.unh.edu (Postfix) with ESMTP id D2D2B6050A9C;
 Wed, 26 Jun 2024 01:43:51 -0400 (EDT)
Subject: |SUCCESS| pw141748 [PATCH] [v1,1/1] bbdev: add missing symbols in ve
From: dpdklab@iol.unh.edu
To: Test Report <test-report@dpdk.org>
Cc: dpdk-test-reports@iol.unh.edu
In-Reply-To: <20240626000451.1230464-2-nicolas.chautru@intel.com>
References: <20240626000451.1230464-2-nicolas.chautru@intel.com>
Content-Type: text/plain
X-BeenThere: test-report@dpdk.org
X-Mailman-Version: 2.1.29
Precedence: list
List-Id: automatic DPDK test reports <test-report.dpdk.org>
List-Unsubscribe: <https://mails.dpdk.org/options/test-report>,
 <mailto:test-report-request@dpdk.org?subject=unsubscribe>
List-Archive: <http://mails.dpdk.org/archives/test-report/>
List-Post: <mailto:test-report@dpdk.org>
List-Help: <mailto:test-report-request@dpdk.org?subject=help>
List-Subscribe: <https://mails.dpdk.org/listinfo/test-report>,
 <mailto:test-report-request@dpdk.org?subject=subscribe>
Errors-To: test-report-bounces@dpdk.org

Test-Label: iol-compile-arm64-testing
Test-Status: SUCCESS
http://dpdk.org/patch/141748

_Testing PASS_

Submitter: Nicolas Chautru <nicolas.chautru@intel.com>
Date: Wednesday, June 26 2024 00:04:51 
DPDK git baseline: Repo:dpdk
  Branch: master
  CommitID:e195680f6f1c109cd7812b1ef6f2a38cea70ea9b

141748 --> testing pass

Test environment and result as below:

+----------------------------------------+--------------------+
|              Environment               | dpdk_meson_compile |
+========================================+====================+
| Ubuntu 20.04 ARM GCC Cross Compile     | PASS               |
+----------------------------------------+--------------------+
| Ubuntu 20.04 aarch32 GCC Cross Compile | PASS               |
+----------------------------------------+--------------------+
| Ubuntu 20.04 ARM SVE                   | PASS               |
+----------------------------------------+--------------------+
| Debian 12 with MUSDK                   | PASS               |
+----------------------------------------+--------------------+
| RHEL9 (ARM)                            | PASS               |
+----------------------------------------+--------------------+
| Fedora 38 (ARM)                        | PASS               |
+----------------------------------------+--------------------+
| Fedora 37 (ARM)                        | PASS               |
+----------------------------------------+--------------------+
| Fedora 39 (ARM)                        | PASS               |
+----------------------------------------+--------------------+
| Ubuntu 20.04 (ARM)                     | PASS               |
+----------------------------------------+--------------------+
| Fedora 40 (ARM)                        | PASS               |
+----------------------------------------+--------------------+
| Ubuntu 22.04 (ARM)                     | PASS               |
+----------------------------------------+--------------------+
| Ubuntu 24.04 (ARM)                     | PASS               |
+----------------------------------------+--------------------+
| CentOS Stream 9 (ARM)                  | PASS               |
+----------------------------------------+--------------------+
| Debian 11 (Buster) (ARM)               | PASS               |
+----------------------------------------+--------------------+
| Ubuntu 20.04 ARM Clang Cross Compile   | PASS               |
+----------------------------------------+--------------------+
| Debian 12 (arm)                        | PASS               |
+----------------------------------------+--------------------+


Ubuntu 20.04 ARM GCC Cross Compile
	Kernel: 5.4.0-167-generic
	Compiler: aarch64-linux-gnu-gcc (Ubuntu 9.4.0-1ubuntu1~20.04.2) 9.4.0

Ubuntu 20.04 aarch32 GCC Cross Compile
	Kernel: 5.4.0-167-generic
	Compiler: gcc 9.4.0

Ubuntu 20.04 ARM SVE
	Kernel: 5.4.0-167-generic
	Compiler: gcc (Ubuntu 10.5.0-1ubuntu1~20.04) 10.5.0

Debian 12 with MUSDK
	Kernel: Container Host Kernel
	Compiler: gcc 12.2.0

RHEL9 (ARM)
	Kernel: Depends on container host
	Compiler: gcc 11.4.1

Fedora 38 (ARM)
	Kernel: Depends on container host
	Compiler: gcc 13.2.1

Fedora 37 (ARM)
	Kernel: Depends on container host
	Compiler: gcc 12.3.1

Fedora 39 (ARM)
	Kernel: Depends on container host
	Compiler: gcc 13.2.1

Ubuntu 20.04 (ARM)
	Kernel: Container Host Kernel
	Compiler: gcc 9.4.0

Fedora 40 (ARM)
	Kernel: Depends on container host
	Compiler: gcc 14.1.1

Ubuntu 22.04 (ARM)
	Kernel: Container Host Kernel
	Compiler: gcc 11.4.0

Ubuntu 24.04 (ARM)
	Kernel: 5.4.0-167-generic
	Compiler: gcc 13.2.0

CentOS Stream 9 (ARM)
	Kernel: Container Host Kernel
	Compiler: gcc 11.4.1

Debian 11 (Buster) (ARM)
	Kernel: Container Host Kernel
	Compiler: gcc 10.2.1

Ubuntu 20.04 ARM Clang Cross Compile
	Kernel: 5.4.0-72-generic
	Compiler: clang 10.0.0-4ubuntu1

Debian 12 (arm)
	Kernel: Container Host Kernel
	Compiler: gcc 12.2.0

To view detailed results, visit:
https://lab.dpdk.org/results/dashboard/patchsets/30314/

UNH-IOL DPDK Community Lab

To manage your email subscriptions, visit: 
https://lab.dpdk.org/results/dashboard/preferences/subscriptions/