From mboxrd@z Thu Jan  1 00:00:00 1970
Return-Path: <test-report-bounces@dpdk.org>
Received: from mails.dpdk.org (mails.dpdk.org [217.70.189.124])
	by inbox.dpdk.org (Postfix) with ESMTP id 0563E454F6
	for <public@inbox.dpdk.org>; Wed, 26 Jun 2024 07:44:57 +0200 (CEST)
Received: from mails.dpdk.org (localhost [127.0.0.1])
	by mails.dpdk.org (Postfix) with ESMTP id F23E1402A9;
	Wed, 26 Jun 2024 07:44:56 +0200 (CEST)
Received: from mail-ot1-f97.google.com (mail-ot1-f97.google.com
 [209.85.210.97]) by mails.dpdk.org (Postfix) with ESMTP id 7FBFA40264
 for <test-report@dpdk.org>; Wed, 26 Jun 2024 07:44:29 +0200 (CEST)
Received: by mail-ot1-f97.google.com with SMTP id
 46e09a7af769-6f855b2499cso3377952a34.1
 for <test-report@dpdk.org>; Tue, 25 Jun 2024 22:44:29 -0700 (PDT)
DKIM-Signature: v=1; a=rsa-sha256; c=relaxed/relaxed;
 d=iol.unh.edu; s=unh-iol; t=1719380668; x=1719985468; darn=dpdk.org;
 h=references:in-reply-to:cc:to:from:subject:message-id:date:from:to
 :cc:subject:date:message-id:reply-to;
 bh=DjzUtxh3/ysh52XfwkJQDW0uttydxUZtBk7q1HMMgnE=;
 b=eP3sHFd5833CttZ0hEmaBKVWIo3L0fNv+uXKsPh/jUV/qiSGd12eBFLHp00CUkfkSr
 Xu8dAiarfKIqr1b/qIJlJx9DTGIkIkkIj9HLAhNJ5o3yr1IxE+aJ17mj9ZH7qGFI6l9z
 Sli8Z2UPDvOn2TgJHZDItYPH1Ew8jvpSOUGLo=
X-Google-DKIM-Signature: v=1; a=rsa-sha256; c=relaxed/relaxed;
 d=1e100.net; s=20230601; t=1719380668; x=1719985468;
 h=references:in-reply-to:cc:to:from:subject:message-id:date
 :x-gm-message-state:from:to:cc:subject:date:message-id:reply-to;
 bh=DjzUtxh3/ysh52XfwkJQDW0uttydxUZtBk7q1HMMgnE=;
 b=hE1xVgOVs6cT/NrCkKtK/L2+DDAy34EI87GS7tvGUdyRCJiHPszXnY6A7L0Sxqqm8t
 L/wJzGxgMbkt/ygSI1mB15DpR2sD/auKhK5VBuCzKLmp8xPwm1nQN1Qt6SFlWYwLIUSc
 wgMv2J+tUt1UwaUmGTk9P513vGS83hjajHiVDD4MSwgJP723UsQE8IEP+KfCo+f1i+tc
 cfygYsYnX42t1G0h24u/PQfSHWHN4hi+4jYxdQbWyrBaewvWeBSdETIY05vZvhCt3OVh
 uk5XlDHISPMWSulU2jm2G+OLVRP69FQC7mtSIkQnujuLrwZ/tS0qe5WQUZNegN7KTUqj
 fu6w==
X-Gm-Message-State: AOJu0Yxj2uQ+8Ry+23u9Kbt/pbQjo+gkUs+ThHQgrgl+5WhrlB3QX8gu
 QBwxPJYcI5yDWAOLgsT9Oop2TIlPT/Sbt5HMZhmvMfM7SEj2tcrT62fei0vqXEI7B3PaX6zCPCQ
 KB84+mA6qvzNsgoQbk3x0mcsbt1qVD7j9oVVqCBXXfOILA0JyK2gHJUVU
X-Google-Smtp-Source: AGHT+IHEucRJbUyROYDo06fuy82bpexlTwxacW8jE9B+D6SEL84X8aVrKHnD/arttPAIx6RB7M+oE23SFRbw
X-Received: by 2002:a9d:74c3:0:b0:700:d0e4:c6af with SMTP id
 46e09a7af769-700d0f40e5fmr946705a34.8.1719380668505; 
 Tue, 25 Jun 2024 22:44:28 -0700 (PDT)
Received: from postal.iol.unh.edu (postal.iol.unh.edu.
 [2606:4100:3880:1234::84]) by smtp-relay.gmail.com with ESMTPS id
 46e09a7af769-7009c652a6bsm182670a34.11.2024.06.25.22.44.28
 (version=TLS1_2 cipher=ECDHE-ECDSA-AES128-GCM-SHA256 bits=128/128);
 Tue, 25 Jun 2024 22:44:28 -0700 (PDT)
X-Relaying-Domain: iol.unh.edu
Date: Tue, 25 Jun 2024 22:44:28 -0700 (PDT)
Message-ID: <667baabc.050a0220.c16cb.d5abSMTPIN_ADDED_MISSING@mx.google.com>
Received: from [172.17.0.2] (unknown [172.18.0.217])
 by postal.iol.unh.edu (Postfix) with ESMTP id 86FAD6050A9C;
 Wed, 26 Jun 2024 01:44:27 -0400 (EDT)
Subject: |SUCCESS| pw141748 [PATCH] [v1,1/1] bbdev: add missing symbols in ve
From: dpdklab@iol.unh.edu
To: Test Report <test-report@dpdk.org>
Cc: dpdk-test-reports@iol.unh.edu
In-Reply-To: <20240626000451.1230464-2-nicolas.chautru@intel.com>
References: <20240626000451.1230464-2-nicolas.chautru@intel.com>
Content-Type: text/plain
X-BeenThere: test-report@dpdk.org
X-Mailman-Version: 2.1.29
Precedence: list
List-Id: automatic DPDK test reports <test-report.dpdk.org>
List-Unsubscribe: <https://mails.dpdk.org/options/test-report>,
 <mailto:test-report-request@dpdk.org?subject=unsubscribe>
List-Archive: <http://mails.dpdk.org/archives/test-report/>
List-Post: <mailto:test-report@dpdk.org>
List-Help: <mailto:test-report-request@dpdk.org?subject=help>
List-Subscribe: <https://mails.dpdk.org/listinfo/test-report>,
 <mailto:test-report-request@dpdk.org?subject=subscribe>
Errors-To: test-report-bounces@dpdk.org

Test-Label: iol-compile-arm64-testing
Test-Status: SUCCESS
http://dpdk.org/patch/141748

_Testing PASS_

Submitter: Nicolas Chautru <nicolas.chautru@intel.com>
Date: Wednesday, June 26 2024 00:04:51 
DPDK git baseline: Repo:dpdk
  Branch: master
  CommitID:e195680f6f1c109cd7812b1ef6f2a38cea70ea9b

141748 --> testing pass

Test environment and result as below:

+----------------------------------------+--------------------+
|              Environment               | dpdk_meson_compile |
+========================================+====================+
| Ubuntu 20.04 ARM GCC Cross Compile     | PASS               |
+----------------------------------------+--------------------+
| Ubuntu 20.04 aarch32 GCC Cross Compile | PASS               |
+----------------------------------------+--------------------+
| Ubuntu 20.04 ARM SVE                   | PASS               |
+----------------------------------------+--------------------+
| Debian 12 with MUSDK                   | PASS               |
+----------------------------------------+--------------------+
| RHEL9 (ARM)                            | PASS               |
+----------------------------------------+--------------------+
| Fedora 38 (ARM)                        | PASS               |
+----------------------------------------+--------------------+
| Fedora 37 (ARM)                        | PASS               |
+----------------------------------------+--------------------+
| Fedora 39 (ARM)                        | PASS               |
+----------------------------------------+--------------------+
| Ubuntu 20.04 (ARM)                     | PASS               |
+----------------------------------------+--------------------+
| Fedora 40 (ARM)                        | PASS               |
+----------------------------------------+--------------------+
| Ubuntu 22.04 (ARM)                     | PASS               |
+----------------------------------------+--------------------+
| Ubuntu 24.04 (ARM)                     | PASS               |
+----------------------------------------+--------------------+
| CentOS Stream 9 (ARM)                  | PASS               |
+----------------------------------------+--------------------+
| Debian 11 (Buster) (ARM)               | PASS               |
+----------------------------------------+--------------------+
| Ubuntu 20.04 ARM Clang Cross Compile   | PASS               |
+----------------------------------------+--------------------+
| Debian 12 (arm)                        | PASS               |
+----------------------------------------+--------------------+


Ubuntu 20.04 ARM GCC Cross Compile
	Kernel: 5.4.0-167-generic
	Compiler: aarch64-linux-gnu-gcc (Ubuntu 9.4.0-1ubuntu1~20.04.2) 9.4.0

Ubuntu 20.04 aarch32 GCC Cross Compile
	Kernel: 5.4.0-167-generic
	Compiler: gcc 9.4.0

Ubuntu 20.04 ARM SVE
	Kernel: 5.4.0-167-generic
	Compiler: gcc (Ubuntu 10.5.0-1ubuntu1~20.04) 10.5.0

Debian 12 with MUSDK
	Kernel: Container Host Kernel
	Compiler: gcc 12.2.0

RHEL9 (ARM)
	Kernel: Depends on container host
	Compiler: gcc 11.4.1

Fedora 38 (ARM)
	Kernel: Depends on container host
	Compiler: gcc 13.2.1

Fedora 37 (ARM)
	Kernel: Depends on container host
	Compiler: gcc 12.3.1

Fedora 39 (ARM)
	Kernel: Depends on container host
	Compiler: gcc 13.2.1

Ubuntu 20.04 (ARM)
	Kernel: Container Host Kernel
	Compiler: gcc 9.4.0

Fedora 40 (ARM)
	Kernel: Depends on container host
	Compiler: gcc 14.1.1

Ubuntu 22.04 (ARM)
	Kernel: Container Host Kernel
	Compiler: gcc 11.4.0

Ubuntu 24.04 (ARM)
	Kernel: 5.4.0-167-generic
	Compiler: gcc 13.2.0

CentOS Stream 9 (ARM)
	Kernel: Container Host Kernel
	Compiler: gcc 11.4.1

Debian 11 (Buster) (ARM)
	Kernel: Container Host Kernel
	Compiler: gcc 10.2.1

Ubuntu 20.04 ARM Clang Cross Compile
	Kernel: 5.4.0-72-generic
	Compiler: clang 10.0.0-4ubuntu1

Debian 12 (arm)
	Kernel: Container Host Kernel
	Compiler: gcc 12.2.0

To view detailed results, visit:
https://lab.dpdk.org/results/dashboard/patchsets/30314/

UNH-IOL DPDK Community Lab

To manage your email subscriptions, visit: 
https://lab.dpdk.org/results/dashboard/preferences/subscriptions/