From mboxrd@z Thu Jan  1 00:00:00 1970
Return-Path: <test-report-bounces@dpdk.org>
Received: from mails.dpdk.org (mails.dpdk.org [217.70.189.124])
	by inbox.dpdk.org (Postfix) with ESMTP id 3F7DD454F6
	for <public@inbox.dpdk.org>; Wed, 26 Jun 2024 07:58:27 +0200 (CEST)
Received: from mails.dpdk.org (localhost [127.0.0.1])
	by mails.dpdk.org (Postfix) with ESMTP id 0BFFD42E9B;
	Wed, 26 Jun 2024 07:58:27 +0200 (CEST)
Received: from mail-pl1-f226.google.com (mail-pl1-f226.google.com
 [209.85.214.226])
 by mails.dpdk.org (Postfix) with ESMTP id 9A91140264
 for <test-report@dpdk.org>; Wed, 26 Jun 2024 07:57:44 +0200 (CEST)
Received: by mail-pl1-f226.google.com with SMTP id
 d9443c01a7336-1f9b52ef481so51530925ad.1
 for <test-report@dpdk.org>; Tue, 25 Jun 2024 22:57:44 -0700 (PDT)
DKIM-Signature: v=1; a=rsa-sha256; c=relaxed/relaxed;
 d=iol.unh.edu; s=unh-iol; t=1719381464; x=1719986264; darn=dpdk.org;
 h=references:in-reply-to:cc:to:from:subject:message-id:date:from:to
 :cc:subject:date:message-id:reply-to;
 bh=lthsEuAJW8RQNrty43O0+zb/V18TVVMnYnPrrobdUBg=;
 b=ZJbUw39gO/s01JfmYL0mff+LL1Cr+lNAyx2USYKFLnx7ZrYYC9BuAyV/D1pvpK1bct
 6Rfz2XvesvdpNJFkHNtJgUdOEEkJRfaWoNdO2MifWGUTQp2Hd1MXOehzSOkGexqnGNj3
 RWCLOMG1b1zFhqbQM8o0gGcI+ig2bUEYzqDtQ=
X-Google-DKIM-Signature: v=1; a=rsa-sha256; c=relaxed/relaxed;
 d=1e100.net; s=20230601; t=1719381464; x=1719986264;
 h=references:in-reply-to:cc:to:from:subject:message-id:date
 :x-gm-message-state:from:to:cc:subject:date:message-id:reply-to;
 bh=lthsEuAJW8RQNrty43O0+zb/V18TVVMnYnPrrobdUBg=;
 b=NCwXdADJkmeDOreGHPjM9ZKlMb2x83/dHIq6ac7iV2cQcoZauW3R5Hz9E5W9FUegnw
 OOlG958pkisPxvdJ9zQaXKPq88D7udQSk4Bk1QfFJZWWzcIN3MOAv0bO6BLK3WWB4wBr
 b74NAKb03rjiSQfIoRLkZNWCBtT4dD08s/7nzaVS4IAmmViDV0NkiDAPkg4ax7Txafpk
 4BEi8gTkslsQTaZ2aOQb+U8EMIKTRLrMpWHudrpE1y6uPcVqRAa1sSkxtj05Vk2sWPAv
 9EtdwPWugw/nedkEgudS7+SjZ8eiSNxRXTvQguBqAAXP8J8zJOPrYlNXs1qmQkAu2/kU
 443A==
X-Gm-Message-State: AOJu0YxMg3q/iQA27CESHk/RnoLNIj0x1nTyOwa0KjHCVCLlXtQDNwME
 uWu5LZklS8h0dYjwKy21vLKpj1phU15E2CydVkKnXGjvmxfnbs/M4Ns2LsTfL3p3tA8SBCiONOB
 j4AIUrMab6yIjZ0apKwutcYTQuja5rhxOQSD1f1xTDTj0x/CQ5U58S75m
X-Google-Smtp-Source: AGHT+IHjsRqqBzaL3+pdDLhC0y9KyPNXnd5HXUK/TGJqqJw+GgiAdeChsOr4uH77ZmEMtkRN8Y7DBRSou8EU
X-Received: by 2002:a17:902:d30d:b0:1f9:edf6:d79c with SMTP id
 d9443c01a7336-1fa23f9c025mr84762285ad.69.1719381463739; 
 Tue, 25 Jun 2024 22:57:43 -0700 (PDT)
Received: from postal.iol.unh.edu (postal.iol.unh.edu.
 [2606:4100:3880:1234::84]) by smtp-relay.gmail.com with ESMTPS id
 d9443c01a7336-1f9eb2efd42sm2114455ad.9.2024.06.25.22.57.43
 (version=TLS1_2 cipher=ECDHE-ECDSA-AES128-GCM-SHA256 bits=128/128);
 Tue, 25 Jun 2024 22:57:43 -0700 (PDT)
X-Relaying-Domain: iol.unh.edu
Date: Tue, 25 Jun 2024 22:57:43 -0700 (PDT)
Message-ID: <667badd7.170a0220.cd3ae.f3a1SMTPIN_ADDED_MISSING@mx.google.com>
Received: from [172.17.0.2] (unknown [172.18.0.217])
 by postal.iol.unh.edu (Postfix) with ESMTP id EC3286050A9C;
 Wed, 26 Jun 2024 01:57:42 -0400 (EDT)
Subject: |SUCCESS| pw141597-141725 [PATCH] [v3,129/129] net/ice: add new devi
From: dpdklab@iol.unh.edu
To: Test Report <test-report@dpdk.org>
Cc: dpdk-test-reports@iol.unh.edu
In-Reply-To: <2a26426a34037f6286bae7dc6eb398023726f7f5.1719313664.git.anatoly.burakov@intel.com>
References: <2a26426a34037f6286bae7dc6eb398023726f7f5.1719313664.git.anatoly.burakov@intel.com>
Content-Type: text/plain
X-BeenThere: test-report@dpdk.org
X-Mailman-Version: 2.1.29
Precedence: list
List-Id: automatic DPDK test reports <test-report.dpdk.org>
List-Unsubscribe: <https://mails.dpdk.org/options/test-report>,
 <mailto:test-report-request@dpdk.org?subject=unsubscribe>
List-Archive: <http://mails.dpdk.org/archives/test-report/>
List-Post: <mailto:test-report@dpdk.org>
List-Help: <mailto:test-report-request@dpdk.org?subject=help>
List-Subscribe: <https://mails.dpdk.org/listinfo/test-report>,
 <mailto:test-report-request@dpdk.org?subject=subscribe>
Errors-To: test-report-bounces@dpdk.org

Test-Label: iol-compile-arm64-testing
Test-Status: SUCCESS
http://dpdk.org/patch/141725

_Testing PASS_

Submitter: Anatoly Burakov <anatoly.burakov@intel.com>
Date: Tuesday, June 25 2024 11:14:14 
DPDK git baseline: Repo:dpdk
  Branch: master
  CommitID:fbba6db3640f9f623c29c452e1a6b057073e81d2

141597-141725 --> testing pass

Test environment and result as below:

+----------------------------------------+--------------------+
|              Environment               | dpdk_meson_compile |
+========================================+====================+
| Ubuntu 20.04 ARM SVE                   | PASS               |
+----------------------------------------+--------------------+
| Debian 12 with MUSDK                   | PASS               |
+----------------------------------------+--------------------+
| RHEL9 (ARM)                            | PASS               |
+----------------------------------------+--------------------+
| Fedora 40 (ARM)                        | PASS               |
+----------------------------------------+--------------------+
| Ubuntu 20.04 (ARM)                     | PASS               |
+----------------------------------------+--------------------+
| Fedora 39 (ARM)                        | PASS               |
+----------------------------------------+--------------------+
| Ubuntu 22.04 (ARM)                     | PASS               |
+----------------------------------------+--------------------+
| Ubuntu 20.04 ARM GCC Cross Compile     | PASS               |
+----------------------------------------+--------------------+
| Debian 11 (Buster) (ARM)               | PASS               |
+----------------------------------------+--------------------+
| CentOS Stream 9 (ARM)                  | PASS               |
+----------------------------------------+--------------------+
| Debian 12 (arm)                        | PASS               |
+----------------------------------------+--------------------+
| Ubuntu 20.04 aarch32 GCC Cross Compile | PASS               |
+----------------------------------------+--------------------+
| Fedora 37 (ARM)                        | PASS               |
+----------------------------------------+--------------------+
| Ubuntu 20.04 ARM Clang Cross Compile   | PASS               |
+----------------------------------------+--------------------+
| Ubuntu 24.04 (ARM)                     | PASS               |
+----------------------------------------+--------------------+
| Fedora 38 (ARM)                        | PASS               |
+----------------------------------------+--------------------+
| Fedora 40 (ARM Clang)                  | PASS               |
+----------------------------------------+--------------------+
| Fedora 39 (ARM Clang)                  | PASS               |
+----------------------------------------+--------------------+


Ubuntu 20.04 ARM SVE
	Kernel: 5.4.0-167-generic
	Compiler: gcc (Ubuntu 10.5.0-1ubuntu1~20.04) 10.5.0

Debian 12 with MUSDK
	Kernel: Container Host Kernel
	Compiler: gcc 12.2.0

RHEL9 (ARM)
	Kernel: Depends on container host
	Compiler: gcc 11.4.1

Fedora 40 (ARM)
	Kernel: Depends on container host
	Compiler: gcc 14.1.1

Ubuntu 20.04 (ARM)
	Kernel: Container Host Kernel
	Compiler: gcc 9.4.0

Fedora 39 (ARM)
	Kernel: Depends on container host
	Compiler: gcc 13.2.1

Ubuntu 22.04 (ARM)
	Kernel: Container Host Kernel
	Compiler: gcc 11.4.0

Ubuntu 20.04 ARM GCC Cross Compile
	Kernel: 5.4.0-167-generic
	Compiler: aarch64-linux-gnu-gcc (Ubuntu 9.4.0-1ubuntu1~20.04.2) 9.4.0

Debian 11 (Buster) (ARM)
	Kernel: Container Host Kernel
	Compiler: gcc 10.2.1

CentOS Stream 9 (ARM)
	Kernel: Container Host Kernel
	Compiler: gcc 11.4.1

Debian 12 (arm)
	Kernel: Container Host Kernel
	Compiler: gcc 12.2.0

Ubuntu 20.04 aarch32 GCC Cross Compile
	Kernel: 5.4.0-167-generic
	Compiler: gcc 9.4.0

Fedora 37 (ARM)
	Kernel: Depends on container host
	Compiler: gcc 12.3.1

Ubuntu 20.04 ARM Clang Cross Compile
	Kernel: 5.4.0-72-generic
	Compiler: clang 10.0.0-4ubuntu1

Ubuntu 24.04 (ARM)
	Kernel: 5.4.0-167-generic
	Compiler: gcc 13.2.0

Fedora 38 (ARM)
	Kernel: Depends on container host
	Compiler: gcc 13.2.1

Fedora 40 (ARM Clang)
	Kernel: Depends on container host
	Compiler: clang 18.1.6

Fedora 39 (ARM Clang)
	Kernel: Depends on container host
	Compiler: clang 17.0.6

To view detailed results, visit:
https://lab.dpdk.org/results/dashboard/patchsets/30305/

UNH-IOL DPDK Community Lab

To manage your email subscriptions, visit: 
https://lab.dpdk.org/results/dashboard/preferences/subscriptions/