From mboxrd@z Thu Jan  1 00:00:00 1970
Return-Path: <test-report-bounces@dpdk.org>
Received: from mails.dpdk.org (mails.dpdk.org [217.70.189.124])
	by inbox.dpdk.org (Postfix) with ESMTP id D841645501
	for <public@inbox.dpdk.org>; Wed, 26 Jun 2024 16:25:39 +0200 (CEST)
Received: from mails.dpdk.org (localhost [127.0.0.1])
	by mails.dpdk.org (Postfix) with ESMTP id 4F1DB40395;
	Wed, 26 Jun 2024 16:25:39 +0200 (CEST)
Received: from mail-il1-f228.google.com (mail-il1-f228.google.com
 [209.85.166.228])
 by mails.dpdk.org (Postfix) with ESMTP id 446BD40151
 for <test-report@dpdk.org>; Wed, 26 Jun 2024 16:24:29 +0200 (CEST)
Received: by mail-il1-f228.google.com with SMTP id
 e9e14a558f8ab-375e96f5fddso25562185ab.1
 for <test-report@dpdk.org>; Wed, 26 Jun 2024 07:24:29 -0700 (PDT)
DKIM-Signature: v=1; a=rsa-sha256; c=relaxed/relaxed;
 d=iol.unh.edu; s=unh-iol; t=1719411868; x=1720016668; darn=dpdk.org;
 h=references:in-reply-to:cc:to:from:subject:message-id:date:from:to
 :cc:subject:date:message-id:reply-to;
 bh=SaN4AygZ5f6MhZ29CkQahdd5pDqlFso3IR8ffRq7RFI=;
 b=iz8gJagpRpt5oCnhOWxSGe2OWNEn76/dVBV4d/ACqm/Ebcr7M6XLfWRHZbnqGdB4lD
 ZLPxQvZMZP2fd1yC7zLkeF0MmF1SIKNyenXAEAAvEM0Q2fa8pv4Tc2KKowTPC499jz3g
 w7Z+W7KVcM2YrS9HMHARasIykaKs7IG8vg4j8=
X-Google-DKIM-Signature: v=1; a=rsa-sha256; c=relaxed/relaxed;
 d=1e100.net; s=20230601; t=1719411868; x=1720016668;
 h=references:in-reply-to:cc:to:from:subject:message-id:date
 :x-gm-message-state:from:to:cc:subject:date:message-id:reply-to;
 bh=SaN4AygZ5f6MhZ29CkQahdd5pDqlFso3IR8ffRq7RFI=;
 b=gHlWrSJUIb3cQydb3u9zeG8/vZOLW49hY4ptXUTINOb4P6pG2cB+nqDaRenb88hfCF
 fyPb79T2MXPUunOq0/BNvUuiZd0qVzNDoCEU6g2qLrsUNStxn9E2dknOiITGQKJcmLaU
 cVyd75F1/JjEtOK5YeFhv95oBU3ijJbgBJs33ydj/Wl+Ei/SeYabLVa5+szzHurbYEHb
 lZ4FQ43sjWd2ZzB1EjaxKCGbzkXp1nAjPsA8udbEiKvXNe0pt9pV4PioOKQZy1jErD3G
 3Y+jkcUDv/nvq7+kznoYHviVwc4UIWwLQCks1VazpctX2/jrmKBbDvvofsbLDyMyzc3l
 6l7w==
X-Gm-Message-State: AOJu0YwYLtww+hdLSBXdTJRoWpgU7NolRUnhEmz7OWF3fmkNJ3NgPod1
 R0LYhDSKISlywTRZttQLM8ujd1FDdUwayuivj+S80Uh4mlUo748Bpw9D9l0JNWH+zX7tnZBDTwB
 wgIY/N9iKke4AaUVrUz6ejpdM9ZRuNeIMMpU+2nP7fg2PD2fVP5lM8KXU
X-Google-Smtp-Source: AGHT+IFVGTNDQHx9GRnBLtzwdoiWotwSKj0RPyKcNmNNh6Zn5Kfosz7/YqDzS9QPGzbxKd3vtdO4d9Vu6UV5
X-Received: by 2002:a05:6e02:1a85:b0:374:9c67:1df6 with SMTP id
 e9e14a558f8ab-3763e0608a9mr145845725ab.22.1719411868699; 
 Wed, 26 Jun 2024 07:24:28 -0700 (PDT)
Received: from postal.iol.unh.edu (postal.iol.unh.edu.
 [2606:4100:3880:1234::84]) by smtp-relay.gmail.com with ESMTPS id
 e9e14a558f8ab-3762f3343cesm5527255ab.37.2024.06.26.07.24.28
 (version=TLS1_2 cipher=ECDHE-ECDSA-AES128-GCM-SHA256 bits=128/128);
 Wed, 26 Jun 2024 07:24:28 -0700 (PDT)
X-Relaying-Domain: iol.unh.edu
Date: Wed, 26 Jun 2024 07:24:28 -0700 (PDT)
Message-ID: <667c249c.920a0220.64e77.7c9cSMTPIN_ADDED_MISSING@mx.google.com>
Received: from [172.21.0.6] (unknown [172.18.0.240])
 by postal.iol.unh.edu (Postfix) with ESMTP id 501CC605C373;
 Wed, 26 Jun 2024 10:24:28 -0400 (EDT)
Subject: |SUCCESS| pw141760 [PATCH] [v2] examples/fips_validation: fix coveri
From: dpdklab@iol.unh.edu
To: Test Report <test-report@dpdk.org>
Cc: dpdk-test-reports@iol.unh.edu
In-Reply-To: <20240626102626.1934-1-gmuthukrishn@marvell.com>
References: <20240626102626.1934-1-gmuthukrishn@marvell.com>
Content-Type: text/plain
X-BeenThere: test-report@dpdk.org
X-Mailman-Version: 2.1.29
Precedence: list
List-Id: automatic DPDK test reports <test-report.dpdk.org>
List-Unsubscribe: <https://mails.dpdk.org/options/test-report>,
 <mailto:test-report-request@dpdk.org?subject=unsubscribe>
List-Archive: <http://mails.dpdk.org/archives/test-report/>
List-Post: <mailto:test-report@dpdk.org>
List-Help: <mailto:test-report-request@dpdk.org?subject=help>
List-Subscribe: <https://mails.dpdk.org/listinfo/test-report>,
 <mailto:test-report-request@dpdk.org?subject=subscribe>
Errors-To: test-report-bounces@dpdk.org

Test-Label: iol-abi-testing
Test-Status: SUCCESS
http://dpdk.org/patch/141760

_Testing PASS_

Submitter: Gowrishankar Muthukrishnan <gmuthukrishn@marvell.com>
Date: Wednesday, June 26 2024 10:26:23 
DPDK git baseline: Repo:dpdk
  Branch: master
  CommitID:9ab7baa5c14b1ba928c09bda4734827d6d367d6b

141760 --> testing pass

Test environment and result as below:

+------------------+----------+
|   Environment    | abi_test |
+==================+==========+
| CentOS Stream 8  | PASS     |
+------------------+----------+
| CentOS Stream 9  | PASS     |
+------------------+----------+
| Fedora 37        | PASS     |
+------------------+----------+
| Debian Bullseye  | PASS     |
+------------------+----------+
| Debian 12        | PASS     |
+------------------+----------+
| Fedora 38        | PASS     |
+------------------+----------+
| Fedora 39        | PASS     |
+------------------+----------+
| Fedora 40        | PASS     |
+------------------+----------+
| RHEL8            | PASS     |
+------------------+----------+
| openSUSE Leap 15 | PASS     |
+------------------+----------+
| RHEL9            | PASS     |
+------------------+----------+
| Ubuntu 24.04     | PASS     |
+------------------+----------+
| Ubuntu 22.04     | PASS     |
+------------------+----------+


CentOS Stream 8
	Kernel: 5.4.0-167-generic
	Compiler: gcc 8.5.0 20210514

CentOS Stream 9
	Kernel: 5.4.0-167-generic
	Compiler: gcc 11.4.1 20230605

Fedora 37
	Kernel: Depends on container host system
	Compiler: gcc 12.3.1

Debian Bullseye
	Kernel: 5.4.0-167-generic
	Compiler: gcc 10.2.1-6

Debian 12
	Kernel: Container Host Kernel
	Compiler: gcc 12.2.0

Fedora 38
	Kernel: Depends on container host
	Compiler: clang 16.0.6

Fedora 39
	Kernel: Depends on container host
	Compiler: clang 17.0.6

Fedora 40
	Kernel: Depends on container host
	Compiler: clang 18.1.6

RHEL8
	Kernel: 5.4.0-167-generic
	Compiler: gcc 8.5.0 20210514 (Red Hat 8.5.0-20)

openSUSE Leap 15
	Kernel: 5.4.0-167-generic
	Compiler: gcc 7.5.0

RHEL9
	Kernel: Depends on container host
	Compiler: gcc 11.4.1

Ubuntu 24.04
	Kernel: 5.4.0-167-generic
	Compiler: gcc 13.2.0

Ubuntu 22.04
	Kernel: 5.4.0-167-generic
	Compiler: gcc 11.4.0

To view detailed results, visit:
https://lab.dpdk.org/results/dashboard/patchsets/30319/

UNH-IOL DPDK Community Lab

To manage your email subscriptions, visit: 
https://lab.dpdk.org/results/dashboard/preferences/subscriptions/