From mboxrd@z Thu Jan  1 00:00:00 1970
Return-Path: <test-report-bounces@dpdk.org>
Received: from mails.dpdk.org (mails.dpdk.org [217.70.189.124])
	by inbox.dpdk.org (Postfix) with ESMTP id C4FB245501
	for <public@inbox.dpdk.org>; Wed, 26 Jun 2024 16:32:59 +0200 (CEST)
Received: from mails.dpdk.org (localhost [127.0.0.1])
	by mails.dpdk.org (Postfix) with ESMTP id 4EE1E402CE;
	Wed, 26 Jun 2024 16:32:59 +0200 (CEST)
Received: from mail-pg1-f225.google.com (mail-pg1-f225.google.com
 [209.85.215.225])
 by mails.dpdk.org (Postfix) with ESMTP id 9C6C240151
 for <test-report@dpdk.org>; Wed, 26 Jun 2024 16:32:11 +0200 (CEST)
Received: by mail-pg1-f225.google.com with SMTP id
 41be03b00d2f7-6bce380eb9bso4099577a12.0
 for <test-report@dpdk.org>; Wed, 26 Jun 2024 07:32:11 -0700 (PDT)
DKIM-Signature: v=1; a=rsa-sha256; c=relaxed/relaxed;
 d=iol.unh.edu; s=unh-iol; t=1719412331; x=1720017131; darn=dpdk.org;
 h=references:in-reply-to:cc:to:from:subject:message-id:date:from:to
 :cc:subject:date:message-id:reply-to;
 bh=SaN4AygZ5f6MhZ29CkQahdd5pDqlFso3IR8ffRq7RFI=;
 b=NUNLFp/oh9lC+O9iPy2o/DbwpsxSVPHWSZrh3/B5Db5yANC+7bAiDuQANbXN0LeXgg
 WV9zf5kfCkEppSyVL4MaFLbAySTTDtxFI5vPszbkmN4xuehcLeHzS5pRLfY24sJJTBQU
 uDb9lpVjJq/fJw7excooA5pMtvbfrnFcD/g84=
X-Google-DKIM-Signature: v=1; a=rsa-sha256; c=relaxed/relaxed;
 d=1e100.net; s=20230601; t=1719412331; x=1720017131;
 h=references:in-reply-to:cc:to:from:subject:message-id:date
 :x-gm-message-state:from:to:cc:subject:date:message-id:reply-to;
 bh=SaN4AygZ5f6MhZ29CkQahdd5pDqlFso3IR8ffRq7RFI=;
 b=u1bM4Ew68um3P8As5/Q+o3OKThe5KiyOjsblCSPK8yTtIfcYEd/LEdz5OnKtk5fBe6
 bPXXUjVpSHtbjJdbJm52/jqWFuvzhSFuPCE9mjCg1qEgqWlORGrff3R7hR5RW+YdDxKJ
 SIx16GqUTpe4RSwPWYYkHHquzwxj/+QRZgNrWJUHMO2+cDA4Sthm9lGr1dk5k7dBt12S
 Tl0nyMp4yTKYKSFjCkdTn+LFaFFzB8BZXvtbrPvA44TsfweXyBc5+mtN/KMTkeo8RjAF
 kT5XDzs/lG3nKKUpC+jKURp4dj3sO1d6Giram/kV71WLrO8v2qozz+vBG7oLEhT/m6F6
 gx7A==
X-Gm-Message-State: AOJu0Yx/qF5iwgE41mpXCsRvfLBeYBuNBnXgj1FBBZmaAX4l0t3lOiqX
 RMv8YmBL+MQkBhKXZsi8XSSoVinaV1lIYWIGh8fEUmDtuAx057D6RBJjcYoEajeS5pUJyFRH1p+
 qJzRxTUqU828WeF6dQZAlz8P8aK+De488j3egJuvU
X-Google-Smtp-Source: AGHT+IF+8klKsK605S3g9nJJUeV7nvmh5id3UgSloGZEANZh3HKN4bOXJMZcyn0w+mEkhA2442zaxfV7rPKC
X-Received: by 2002:a17:90a:17a5:b0:2c2:41cf:b0f0 with SMTP id
 98e67ed59e1d1-2c858297582mr9815036a91.43.1719412330804; 
 Wed, 26 Jun 2024 07:32:10 -0700 (PDT)
Received: from postal.iol.unh.edu (postal.iol.unh.edu. [132.177.123.84])
 by smtp-relay.gmail.com with ESMTPS id
 98e67ed59e1d1-2c8d807ccacsm92947a91.16.2024.06.26.07.32.10
 (version=TLS1_2 cipher=ECDHE-ECDSA-AES128-GCM-SHA256 bits=128/128);
 Wed, 26 Jun 2024 07:32:10 -0700 (PDT)
X-Relaying-Domain: iol.unh.edu
Date: Wed, 26 Jun 2024 07:32:10 -0700 (PDT)
Message-ID: <667c266a.170a0220.cc6a1.605fSMTPIN_ADDED_MISSING@mx.google.com>
Received: from [172.21.0.6] (unknown [172.18.0.240])
 by postal.iol.unh.edu (Postfix) with ESMTP id 2DA10605C373;
 Wed, 26 Jun 2024 10:32:10 -0400 (EDT)
Subject: |SUCCESS| pw141760 [PATCH] [v2] examples/fips_validation: fix coveri
From: dpdklab@iol.unh.edu
To: Test Report <test-report@dpdk.org>
Cc: dpdk-test-reports@iol.unh.edu
In-Reply-To: <20240626102626.1934-1-gmuthukrishn@marvell.com>
References: <20240626102626.1934-1-gmuthukrishn@marvell.com>
Content-Type: text/plain
X-BeenThere: test-report@dpdk.org
X-Mailman-Version: 2.1.29
Precedence: list
List-Id: automatic DPDK test reports <test-report.dpdk.org>
List-Unsubscribe: <https://mails.dpdk.org/options/test-report>,
 <mailto:test-report-request@dpdk.org?subject=unsubscribe>
List-Archive: <http://mails.dpdk.org/archives/test-report/>
List-Post: <mailto:test-report@dpdk.org>
List-Help: <mailto:test-report-request@dpdk.org?subject=help>
List-Subscribe: <https://mails.dpdk.org/listinfo/test-report>,
 <mailto:test-report-request@dpdk.org?subject=subscribe>
Errors-To: test-report-bounces@dpdk.org

Test-Label: iol-abi-testing
Test-Status: SUCCESS
http://dpdk.org/patch/141760

_Testing PASS_

Submitter: Gowrishankar Muthukrishnan <gmuthukrishn@marvell.com>
Date: Wednesday, June 26 2024 10:26:23 
DPDK git baseline: Repo:dpdk
  Branch: master
  CommitID:9ab7baa5c14b1ba928c09bda4734827d6d367d6b

141760 --> testing pass

Test environment and result as below:

+------------------+----------+
|   Environment    | abi_test |
+==================+==========+
| CentOS Stream 8  | PASS     |
+------------------+----------+
| CentOS Stream 9  | PASS     |
+------------------+----------+
| Fedora 37        | PASS     |
+------------------+----------+
| Debian Bullseye  | PASS     |
+------------------+----------+
| Debian 12        | PASS     |
+------------------+----------+
| Fedora 38        | PASS     |
+------------------+----------+
| Fedora 39        | PASS     |
+------------------+----------+
| Fedora 40        | PASS     |
+------------------+----------+
| RHEL8            | PASS     |
+------------------+----------+
| openSUSE Leap 15 | PASS     |
+------------------+----------+
| RHEL9            | PASS     |
+------------------+----------+
| Ubuntu 24.04     | PASS     |
+------------------+----------+
| Ubuntu 22.04     | PASS     |
+------------------+----------+


CentOS Stream 8
	Kernel: 5.4.0-167-generic
	Compiler: gcc 8.5.0 20210514

CentOS Stream 9
	Kernel: 5.4.0-167-generic
	Compiler: gcc 11.4.1 20230605

Fedora 37
	Kernel: Depends on container host system
	Compiler: gcc 12.3.1

Debian Bullseye
	Kernel: 5.4.0-167-generic
	Compiler: gcc 10.2.1-6

Debian 12
	Kernel: Container Host Kernel
	Compiler: gcc 12.2.0

Fedora 38
	Kernel: Depends on container host
	Compiler: clang 16.0.6

Fedora 39
	Kernel: Depends on container host
	Compiler: clang 17.0.6

Fedora 40
	Kernel: Depends on container host
	Compiler: clang 18.1.6

RHEL8
	Kernel: 5.4.0-167-generic
	Compiler: gcc 8.5.0 20210514 (Red Hat 8.5.0-20)

openSUSE Leap 15
	Kernel: 5.4.0-167-generic
	Compiler: gcc 7.5.0

RHEL9
	Kernel: Depends on container host
	Compiler: gcc 11.4.1

Ubuntu 24.04
	Kernel: 5.4.0-167-generic
	Compiler: gcc 13.2.0

Ubuntu 22.04
	Kernel: 5.4.0-167-generic
	Compiler: gcc 11.4.0

To view detailed results, visit:
https://lab.dpdk.org/results/dashboard/patchsets/30319/

UNH-IOL DPDK Community Lab

To manage your email subscriptions, visit: 
https://lab.dpdk.org/results/dashboard/preferences/subscriptions/