From mboxrd@z Thu Jan  1 00:00:00 1970
Return-Path: <test-report-bounces@dpdk.org>
Received: from mails.dpdk.org (mails.dpdk.org [217.70.189.124])
	by inbox.dpdk.org (Postfix) with ESMTP id 0737441F45
	for <public@inbox.dpdk.org>; Wed, 26 Jun 2024 19:14:06 +0200 (CEST)
Received: from mails.dpdk.org (localhost [127.0.0.1])
	by mails.dpdk.org (Postfix) with ESMTP id 015D6402F2;
	Wed, 26 Jun 2024 19:14:06 +0200 (CEST)
Received: from mail-il1-f228.google.com (mail-il1-f228.google.com
 [209.85.166.228])
 by mails.dpdk.org (Postfix) with ESMTP id E69B7402CC
 for <test-report@dpdk.org>; Wed, 26 Jun 2024 19:14:04 +0200 (CEST)
Received: by mail-il1-f228.google.com with SMTP id
 e9e14a558f8ab-3748ebe7e53so30826155ab.1
 for <test-report@dpdk.org>; Wed, 26 Jun 2024 10:14:04 -0700 (PDT)
DKIM-Signature: v=1; a=rsa-sha256; c=relaxed/relaxed;
 d=iol.unh.edu; s=unh-iol; t=1719422044; x=1720026844; darn=dpdk.org;
 h=references:in-reply-to:cc:to:from:subject:message-id:date:from:to
 :cc:subject:date:message-id:reply-to;
 bh=c5wO2XPfehLq07u4FNw8WXxyO7KliIhzwK1UawqLC00=;
 b=inqUWYKDaU2MOWeHwgwqrSDJWPZaRM2f+dTKwZasyAhfrondGCTz2xgRNvhefSbzYt
 kYFBosO5OK0hLukDRAdZ9wG5PrCMLpg4OBEriDJ8IeJSXo7OB1V40cIB5poE/e/p/U5f
 YwCQJGuVCqYAtIRz8YUUQ38v/P0A23XdeowK0=
X-Google-DKIM-Signature: v=1; a=rsa-sha256; c=relaxed/relaxed;
 d=1e100.net; s=20230601; t=1719422044; x=1720026844;
 h=references:in-reply-to:cc:to:from:subject:message-id:date
 :x-gm-message-state:from:to:cc:subject:date:message-id:reply-to;
 bh=c5wO2XPfehLq07u4FNw8WXxyO7KliIhzwK1UawqLC00=;
 b=NJe6cvJPBPsWJGuDB7O2sP5FewpK6IMTi42B7CbemTZOH1qDn64FT4XwteG9KI0pYl
 6tQE421Fek0z1lVWeMkRpTXpHri58jea4rdnHa3pabXi7yQAEgrBfxKOGnGkWTlRVJus
 X2gNTQtDADyQtsicB9+PjI7epUQgA1EwbpycTan9JYFEdrsyYYobQScTI9zVvxLamB54
 8d06eZQUez51roURg/c9soD5Pk4t5kLhds4+t8u+yByd6Vsm9szxDPj0pTyGIMfjkwP6
 BS5bEeHw6Zb2E1iTLP1NI/nLw6kb8EkzObXgugz0txwC3q+KgMz5BqAYfZq8bW24WOFn
 JXcQ==
X-Gm-Message-State: AOJu0Ywl83IJEpuRHSY3G9I73NznKW12KVsBaojcUtDOQ1+jI5Jn+xb+
 P4WntmIupVakUVslCoS2PGrRXDJMOWl0T3v79VmLP5/Zdr+E8mUoGW3HQLFLsF+KHkK+HPHZmaq
 5J+BGaiZ+2Y0y2zO61z9LLBY+HjxF3Y0TFgjYEBMj
X-Google-Smtp-Source: AGHT+IFrX4ONVkdC02SdBzEk+mI7thXYo/FpfdDjq1P/bAHs/uRv4pIJziGoh+rWltoAaDX/8/KKF4GRiMen
X-Received: by 2002:a05:6e02:2147:b0:375:a202:2535 with SMTP id
 e9e14a558f8ab-3763f708cb4mr138461405ab.30.1719422044348; 
 Wed, 26 Jun 2024 10:14:04 -0700 (PDT)
Received: from postal.iol.unh.edu (postal.iol.unh.edu. [132.177.123.84])
 by smtp-relay.gmail.com with ESMTPS id
 e9e14a558f8ab-37715b31ee4sm1292245ab.7.2024.06.26.10.14.04
 (version=TLS1_2 cipher=ECDHE-ECDSA-AES128-GCM-SHA256 bits=128/128);
 Wed, 26 Jun 2024 10:14:04 -0700 (PDT)
X-Relaying-Domain: iol.unh.edu
Date: Wed, 26 Jun 2024 10:14:04 -0700 (PDT)
Message-ID: <667c4c5c.050a0220.d80ff.86b7SMTPIN_ADDED_MISSING@mx.google.com>
Received: from [172.21.0.6] (unknown [172.18.0.240])
 by postal.iol.unh.edu (Postfix) with ESMTP id D1F1C605C380;
 Wed, 26 Jun 2024 13:14:03 -0400 (EDT)
Subject: |SUCCESS| pw141756-141758 [PATCH] [v3,3/3] test/crypto: add modex te
From: dpdklab@iol.unh.edu
To: Test Report <test-report@dpdk.org>
Cc: dpdk-test-reports@iol.unh.edu
In-Reply-To: <20240626100345.1758-4-gmuthukrishn@marvell.com>
References: <20240626100345.1758-4-gmuthukrishn@marvell.com>
Content-Type: text/plain
X-BeenThere: test-report@dpdk.org
X-Mailman-Version: 2.1.29
Precedence: list
List-Id: automatic DPDK test reports <test-report.dpdk.org>
List-Unsubscribe: <https://mails.dpdk.org/options/test-report>,
 <mailto:test-report-request@dpdk.org?subject=unsubscribe>
List-Archive: <http://mails.dpdk.org/archives/test-report/>
List-Post: <mailto:test-report@dpdk.org>
List-Help: <mailto:test-report-request@dpdk.org?subject=help>
List-Subscribe: <https://mails.dpdk.org/listinfo/test-report>,
 <mailto:test-report-request@dpdk.org?subject=subscribe>
Errors-To: test-report-bounces@dpdk.org

Test-Label: iol-unit-amd64-testing
Test-Status: SUCCESS
http://dpdk.org/patch/141758

_Testing PASS_

Submitter: Gowrishankar Muthukrishnan <gmuthukrishn@marvell.com>
Date: Wednesday, June 26 2024 10:03:42 
DPDK git baseline: Repo:dpdk
  Branch: master
  CommitID:6ca8a873f715e19550fc7dd43ce94af54158a725

141756-141758 --> testing pass

Test environment and result as below:

+-------------------+----------------+
|    Environment    | dpdk_unit_test |
+===================+================+
| CentOS Stream 8   | PASS           |
+-------------------+----------------+
| Debian Bullseye   | PASS           |
+-------------------+----------------+
| CentOS Stream 9   | PASS           |
+-------------------+----------------+
| Debian 12         | PASS           |
+-------------------+----------------+
| Fedora 38         | PASS           |
+-------------------+----------------+
| Fedora 37         | PASS           |
+-------------------+----------------+
| Fedora 39         | PASS           |
+-------------------+----------------+
| Fedora 40         | PASS           |
+-------------------+----------------+
| Fedora 39 (Clang) | PASS           |
+-------------------+----------------+
| openSUSE Leap 15  | PASS           |
+-------------------+----------------+
| RHEL8             | PASS           |
+-------------------+----------------+
| Fedora 40 (Clang) | PASS           |
+-------------------+----------------+
| Fedora 38 (Clang) | PASS           |
+-------------------+----------------+
| Ubuntu 20.04      | PASS           |
+-------------------+----------------+
| Ubuntu 22.04      | PASS           |
+-------------------+----------------+
| RHEL9             | PASS           |
+-------------------+----------------+
| Ubuntu 24.04      | PASS           |
+-------------------+----------------+


CentOS Stream 8
	Kernel: 5.4.0-167-generic
	Compiler: gcc 8.5.0 20210514

Debian Bullseye
	Kernel: 5.4.0-167-generic
	Compiler: gcc 10.2.1-6

CentOS Stream 9
	Kernel: 5.4.0-167-generic
	Compiler: gcc 11.4.1 20230605

Debian 12
	Kernel: Container Host Kernel
	Compiler: gcc 12.2.0

Fedora 38
	Kernel: Depends on container host
	Compiler: gcc 13.2.1

Fedora 37
	Kernel: Depends on container host system
	Compiler: gcc 12.3.1

Fedora 39
	Kernel: Depends on container host
	Compiler: gcc 13.2.1

Fedora 40
	Kernel: Depends on container host
	Compiler: gcc 14.1.1

Fedora 39 (Clang)
	Kernel: Depends on container host
	Compiler: clang 17.0.6

openSUSE Leap 15
	Kernel: 5.4.0-167-generic
	Compiler: gcc 7.5.0

RHEL8
	Kernel: 5.4.0-167-generic
	Compiler: gcc 8.5.0 20210514 (Red Hat 8.5.0-20)

Fedora 40 (Clang)
	Kernel: Depends on container host
	Compiler: clang 18.1.6

Fedora 38 (Clang)
	Kernel: Depends on container host
	Compiler: clang 16.0.6

Ubuntu 20.04
	Kernel: 5.4.0-167-generic
	Compiler: gcc 9.4.0-1ubuntu1~20.04.1

Ubuntu 22.04
	Kernel: 5.4.0-167-generic
	Compiler: gcc 11.4.0

RHEL9
	Kernel: Depends on container host
	Compiler: gcc 11.4.1

Ubuntu 24.04
	Kernel: 5.4.0-167-generic
	Compiler: gcc 13.2.0

To view detailed results, visit:
https://lab.dpdk.org/results/dashboard/patchsets/30317/

UNH-IOL DPDK Community Lab

To manage your email subscriptions, visit: 
https://lab.dpdk.org/results/dashboard/preferences/subscriptions/