From mboxrd@z Thu Jan  1 00:00:00 1970
Return-Path: <test-report-bounces@dpdk.org>
Received: from mails.dpdk.org (mails.dpdk.org [217.70.189.124])
	by inbox.dpdk.org (Postfix) with ESMTP id 2E764454B9
	for <public@inbox.dpdk.org>; Wed, 26 Jun 2024 19:41:38 +0200 (CEST)
Received: from mails.dpdk.org (localhost [127.0.0.1])
	by mails.dpdk.org (Postfix) with ESMTP id 2A8674064F;
	Wed, 26 Jun 2024 19:41:38 +0200 (CEST)
Received: from mail-io1-f100.google.com (mail-io1-f100.google.com
 [209.85.166.100])
 by mails.dpdk.org (Postfix) with ESMTP id 97DF240611
 for <test-report@dpdk.org>; Wed, 26 Jun 2024 19:41:04 +0200 (CEST)
Received: by mail-io1-f100.google.com with SMTP id
 ca18e2360f4ac-7f3c5af0a04so103619039f.0
 for <test-report@dpdk.org>; Wed, 26 Jun 2024 10:41:04 -0700 (PDT)
DKIM-Signature: v=1; a=rsa-sha256; c=relaxed/relaxed;
 d=iol.unh.edu; s=unh-iol; t=1719423664; x=1720028464; darn=dpdk.org;
 h=references:in-reply-to:cc:to:from:subject:message-id:date:from:to
 :cc:subject:date:message-id:reply-to;
 bh=lUbTBDIhFiXzgBFgZjc7jUBoJ8dWmCUU2U9s45qD6hc=;
 b=V1fqORbeCRBnV7JJXtciWRCmoieVr72y0sxtsa9l4PUNyM8ov/jFeuDRW1MLH8D/fi
 hQvs0TQ/7wj1zj/0W+c8CVHCvl3Hx2ymnuINr0v51yl0wuP3FlLVBYoIpLJBrR9GT3U6
 g8dSeusIk7LfLpVbtvDgaPMtvjdCTnvYUGCaI=
X-Google-DKIM-Signature: v=1; a=rsa-sha256; c=relaxed/relaxed;
 d=1e100.net; s=20230601; t=1719423664; x=1720028464;
 h=references:in-reply-to:cc:to:from:subject:message-id:date
 :x-gm-message-state:from:to:cc:subject:date:message-id:reply-to;
 bh=lUbTBDIhFiXzgBFgZjc7jUBoJ8dWmCUU2U9s45qD6hc=;
 b=AveMre9jaJG0jUiyYIqP+BCOh1RLX8Lz2ec61/RKfSIdQ1g/eQGqvEG2R87OwxeSs0
 6ydbWCPLDLl2E2CZ50oFKzqv3eqesJYTLcnBr2lUS6B0xFwIhOndTFKjgiqIUJ/db4/f
 W7F8Wl1zg3MR28yCHllFOQnUFJOzE4SA7tV1gSmX9MNI3gOfQIhOQSz4Md1X9F430Pzd
 8AGiRapREULPET39Du2+7K8RSVppsoPK44vNv2VrbRfLd2iUMyptpo1+0iyRY4s6G+qp
 YeCQyWAydQ/tdL7ZMxmDJcyVTMshZlMA4l/uxro0h58hT8gAFpdzNKy3VfFTebfGtiN9
 gCHg==
X-Gm-Message-State: AOJu0YxAVaPhrlVWGrjNqEC1ucAZzOT/f6pHp7PqaEBeN9hNRncFlM82
 gQSSsHvLTspXpBAqntPxeh0giF9QkrIQFA8HuyCRhay58xR+UQd03FEWXJ7F5RDCqngYqedvvlV
 q68PChUwEAmbJ6CtHCn/ZihtuNSdGroNy3phzglKzfZ0T0FJkubq38kuf
X-Google-Smtp-Source: AGHT+IFxtOkljmRT9KgO71wfRKDt1DsBSsRWH9a/Brl8KbrtjioVm+ujZyWzWcSCxo4Hnotfb1zEaMfqK8kv
X-Received: by 2002:a05:6602:1504:b0:7ec:cf:1d3 with SMTP id
 ca18e2360f4ac-7f3a75fa927mr1397730639f.19.1719423664040; 
 Wed, 26 Jun 2024 10:41:04 -0700 (PDT)
Received: from postal.iol.unh.edu (postal.iol.unh.edu.
 [2606:4100:3880:1234::84]) by smtp-relay.gmail.com with ESMTPS id
 ca18e2360f4ac-7f39202e432sm30626339f.22.2024.06.26.10.41.03
 (version=TLS1_2 cipher=ECDHE-ECDSA-AES128-GCM-SHA256 bits=128/128);
 Wed, 26 Jun 2024 10:41:04 -0700 (PDT)
X-Relaying-Domain: iol.unh.edu
Date: Wed, 26 Jun 2024 10:41:04 -0700 (PDT)
Message-ID: <667c52b0.050a0220.ea25f.634dSMTPIN_ADDED_MISSING@mx.google.com>
Received: from [172.21.0.6] (unknown [172.18.0.240])
 by postal.iol.unh.edu (Postfix) with ESMTP id 93817605C380;
 Wed, 26 Jun 2024 13:41:03 -0400 (EDT)
Subject: |SUCCESS| pw141760 [PATCH] [v2] examples/fips_validation: fix coveri
From: dpdklab@iol.unh.edu
To: Test Report <test-report@dpdk.org>
Cc: dpdk-test-reports@iol.unh.edu
In-Reply-To: <20240626102626.1934-1-gmuthukrishn@marvell.com>
References: <20240626102626.1934-1-gmuthukrishn@marvell.com>
Content-Type: text/plain
X-BeenThere: test-report@dpdk.org
X-Mailman-Version: 2.1.29
Precedence: list
List-Id: automatic DPDK test reports <test-report.dpdk.org>
List-Unsubscribe: <https://mails.dpdk.org/options/test-report>,
 <mailto:test-report-request@dpdk.org?subject=unsubscribe>
List-Archive: <http://mails.dpdk.org/archives/test-report/>
List-Post: <mailto:test-report@dpdk.org>
List-Help: <mailto:test-report-request@dpdk.org?subject=help>
List-Subscribe: <https://mails.dpdk.org/listinfo/test-report>,
 <mailto:test-report-request@dpdk.org?subject=subscribe>
Errors-To: test-report-bounces@dpdk.org

Test-Label: iol-compile-arm64-testing
Test-Status: SUCCESS
http://dpdk.org/patch/141760

_Testing PASS_

Submitter: Gowrishankar Muthukrishnan <gmuthukrishn@marvell.com>
Date: Wednesday, June 26 2024 10:26:23 
DPDK git baseline: Repo:dpdk
  Branch: master
  CommitID:9ab7baa5c14b1ba928c09bda4734827d6d367d6b

141760 --> testing pass

Test environment and result as below:

+----------------------------------------+--------------------+
|              Environment               | dpdk_meson_compile |
+========================================+====================+
| Ubuntu 20.04 ARM SVE                   | PASS               |
+----------------------------------------+--------------------+
| Ubuntu 20.04 ARM GCC Cross Compile     | PASS               |
+----------------------------------------+--------------------+
| Debian 12 with MUSDK                   | PASS               |
+----------------------------------------+--------------------+
| RHEL9 (ARM)                            | PASS               |
+----------------------------------------+--------------------+
| Fedora 37 (ARM)                        | PASS               |
+----------------------------------------+--------------------+
| Fedora 38 (ARM)                        | PASS               |
+----------------------------------------+--------------------+
| Ubuntu 20.04 ARM Clang Cross Compile   | PASS               |
+----------------------------------------+--------------------+
| Fedora 40 (ARM)                        | PASS               |
+----------------------------------------+--------------------+
| Ubuntu 20.04 aarch32 GCC Cross Compile | PASS               |
+----------------------------------------+--------------------+
| Ubuntu 20.04 (ARM)                     | PASS               |
+----------------------------------------+--------------------+
| Ubuntu 22.04 (ARM)                     | PASS               |
+----------------------------------------+--------------------+
| Ubuntu 24.04 (ARM)                     | PASS               |
+----------------------------------------+--------------------+
| CentOS Stream 9 (ARM)                  | PASS               |
+----------------------------------------+--------------------+
| Debian 11 (Buster) (ARM)               | PASS               |
+----------------------------------------+--------------------+
| Debian 12 (arm)                        | PASS               |
+----------------------------------------+--------------------+
| Fedora 40 (ARM Clang)                  | PASS               |
+----------------------------------------+--------------------+


Ubuntu 20.04 ARM SVE
	Kernel: 5.4.0-167-generic
	Compiler: gcc (Ubuntu 10.5.0-1ubuntu1~20.04) 10.5.0

Ubuntu 20.04 ARM GCC Cross Compile
	Kernel: 5.4.0-167-generic
	Compiler: aarch64-linux-gnu-gcc (Ubuntu 9.4.0-1ubuntu1~20.04.2) 9.4.0

Debian 12 with MUSDK
	Kernel: Container Host Kernel
	Compiler: gcc 12.2.0

RHEL9 (ARM)
	Kernel: Depends on container host
	Compiler: gcc 11.4.1

Fedora 37 (ARM)
	Kernel: Depends on container host
	Compiler: gcc 12.3.1

Fedora 38 (ARM)
	Kernel: Depends on container host
	Compiler: gcc 13.2.1

Ubuntu 20.04 ARM Clang Cross Compile
	Kernel: 5.4.0-72-generic
	Compiler: clang 10.0.0-4ubuntu1

Fedora 40 (ARM)
	Kernel: Depends on container host
	Compiler: gcc 14.1.1

Ubuntu 20.04 aarch32 GCC Cross Compile
	Kernel: 5.4.0-167-generic
	Compiler: gcc 9.4.0

Ubuntu 20.04 (ARM)
	Kernel: Container Host Kernel
	Compiler: gcc 9.4.0

Ubuntu 22.04 (ARM)
	Kernel: Container Host Kernel
	Compiler: gcc 11.4.0

Ubuntu 24.04 (ARM)
	Kernel: 5.4.0-167-generic
	Compiler: gcc 13.2.0

CentOS Stream 9 (ARM)
	Kernel: Container Host Kernel
	Compiler: gcc 11.4.1

Debian 11 (Buster) (ARM)
	Kernel: Container Host Kernel
	Compiler: gcc 10.2.1

Debian 12 (arm)
	Kernel: Container Host Kernel
	Compiler: gcc 12.2.0

Fedora 40 (ARM Clang)
	Kernel: Depends on container host
	Compiler: clang 18.1.6

To view detailed results, visit:
https://lab.dpdk.org/results/dashboard/patchsets/30319/

UNH-IOL DPDK Community Lab

To manage your email subscriptions, visit: 
https://lab.dpdk.org/results/dashboard/preferences/subscriptions/