From mboxrd@z Thu Jan  1 00:00:00 1970
Return-Path: <test-report-bounces@dpdk.org>
Received: from mails.dpdk.org (mails.dpdk.org [217.70.189.124])
	by inbox.dpdk.org (Postfix) with ESMTP id 0B6BA454B9
	for <public@inbox.dpdk.org>; Wed, 26 Jun 2024 19:47:45 +0200 (CEST)
Received: from mails.dpdk.org (localhost [127.0.0.1])
	by mails.dpdk.org (Postfix) with ESMTP id 05E7140649;
	Wed, 26 Jun 2024 19:47:45 +0200 (CEST)
Received: from mail-io1-f99.google.com (mail-io1-f99.google.com
 [209.85.166.99]) by mails.dpdk.org (Postfix) with ESMTP id F1F5C40647
 for <test-report@dpdk.org>; Wed, 26 Jun 2024 19:47:11 +0200 (CEST)
Received: by mail-io1-f99.google.com with SMTP id
 ca18e2360f4ac-7f3d3f1294dso31882439f.2
 for <test-report@dpdk.org>; Wed, 26 Jun 2024 10:47:11 -0700 (PDT)
DKIM-Signature: v=1; a=rsa-sha256; c=relaxed/relaxed;
 d=iol.unh.edu; s=unh-iol; t=1719424031; x=1720028831; darn=dpdk.org;
 h=references:in-reply-to:cc:to:from:subject:message-id:date:from:to
 :cc:subject:date:message-id:reply-to;
 bh=fWpaOGNirVm7jN4Xt9rrkX6LGuu4mY1vDzNPbzDSSrs=;
 b=KkJbqv1fO+ffiSyCuFc00POofTVwQdRKWux7aYZuqikHn7n0QndwZG8foBwg5GpsF3
 VZCAIqKfD0GIC/+NFbKlqPFeSXgpU6O3rkGq6PUV3rNAIQpmJb3yTA8RwihY2grla5HA
 UJbFmwTf6A0EYPZtWsJRG9YQF1LuG9KXg2R6Y=
X-Google-DKIM-Signature: v=1; a=rsa-sha256; c=relaxed/relaxed;
 d=1e100.net; s=20230601; t=1719424031; x=1720028831;
 h=references:in-reply-to:cc:to:from:subject:message-id:date
 :x-gm-message-state:from:to:cc:subject:date:message-id:reply-to;
 bh=fWpaOGNirVm7jN4Xt9rrkX6LGuu4mY1vDzNPbzDSSrs=;
 b=SF+n2jlJHkDZEM8kzNGk3Kcme2CAUNsEhsDaXq5gozH3lpoqA4d34eFOr4xc2mW/kM
 0AMNHCiZxoYT2mGl9siu9B/y/6ueKnBWQEBDf/j44ok4sEf8ah4dgzWulVGqU8EEuyGO
 rJIkVWoS9z2wT/7ctkl4SMZVCgjK/gXLExcWo3waqB/k4Kpt33bI3o/Ah1xtIRP5xR4M
 ePQlHQxOCMjd39DNrUqhmMRz2Rp18ZFv6cXpPnLcB1gRxGqHiJSCJafFSVFc+RgPbhjn
 v5t0eco/zneQoE/WkTgv1sApmODeXC0ipJT5zJ0/mebK3zXUG9EiiuY4pLncryVSN0e6
 /XzQ==
X-Gm-Message-State: AOJu0YyXfniLaJHGP/FtGKQJLqZwdkUxBNyX9S8tuXK5d2XdI9HNt4vs
 e4kkYIE/XAcP6JFsddEmzOfMfOLYDvTuL2/4zcNyCbFxQswf34QZSZ24hDzeIyNYbwg/2G8Mqd9
 uY/qQjZ1YjfmLaMfgzBclmB3F8UBcdbwlyGRik+nF4F4iNG5g70Ll1O0P
X-Google-Smtp-Source: AGHT+IGeyGqiwbN6FdRk/gdFMCnweYg/NWLZ1cqCAiv50eTsI/Ic4d34Vhd83EMszvz/0FO1i7Mwl1TTnqxL
X-Received: by 2002:a05:6602:13d4:b0:7eb:85fd:e29d with SMTP id
 ca18e2360f4ac-7f3a75b301cmr1453680239f.16.1719424031370; 
 Wed, 26 Jun 2024 10:47:11 -0700 (PDT)
Received: from postal.iol.unh.edu (postal.iol.unh.edu.
 [2606:4100:3880:1234::84]) by smtp-relay.gmail.com with ESMTPS id
 ca18e2360f4ac-7f391fcd72dsm28312439f.4.2024.06.26.10.47.11
 (version=TLS1_2 cipher=ECDHE-ECDSA-AES128-GCM-SHA256 bits=128/128);
 Wed, 26 Jun 2024 10:47:11 -0700 (PDT)
X-Relaying-Domain: iol.unh.edu
Date: Wed, 26 Jun 2024 10:47:11 -0700 (PDT)
Message-ID: <667c541f.050a0220.43a88.3b6aSMTPIN_ADDED_MISSING@mx.google.com>
Received: from [172.21.0.11] (unknown [172.18.0.240])
 by postal.iol.unh.edu (Postfix) with ESMTP id DAFFF605C380;
 Wed, 26 Jun 2024 13:47:10 -0400 (EDT)
Subject: |SUCCESS| pw141756-141758 [PATCH] [v3,3/3] test/crypto: add modex te
From: dpdklab@iol.unh.edu
To: Test Report <test-report@dpdk.org>
Cc: dpdk-test-reports@iol.unh.edu
In-Reply-To: <20240626100345.1758-4-gmuthukrishn@marvell.com>
References: <20240626100345.1758-4-gmuthukrishn@marvell.com>
Content-Type: text/plain
X-BeenThere: test-report@dpdk.org
X-Mailman-Version: 2.1.29
Precedence: list
List-Id: automatic DPDK test reports <test-report.dpdk.org>
List-Unsubscribe: <https://mails.dpdk.org/options/test-report>,
 <mailto:test-report-request@dpdk.org?subject=unsubscribe>
List-Archive: <http://mails.dpdk.org/archives/test-report/>
List-Post: <mailto:test-report@dpdk.org>
List-Help: <mailto:test-report-request@dpdk.org?subject=help>
List-Subscribe: <https://mails.dpdk.org/listinfo/test-report>,
 <mailto:test-report-request@dpdk.org?subject=subscribe>
Errors-To: test-report-bounces@dpdk.org

Test-Label: iol-unit-arm64-testing
Test-Status: SUCCESS
http://dpdk.org/patch/141758

_Testing PASS_

Submitter: Gowrishankar Muthukrishnan <gmuthukrishn@marvell.com>
Date: Wednesday, June 26 2024 10:03:42 
DPDK git baseline: Repo:dpdk
  Branch: master
  CommitID:6ca8a873f715e19550fc7dd43ce94af54158a725

141756-141758 --> testing pass

Test environment and result as below:

+-----------------------------+----------------+--------------+---------------------------+------------------------------+
|         Environment         | dpdk_unit_test | lpm_autotest | cryptodev_sw_zuc_autotest | cryptodev_sw_snow3g_autotest |
+=============================+================+==============+===========================+==============================+
| 32-bit Ubuntu 20.04.4 (ARM) | PASS           | SKIPPED      | SKIPPED                   | SKIPPED                      |
+-----------------------------+----------------+--------------+---------------------------+------------------------------+
| CentOS Stream 9 (ARM)       | PASS           | SKIPPED      | SKIPPED                   | SKIPPED                      |
+-----------------------------+----------------+--------------+---------------------------+------------------------------+
| Debian 11 (Buster) (ARM)    | PASS           | SKIPPED      | SKIPPED                   | SKIPPED                      |
+-----------------------------+----------------+--------------+---------------------------+------------------------------+
| Debian 12 (arm)             | PASS           | SKIPPED      | PASS                      | PASS                         |
+-----------------------------+----------------+--------------+---------------------------+------------------------------+
| Fedora 39 (ARM)             | PASS           | SKIPPED      | SKIPPED                   | SKIPPED                      |
+-----------------------------+----------------+--------------+---------------------------+------------------------------+
| Fedora 38 (ARM Clang)       | PASS           | SKIPPED      | SKIPPED                   | SKIPPED                      |
+-----------------------------+----------------+--------------+---------------------------+------------------------------+
| Fedora 37 (ARM)             | PASS           | SKIPPED      | SKIPPED                   | SKIPPED                      |
+-----------------------------+----------------+--------------+---------------------------+------------------------------+
| Fedora 38 (ARM)             | PASS           | SKIPPED      | SKIPPED                   | SKIPPED                      |
+-----------------------------+----------------+--------------+---------------------------+------------------------------+
| Fedora 39 (ARM Clang)       | PASS           | SKIPPED      | SKIPPED                   | SKIPPED                      |
+-----------------------------+----------------+--------------+---------------------------+------------------------------+
| Ubuntu 20.04 ARM SVE        | SKIPPED        | PASS         | SKIPPED                   | SKIPPED                      |
+-----------------------------+----------------+--------------+---------------------------+------------------------------+


32-bit Ubuntu 20.04.4 (ARM)
	Kernel: 5.4.0-155-generic aarch64
	Compiler: gcc 9.4

CentOS Stream 9 (ARM)
	Kernel: Container Host Kernel
	Compiler: gcc 11.4.1

Debian 11 (Buster) (ARM)
	Kernel: Container Host Kernel
	Compiler: gcc 10.2.1

Debian 12 (arm)
	Kernel: Container Host Kernel
	Compiler: gcc 12.2.0

Fedora 39 (ARM)
	Kernel: Depends on container host
	Compiler: gcc 13.2.1

Fedora 38 (ARM Clang)
	Kernel: Depends on container host
	Compiler: clang 16.0.6

Fedora 37 (ARM)
	Kernel: Depends on container host
	Compiler: gcc 12.3.1

Fedora 38 (ARM)
	Kernel: Depends on container host
	Compiler: gcc 13.2.1

Fedora 39 (ARM Clang)
	Kernel: Depends on container host
	Compiler: clang 17.0.6

Ubuntu 20.04 ARM SVE
	Kernel: 5.4.0-167-generic
	Compiler: gcc (Ubuntu 10.5.0-1ubuntu1~20.04) 10.5.0

To view detailed results, visit:
https://lab.dpdk.org/results/dashboard/patchsets/30317/

UNH-IOL DPDK Community Lab

To manage your email subscriptions, visit: 
https://lab.dpdk.org/results/dashboard/preferences/subscriptions/