From mboxrd@z Thu Jan  1 00:00:00 1970
Return-Path: <test-report-bounces@dpdk.org>
Received: from mails.dpdk.org (mails.dpdk.org [217.70.189.124])
	by inbox.dpdk.org (Postfix) with ESMTP id E0593454E5
	for <public@inbox.dpdk.org>; Wed, 26 Jun 2024 20:04:49 +0200 (CEST)
Received: from mails.dpdk.org (localhost [127.0.0.1])
	by mails.dpdk.org (Postfix) with ESMTP id DA12240611;
	Wed, 26 Jun 2024 20:04:49 +0200 (CEST)
Received: from mail-oa1-f99.google.com (mail-oa1-f99.google.com
 [209.85.160.99]) by mails.dpdk.org (Postfix) with ESMTP id 461CE40647
 for <test-report@dpdk.org>; Wed, 26 Jun 2024 20:04:35 +0200 (CEST)
Received: by mail-oa1-f99.google.com with SMTP id
 586e51a60fabf-2598ae41389so3681863fac.3
 for <test-report@dpdk.org>; Wed, 26 Jun 2024 11:04:35 -0700 (PDT)
DKIM-Signature: v=1; a=rsa-sha256; c=relaxed/relaxed;
 d=iol.unh.edu; s=unh-iol; t=1719425074; x=1720029874; darn=dpdk.org;
 h=references:in-reply-to:cc:to:from:subject:message-id:date:from:to
 :cc:subject:date:message-id:reply-to;
 bh=gaOI36qAd84QgJ5YSPYZDzmuc2Oxv9MDk7cijjhYgEo=;
 b=K/4jBFA0GZZmipTVkDSCy5nGHqLcHWGcs8arq1KFRw6bpluVJajTdWI0uVqWmnVN1T
 iFtvf41SL7ohgd5RD20qRejov9DYNovM0vIFnZ5IMraeXdG8HZY9QmLaScWC4SN/DyPb
 YgfmqvLyFrpa+aD7SvIFWmA5cg5o2Nww9wo1M=
X-Google-DKIM-Signature: v=1; a=rsa-sha256; c=relaxed/relaxed;
 d=1e100.net; s=20230601; t=1719425074; x=1720029874;
 h=references:in-reply-to:cc:to:from:subject:message-id:date
 :x-gm-message-state:from:to:cc:subject:date:message-id:reply-to;
 bh=gaOI36qAd84QgJ5YSPYZDzmuc2Oxv9MDk7cijjhYgEo=;
 b=J/C5Ge5PWXWdrOOUBngkWaJLm+wFX5wVjNbVX5Z6dOojzEn66v6wwhcST9dm/SmQhA
 w+DlzsoQE/Er45tRQ+/mZV/cecE8QodGmTycfrI2SfyxBG6pztt0sV0ixgYrs8KG+3VZ
 tonCBw4rrM1noTK3bRraqRbfUm3duk3utdefofGP2+uom+NIWfUvbVvDPmaS6juukUKp
 j5eEWNIIS+Wzah2A2OT9r2pIlhNkoBwrl08GbSzuzyf8AGnQ4EIFlqux5wFtGRWKIDln
 0IBRtKtiNZXa7ZGWlgq3/T6chjIXb+XDPu9FyeeQMaDf01eJip0fFEYDHTGDfBuZvFUp
 I8WA==
X-Gm-Message-State: AOJu0Yxt3kS/k/C/3V3qtWuMqgaRiUiG/hO5NIexhAImOkvRibJb6lmo
 g9TDBvZl3R3zQshqrUFT3pNRNMEG8FHw6HMI2h8zyQ4yvZAN/80PtQcxbvYeD8M1DMFD48Y7ZZ1
 IbDXOaqYDrh+aagMoTHXu+XS/GZagU8vzc/wN++4Q
X-Google-Smtp-Source: AGHT+IEgkGjr/1M0sZno2bpTsQ3X/ulGtpmDITVQxU/b1L/AesOVGUISxNXhm72BlYDK9OJcK503IkETLI14
X-Received: by 2002:a05:6870:2007:b0:22e:8408:a98f with SMTP id
 586e51a60fabf-25d06e5652bmr12885649fac.36.1719425074363; 
 Wed, 26 Jun 2024 11:04:34 -0700 (PDT)
Received: from postal.iol.unh.edu (postal.iol.unh.edu. [132.177.123.84])
 by smtp-relay.gmail.com with ESMTPS id
 71dfb90a1353d-4ef46701215sm605271e0c.11.2024.06.26.11.04.34
 (version=TLS1_2 cipher=ECDHE-ECDSA-AES128-GCM-SHA256 bits=128/128);
 Wed, 26 Jun 2024 11:04:34 -0700 (PDT)
X-Relaying-Domain: iol.unh.edu
Date: Wed, 26 Jun 2024 11:04:34 -0700 (PDT)
Message-ID: <667c5832.050a0220.892cf.b58aSMTPIN_ADDED_MISSING@mx.google.com>
Received: from [172.21.0.6] (unknown [172.18.0.240])
 by postal.iol.unh.edu (Postfix) with ESMTP id 023B1605C380;
 Wed, 26 Jun 2024 14:04:34 -0400 (EDT)
Subject: |SUCCESS| pw141756-141758 [PATCH] [v3,3/3] test/crypto: add modex te
From: dpdklab@iol.unh.edu
To: Test Report <test-report@dpdk.org>
Cc: dpdk-test-reports@iol.unh.edu
In-Reply-To: <20240626100345.1758-4-gmuthukrishn@marvell.com>
References: <20240626100345.1758-4-gmuthukrishn@marvell.com>
Content-Type: text/plain
X-BeenThere: test-report@dpdk.org
X-Mailman-Version: 2.1.29
Precedence: list
List-Id: automatic DPDK test reports <test-report.dpdk.org>
List-Unsubscribe: <https://mails.dpdk.org/options/test-report>,
 <mailto:test-report-request@dpdk.org?subject=unsubscribe>
List-Archive: <http://mails.dpdk.org/archives/test-report/>
List-Post: <mailto:test-report@dpdk.org>
List-Help: <mailto:test-report-request@dpdk.org?subject=help>
List-Subscribe: <https://mails.dpdk.org/listinfo/test-report>,
 <mailto:test-report-request@dpdk.org?subject=subscribe>
Errors-To: test-report-bounces@dpdk.org

Test-Label: iol-unit-arm64-testing
Test-Status: SUCCESS
http://dpdk.org/patch/141758

_Testing PASS_

Submitter: Gowrishankar Muthukrishnan <gmuthukrishn@marvell.com>
Date: Wednesday, June 26 2024 10:03:42 
DPDK git baseline: Repo:dpdk
  Branch: master
  CommitID:6ca8a873f715e19550fc7dd43ce94af54158a725

141756-141758 --> testing pass

Test environment and result as below:

+-----------------------------+----------------+--------------+---------------------------+------------------------------+
|         Environment         | dpdk_unit_test | lpm_autotest | cryptodev_sw_zuc_autotest | cryptodev_sw_snow3g_autotest |
+=============================+================+==============+===========================+==============================+
| 32-bit Ubuntu 20.04.4 (ARM) | PASS           | SKIPPED      | SKIPPED                   | SKIPPED                      |
+-----------------------------+----------------+--------------+---------------------------+------------------------------+
| CentOS Stream 9 (ARM)       | PASS           | SKIPPED      | SKIPPED                   | SKIPPED                      |
+-----------------------------+----------------+--------------+---------------------------+------------------------------+
| Debian 11 (Buster) (ARM)    | PASS           | SKIPPED      | SKIPPED                   | SKIPPED                      |
+-----------------------------+----------------+--------------+---------------------------+------------------------------+
| Debian 12 (arm)             | PASS           | SKIPPED      | PASS                      | PASS                         |
+-----------------------------+----------------+--------------+---------------------------+------------------------------+
| Fedora 39 (ARM)             | PASS           | SKIPPED      | SKIPPED                   | SKIPPED                      |
+-----------------------------+----------------+--------------+---------------------------+------------------------------+
| Fedora 38 (ARM Clang)       | PASS           | SKIPPED      | SKIPPED                   | SKIPPED                      |
+-----------------------------+----------------+--------------+---------------------------+------------------------------+
| Fedora 37 (ARM)             | PASS           | SKIPPED      | SKIPPED                   | SKIPPED                      |
+-----------------------------+----------------+--------------+---------------------------+------------------------------+
| Fedora 38 (ARM)             | PASS           | SKIPPED      | SKIPPED                   | SKIPPED                      |
+-----------------------------+----------------+--------------+---------------------------+------------------------------+
| Fedora 39 (ARM Clang)       | PASS           | SKIPPED      | SKIPPED                   | SKIPPED                      |
+-----------------------------+----------------+--------------+---------------------------+------------------------------+
| Ubuntu 20.04 (ARM)          | PASS           | SKIPPED      | SKIPPED                   | SKIPPED                      |
+-----------------------------+----------------+--------------+---------------------------+------------------------------+
| Ubuntu 22.04 (ARM)          | PASS           | SKIPPED      | SKIPPED                   | SKIPPED                      |
+-----------------------------+----------------+--------------+---------------------------+------------------------------+
| Fedora 40 (ARM Clang)       | PASS           | SKIPPED      | SKIPPED                   | SKIPPED                      |
+-----------------------------+----------------+--------------+---------------------------+------------------------------+
| Ubuntu 20.04 ARM SVE        | SKIPPED        | PASS         | SKIPPED                   | SKIPPED                      |
+-----------------------------+----------------+--------------+---------------------------+------------------------------+


32-bit Ubuntu 20.04.4 (ARM)
	Kernel: 5.4.0-155-generic aarch64
	Compiler: gcc 9.4

CentOS Stream 9 (ARM)
	Kernel: Container Host Kernel
	Compiler: gcc 11.4.1

Debian 11 (Buster) (ARM)
	Kernel: Container Host Kernel
	Compiler: gcc 10.2.1

Debian 12 (arm)
	Kernel: Container Host Kernel
	Compiler: gcc 12.2.0

Fedora 39 (ARM)
	Kernel: Depends on container host
	Compiler: gcc 13.2.1

Fedora 38 (ARM Clang)
	Kernel: Depends on container host
	Compiler: clang 16.0.6

Fedora 37 (ARM)
	Kernel: Depends on container host
	Compiler: gcc 12.3.1

Fedora 38 (ARM)
	Kernel: Depends on container host
	Compiler: gcc 13.2.1

Fedora 39 (ARM Clang)
	Kernel: Depends on container host
	Compiler: clang 17.0.6

Ubuntu 20.04 (ARM)
	Kernel: Container Host Kernel
	Compiler: gcc 9.4.0

Ubuntu 22.04 (ARM)
	Kernel: Container Host Kernel
	Compiler: gcc 11.4.0

Fedora 40 (ARM Clang)
	Kernel: Depends on container host
	Compiler: clang 18.1.6

Ubuntu 20.04 ARM SVE
	Kernel: 5.4.0-167-generic
	Compiler: gcc (Ubuntu 10.5.0-1ubuntu1~20.04) 10.5.0

To view detailed results, visit:
https://lab.dpdk.org/results/dashboard/patchsets/30317/

UNH-IOL DPDK Community Lab

To manage your email subscriptions, visit: 
https://lab.dpdk.org/results/dashboard/preferences/subscriptions/