From mboxrd@z Thu Jan  1 00:00:00 1970
Return-Path: <test-report-bounces@dpdk.org>
Received: from mails.dpdk.org (mails.dpdk.org [217.70.189.124])
	by inbox.dpdk.org (Postfix) with ESMTP id 138CA454E5
	for <public@inbox.dpdk.org>; Wed, 26 Jun 2024 20:53:34 +0200 (CEST)
Received: from mails.dpdk.org (localhost [127.0.0.1])
	by mails.dpdk.org (Postfix) with ESMTP id 108B74026B;
	Wed, 26 Jun 2024 20:53:34 +0200 (CEST)
Received: from mail-il1-f226.google.com (mail-il1-f226.google.com
 [209.85.166.226])
 by mails.dpdk.org (Postfix) with ESMTP id 779BF4021E
 for <test-report@dpdk.org>; Wed, 26 Jun 2024 20:53:32 +0200 (CEST)
Received: by mail-il1-f226.google.com with SMTP id
 e9e14a558f8ab-3748ebe7e53so31242345ab.1
 for <test-report@dpdk.org>; Wed, 26 Jun 2024 11:53:32 -0700 (PDT)
DKIM-Signature: v=1; a=rsa-sha256; c=relaxed/relaxed;
 d=iol.unh.edu; s=unh-iol; t=1719428011; x=1720032811; darn=dpdk.org;
 h=references:in-reply-to:cc:to:from:subject:message-id:date:from:to
 :cc:subject:date:message-id:reply-to;
 bh=b8jh+94pvZAb9vO7S26cd4O1xi4lVZhoSq2jHhAE4k4=;
 b=SgAvHyqOvFhWaHgkUGpIB55Gy1v/IxAwklKVG28cyp3WevXIIGYajQxqYN0zhaetaG
 zCOFzgUsUjq9UdvURC3uIYNmZdWcUs8m9oR2Pl9rapLNCHg75SvjrDLeaC1zsgKueaQ7
 f/jbgw1651BVfiP3UfeSXN7F1wQPgVELyt6oE=
X-Google-DKIM-Signature: v=1; a=rsa-sha256; c=relaxed/relaxed;
 d=1e100.net; s=20230601; t=1719428011; x=1720032811;
 h=references:in-reply-to:cc:to:from:subject:message-id:date
 :x-gm-message-state:from:to:cc:subject:date:message-id:reply-to;
 bh=b8jh+94pvZAb9vO7S26cd4O1xi4lVZhoSq2jHhAE4k4=;
 b=Tx3EEBprGz90WwWdyJ4wwf4ZObQHM0jUUzmF5pqTjLKmhvg9XGcsYL1pShBcKlibKo
 b1GQTZDLP0kkJaMun72byHe9gmllL8NKVYcr9JDz9srtVBi2AHaxEsYaprIzQI6e8D9y
 Fzo7QRrhiczFQcsqH231V0exrxsL7cKv1hc8ekmj0TlH3fQd9zSb0t4Vj8LsVonD6Wuh
 rAwEBVnmyQe/oKXDh5w8JYfVF02iaoxifQnSZM6osoeN7as2s0wwi0/XpLK9wwg8WO24
 pG6bVPN+eTGv7TI28NEd/3hMxb9pybyDgIm6NTMw4+6MU23rFtTn4Frn/n6F1+OWfDOX
 maSw==
X-Gm-Message-State: AOJu0YwYn76ckiiv5/nFUxD78FW87FJ+vTK++XIIXX+ITPFP2FoDJqRx
 ry84EFUZV4UXEmvVqD8S4wXDnnFYD1wC0ecsi3N7GMgerkUIvECw/oDXPPjM9WcKe3bZLROZTUG
 PQbF0RI6nR7eI1TtWCMm1CzfqaQiVqD87nhDHFFwA
X-Google-Smtp-Source: AGHT+IH8tiwOdHNM83I/SvNllISU8AqqbPNL//7JXIttnXsi+LwOkEW8drnuY1CV5/q+Gg+7zsHyLxknD6pk
X-Received: by 2002:a05:6e02:1fe7:b0:376:410b:ae76 with SMTP id
 e9e14a558f8ab-376410baef8mr144045775ab.11.1719428011686; 
 Wed, 26 Jun 2024 11:53:31 -0700 (PDT)
Received: from postal.iol.unh.edu (postal.iol.unh.edu. [132.177.123.84])
 by smtp-relay.gmail.com with ESMTPS id
 e9e14a558f8ab-376362139e2sm5216135ab.58.2024.06.26.11.53.31
 (version=TLS1_2 cipher=ECDHE-ECDSA-AES128-GCM-SHA256 bits=128/128);
 Wed, 26 Jun 2024 11:53:31 -0700 (PDT)
X-Relaying-Domain: iol.unh.edu
Date: Wed, 26 Jun 2024 11:53:31 -0700 (PDT)
Message-ID: <667c63ab.050a0220.de721.5a05SMTPIN_ADDED_MISSING@mx.google.com>
Received: from [172.21.0.6] (unknown [172.18.0.240])
 by postal.iol.unh.edu (Postfix) with ESMTP id 3290E605C380;
 Wed, 26 Jun 2024 14:53:31 -0400 (EDT)
Subject: |SUCCESS| pw141877-141879 [PATCH] [v3,3/3] dts: queue suite conf sch
From: dpdklab@iol.unh.edu
To: Test Report <test-report@dpdk.org>
Cc: dpdk-test-reports@iol.unh.edu
In-Reply-To: <20240626135149.32557-3-dmarx@iol.unh.edu>
References: <20240626135149.32557-3-dmarx@iol.unh.edu>
Content-Type: text/plain
X-BeenThere: test-report@dpdk.org
X-Mailman-Version: 2.1.29
Precedence: list
List-Id: automatic DPDK test reports <test-report.dpdk.org>
List-Unsubscribe: <https://mails.dpdk.org/options/test-report>,
 <mailto:test-report-request@dpdk.org?subject=unsubscribe>
List-Archive: <http://mails.dpdk.org/archives/test-report/>
List-Post: <mailto:test-report@dpdk.org>
List-Help: <mailto:test-report-request@dpdk.org?subject=help>
List-Subscribe: <https://mails.dpdk.org/listinfo/test-report>,
 <mailto:test-report-request@dpdk.org?subject=subscribe>
Errors-To: test-report-bounces@dpdk.org

Test-Label: iol-unit-amd64-testing
Test-Status: SUCCESS
http://dpdk.org/patch/141879

_Testing PASS_

Submitter: Dean Marx <dmarx@iol.unh.edu>
Date: Wednesday, June 26 2024 13:51:49 
DPDK git baseline: Repo:dpdk
  Branch: master
  CommitID:c0fa83fe030771dea12e65ca1ba11174e1164774

141877-141879 --> testing pass

Test environment and result as below:

+-------------------+----------------+
|    Environment    | dpdk_unit_test |
+===================+================+
| CentOS Stream 9   | PASS           |
+-------------------+----------------+
| CentOS Stream 8   | PASS           |
+-------------------+----------------+
| Debian 12         | PASS           |
+-------------------+----------------+
| Fedora 37         | PASS           |
+-------------------+----------------+
| Fedora 38         | PASS           |
+-------------------+----------------+
| Debian Bullseye   | PASS           |
+-------------------+----------------+
| Fedora 40         | PASS           |
+-------------------+----------------+
| Fedora 39 (Clang) | PASS           |
+-------------------+----------------+
| Fedora 39         | PASS           |
+-------------------+----------------+


CentOS Stream 9
	Kernel: 5.4.0-167-generic
	Compiler: gcc 11.4.1 20230605

CentOS Stream 8
	Kernel: 5.4.0-167-generic
	Compiler: gcc 8.5.0 20210514

Debian 12
	Kernel: Container Host Kernel
	Compiler: gcc 12.2.0

Fedora 37
	Kernel: Depends on container host system
	Compiler: gcc 12.3.1

Fedora 38
	Kernel: Depends on container host
	Compiler: gcc 13.2.1

Debian Bullseye
	Kernel: 5.4.0-167-generic
	Compiler: gcc 10.2.1-6

Fedora 40
	Kernel: Depends on container host
	Compiler: gcc 14.1.1

Fedora 39 (Clang)
	Kernel: Depends on container host
	Compiler: clang 17.0.6

Fedora 39
	Kernel: Depends on container host
	Compiler: gcc 13.2.1

To view detailed results, visit:
https://lab.dpdk.org/results/dashboard/patchsets/30323/

UNH-IOL DPDK Community Lab

To manage your email subscriptions, visit: 
https://lab.dpdk.org/results/dashboard/preferences/subscriptions/