From mboxrd@z Thu Jan  1 00:00:00 1970
Return-Path: <test-report-bounces@dpdk.org>
Received: from mails.dpdk.org (mails.dpdk.org [217.70.189.124])
	by inbox.dpdk.org (Postfix) with ESMTP id A72AD45501
	for <public@inbox.dpdk.org>; Wed, 26 Jun 2024 21:27:08 +0200 (CEST)
Received: from mails.dpdk.org (localhost [127.0.0.1])
	by mails.dpdk.org (Postfix) with ESMTP id A4273402E4;
	Wed, 26 Jun 2024 21:27:08 +0200 (CEST)
Received: from mail-il1-f226.google.com (mail-il1-f226.google.com
 [209.85.166.226])
 by mails.dpdk.org (Postfix) with ESMTP id A10624021E
 for <test-report@dpdk.org>; Wed, 26 Jun 2024 21:27:04 +0200 (CEST)
Received: by mail-il1-f226.google.com with SMTP id
 e9e14a558f8ab-376211b3a4fso2934505ab.1
 for <test-report@dpdk.org>; Wed, 26 Jun 2024 12:27:04 -0700 (PDT)
DKIM-Signature: v=1; a=rsa-sha256; c=relaxed/relaxed;
 d=iol.unh.edu; s=unh-iol; t=1719430024; x=1720034824; darn=dpdk.org;
 h=references:in-reply-to:cc:to:from:subject:message-id:date:from:to
 :cc:subject:date:message-id:reply-to;
 bh=K5AjzX9KrKqjKOesLSiegGpS66u+s3PvMJR5lGhSzfo=;
 b=ies9Aivrf+VS3b+LsJVGVv+0uoBxx2HWEk+KW+GvTo8Fq3XzMVzYRUQAo6bUZLBrX9
 o3x+2t8T4T1+jmY2IE4R5XNqMoX1wlt9cspyUEZtXXC/WLe01dR7kUDAafmwp1gS3W4q
 xZkorupsN89wglhGrB6XgFzcetdMBjMJ9anzg=
X-Google-DKIM-Signature: v=1; a=rsa-sha256; c=relaxed/relaxed;
 d=1e100.net; s=20230601; t=1719430024; x=1720034824;
 h=references:in-reply-to:cc:to:from:subject:message-id:date
 :x-gm-message-state:from:to:cc:subject:date:message-id:reply-to;
 bh=K5AjzX9KrKqjKOesLSiegGpS66u+s3PvMJR5lGhSzfo=;
 b=RZccfCXzYNLAR3eCYz/mC8dJi5IJQwVblXQ0L1WSuzZlzS7CvOoVbyUQaZExc1Ztp7
 XINDOxPU2HfHFvTCjlWY0lDBgm+5K3QblS1+ZNxG2dxIG80e1LoUop8VS9Ftik1gl2es
 76+42YYeFMdCw5yblqYGruZ1E0vSmApFLLVFmPBmKGFDCg0/yEGtQMEUYcJBOJHdVnfq
 GeFkTHK546r2YADGbzKir1NnZC8gKDHQHlsf/BaAF8xeZikQTlmKXpsSM4b6HTDF4fn3
 TlP/vHHNNP7WdpKQOuhiigC5BNB5o0WFPPQ230T5qzu8wpv9mtG89/8DBuYHeLVtrQUk
 Ep1A==
X-Gm-Message-State: AOJu0Yww+p0b11yWBwN33JF/aCJiq34Wb/IYq+yd3UD2Ao8+AtxdJSQB
 4yQS4oo0sx2lMrjQYvT642U27qBc937FB1DE/mhqlNpaovdtsZ3FJRg2k8nRWWOVfGIk/dBzgGE
 MP4gQ+nuJrNk5gccrqpZBxaELWmUnOrQV2iGNpSgX8kPqggv2i2NaEI23
X-Google-Smtp-Source: AGHT+IFJUBGgWKxjR/OC3ewArdDN3z4xvn74Ai8AYZyk1qoQXUYNLEdOu215Grsey6Fyfw9RcO6JohhAuqSC
X-Received: by 2002:a05:6e02:16ca:b0:376:3819:b18c with SMTP id
 e9e14a558f8ab-3765642e89emr29890395ab.12.1719430023949; 
 Wed, 26 Jun 2024 12:27:03 -0700 (PDT)
Received: from postal.iol.unh.edu (postal.iol.unh.edu.
 [2606:4100:3880:1234::84]) by smtp-relay.gmail.com with ESMTPS id
 e9e14a558f8ab-3762f31cb21sm5769955ab.27.2024.06.26.12.27.03
 (version=TLS1_2 cipher=ECDHE-ECDSA-AES128-GCM-SHA256 bits=128/128);
 Wed, 26 Jun 2024 12:27:03 -0700 (PDT)
X-Relaying-Domain: iol.unh.edu
Date: Wed, 26 Jun 2024 12:27:03 -0700 (PDT)
Message-ID: <667c6b87.050a0220.1bdf7.a44bSMTPIN_ADDED_MISSING@mx.google.com>
Received: from [172.21.0.8] (unknown [172.18.0.240])
 by postal.iol.unh.edu (Postfix) with ESMTP id 7318D605C380;
 Wed, 26 Jun 2024 15:27:03 -0400 (EDT)
Subject: |PENDING| pw141761-141772 [PATCH] [v3,12/12] crypto/cnxk: enable dua
From: dpdklab@iol.unh.edu
To: Test Report <test-report@dpdk.org>
Cc: dpdk-test-reports@iol.unh.edu
In-Reply-To: <20240626105534.1386528-13-asasidharan@marvell.com>
References: <20240626105534.1386528-13-asasidharan@marvell.com>
Content-Type: text/plain
X-BeenThere: test-report@dpdk.org
X-Mailman-Version: 2.1.29
Precedence: list
List-Id: automatic DPDK test reports <test-report.dpdk.org>
List-Unsubscribe: <https://mails.dpdk.org/options/test-report>,
 <mailto:test-report-request@dpdk.org?subject=unsubscribe>
List-Archive: <http://mails.dpdk.org/archives/test-report/>
List-Post: <mailto:test-report@dpdk.org>
List-Help: <mailto:test-report-request@dpdk.org?subject=help>
List-Subscribe: <https://mails.dpdk.org/listinfo/test-report>,
 <mailto:test-report-request@dpdk.org?subject=subscribe>
Errors-To: test-report-bounces@dpdk.org

Test-Label: iol-abi-testing
Test-Status: PENDING
http://dpdk.org/patch/141772

_Testing pending_

Submitter: Aakash Sasidharan <asasidharan@marvell.com>
Date: Wednesday, June 26 2024 10:55:34 
DPDK git baseline: Repo:dpdk
  Branch: master
  CommitID:c0fa83fe030771dea12e65ca1ba11174e1164774

141761-141772 --> testing pending

Test environment and result as below:

+-------------------+----------+
|    Environment    | abi_test |
+===================+==========+
| CentOS Stream 8   | PASS     |
+-------------------+----------+
| CentOS Stream 9   | PASS     |
+-------------------+----------+
| Debian Bullseye   | PASS     |
+-------------------+----------+
| Fedora 37         | PASS     |
+-------------------+----------+
| Fedora 39 (Clang) | PASS     |
+-------------------+----------+
| Debian 12         | PASS     |
+-------------------+----------+
| Fedora 38 (Clang) | PASS     |
+-------------------+----------+
| Fedora 38         | PASS     |
+-------------------+----------+
| openSUSE Leap 15  | PASS     |
+-------------------+----------+
| Fedora 40         | PEND     |
+-------------------+----------+
| RHEL8             | PEND     |
+-------------------+----------+
| RHEL9             | PASS     |
+-------------------+----------+
| Fedora 40 (Clang) | PASS     |
+-------------------+----------+
| Fedora 39         | PASS     |
+-------------------+----------+
| Ubuntu 24.04      | PEND     |
+-------------------+----------+
| Ubuntu 22.04      | PEND     |
+-------------------+----------+


CentOS Stream 8
	Kernel: 5.4.0-167-generic
	Compiler: gcc 8.5.0 20210514

CentOS Stream 9
	Kernel: 5.4.0-167-generic
	Compiler: gcc 11.4.1 20230605

Debian Bullseye
	Kernel: 5.4.0-167-generic
	Compiler: gcc 10.2.1-6

Fedora 37
	Kernel: Depends on container host system
	Compiler: gcc 12.3.1

Fedora 39 (Clang)
	Kernel: Depends on container host
	Compiler: clang 17.0.6

Debian 12
	Kernel: Container Host Kernel
	Compiler: gcc 12.2.0

Fedora 38 (Clang)
	Kernel: Depends on container host
	Compiler: clang 16.0.6

Fedora 38
	Kernel: Depends on container host
	Compiler: gcc 13.2.1

openSUSE Leap 15
	Kernel: 5.4.0-167-generic
	Compiler: gcc 7.5.0

Fedora 40
	Kernel: Depends on container host
	Compiler: gcc 14.1.1

RHEL8
	Kernel: 5.4.0-167-generic
	Compiler: gcc 8.5.0 20210514 (Red Hat 8.5.0-20)

RHEL9
	Kernel: Depends on container host
	Compiler: gcc 11.4.1

Fedora 40 (Clang)
	Kernel: Depends on container host
	Compiler: clang 18.1.6

Fedora 39
	Kernel: Depends on container host
	Compiler: gcc 13.2.1

Ubuntu 24.04
	Kernel: 5.4.0-167-generic
	Compiler: gcc 13.2.0

Ubuntu 22.04
	Kernel: 5.4.0-167-generic
	Compiler: gcc 11.4.0

To view detailed results, visit:
https://lab.dpdk.org/results/dashboard/patchsets/30320/

UNH-IOL DPDK Community Lab

To manage your email subscriptions, visit: 
https://lab.dpdk.org/results/dashboard/preferences/subscriptions/