From mboxrd@z Thu Jan  1 00:00:00 1970
Return-Path: <test-report-bounces@dpdk.org>
Received: from mails.dpdk.org (mails.dpdk.org [217.70.189.124])
	by inbox.dpdk.org (Postfix) with ESMTP id C43DB45501
	for <public@inbox.dpdk.org>; Wed, 26 Jun 2024 21:40:00 +0200 (CEST)
Received: from mails.dpdk.org (localhost [127.0.0.1])
	by mails.dpdk.org (Postfix) with ESMTP id B9364402D0;
	Wed, 26 Jun 2024 21:40:00 +0200 (CEST)
Received: from mail-io1-f99.google.com (mail-io1-f99.google.com
 [209.85.166.99]) by mails.dpdk.org (Postfix) with ESMTP id 11F894021E
 for <test-report@dpdk.org>; Wed, 26 Jun 2024 21:39:56 +0200 (CEST)
Received: by mail-io1-f99.google.com with SMTP id
 ca18e2360f4ac-7f3d3919a4aso35479439f.1
 for <test-report@dpdk.org>; Wed, 26 Jun 2024 12:39:56 -0700 (PDT)
DKIM-Signature: v=1; a=rsa-sha256; c=relaxed/relaxed;
 d=iol.unh.edu; s=unh-iol; t=1719430795; x=1720035595; darn=dpdk.org;
 h=references:in-reply-to:cc:to:from:subject:message-id:date:from:to
 :cc:subject:date:message-id:reply-to;
 bh=v6jM8c+WO3k7+Vpae0IaYg6qDkc4Qe8cALeQicZW73E=;
 b=bNaTnIR21XmgQmEj+pk79z8qgo/JhWLtdPgRQ9lhAfvyCVbSyoKvxxlShd9nLf82lt
 p/f1qFQm+GJJmXqSbk8bO8OYyJdU+7nKTLTuchFt7l3gofxVvfomqJFUGxp2cA4e3ZzM
 +Me494NDaXag+ytK0/xOqvQotQ8diBbdZcaD0=
X-Google-DKIM-Signature: v=1; a=rsa-sha256; c=relaxed/relaxed;
 d=1e100.net; s=20230601; t=1719430795; x=1720035595;
 h=references:in-reply-to:cc:to:from:subject:message-id:date
 :x-gm-message-state:from:to:cc:subject:date:message-id:reply-to;
 bh=v6jM8c+WO3k7+Vpae0IaYg6qDkc4Qe8cALeQicZW73E=;
 b=Af8WHVUwBPXCNE97FfdeJVvhU2FPvbo97MbAMZF36f+Dem75otKqyByXCXI4BwYUvx
 ld/QBTxFXxp2ElDsoRABw7tDTM6DqRr79V7vpzwm23TkImtAPmjybUtLkS01pc4vbCSB
 +KfVPqEhemWIpHXxw2JKvjw3gqeHuOmgwKQfwW30CAzDJQyZidku6BFNOl6S85xhFha+
 uEYFa8u5R3vTtKI1pgmYemx6VapId5kdEnz4Q44RVF1FT060Yn35tt6ttOaRCM2QKsJs
 T6jBZk5IAsM9YGRj+evpui1d7TK0QOHEdDOVj8u/h9xKaZZjKsZbLojvUWg0g3mY7Umb
 1qIA==
X-Gm-Message-State: AOJu0YwgRtGWzPRXK4n2ANpMVO1N6ri5Vs6tMyL59WKc0WaJujh7SYDM
 1gCE2bx5uLfnK9oOZtLiV9jj1oCNJAXleqLAxE2dePvQx53gebGtvN1KqiCJn6nfBsDEYdhFcA5
 AHz5LR1waeS4v1LxHm3aDkilrW032Vqh71pPcABN+
X-Google-Smtp-Source: AGHT+IEGRbykoYeCfSjFM6rm+DWo6PYJ4RMRnBFQBxog/01V280oocr3vpx1jaQc6XXjAIiRK1nysoIPgITA
X-Received: by 2002:a05:6602:2d82:b0:7eb:8a6e:11e1 with SMTP id
 ca18e2360f4ac-7f3a4dc2c31mr1557315739f.5.1719430795415; 
 Wed, 26 Jun 2024 12:39:55 -0700 (PDT)
Received: from postal.iol.unh.edu (postal.iol.unh.edu. [132.177.123.84])
 by smtp-relay.gmail.com with ESMTPS id
 8926c6da1cb9f-4bb5f73fc53sm40445173.59.2024.06.26.12.39.55
 (version=TLS1_2 cipher=ECDHE-ECDSA-AES128-GCM-SHA256 bits=128/128);
 Wed, 26 Jun 2024 12:39:55 -0700 (PDT)
X-Relaying-Domain: iol.unh.edu
Date: Wed, 26 Jun 2024 12:39:55 -0700 (PDT)
Message-ID: <667c6e8b.050a0220.ca1de.23b5SMTPIN_ADDED_MISSING@mx.google.com>
Received: from [172.21.0.8] (unknown [172.18.0.240])
 by postal.iol.unh.edu (Postfix) with ESMTP id 112FF605C380;
 Wed, 26 Jun 2024 15:39:55 -0400 (EDT)
Subject: |SUCCESS| pw141877-141879 [PATCH] [v3,3/3] dts: queue suite conf sch
From: dpdklab@iol.unh.edu
To: Test Report <test-report@dpdk.org>
Cc: dpdk-test-reports@iol.unh.edu
In-Reply-To: <20240626135149.32557-3-dmarx@iol.unh.edu>
References: <20240626135149.32557-3-dmarx@iol.unh.edu>
Content-Type: text/plain
X-BeenThere: test-report@dpdk.org
X-Mailman-Version: 2.1.29
Precedence: list
List-Id: automatic DPDK test reports <test-report.dpdk.org>
List-Unsubscribe: <https://mails.dpdk.org/options/test-report>,
 <mailto:test-report-request@dpdk.org?subject=unsubscribe>
List-Archive: <http://mails.dpdk.org/archives/test-report/>
List-Post: <mailto:test-report@dpdk.org>
List-Help: <mailto:test-report-request@dpdk.org?subject=help>
List-Subscribe: <https://mails.dpdk.org/listinfo/test-report>,
 <mailto:test-report-request@dpdk.org?subject=subscribe>
Errors-To: test-report-bounces@dpdk.org

Test-Label: iol-compile-amd64-testing
Test-Status: SUCCESS
http://dpdk.org/patch/141879

_Testing PASS_

Submitter: Dean Marx <dmarx@iol.unh.edu>
Date: Wednesday, June 26 2024 13:51:49 
DPDK git baseline: Repo:dpdk
  Branch: master
  CommitID:c0fa83fe030771dea12e65ca1ba11174e1164774

141877-141879 --> testing pass

Test environment and result as below:

+---------------------+-------------------+--------------------+----------------------+------------------+-------------------+
|     Environment     | dpdk_msvc_compile | dpdk_meson_compile | dpdk_mingw64_compile | dpdk_compile_ovs | dpdk_compile_spdk |
+=====================+===================+====================+======================+==================+===================+
| Windows Server 2022 | PASS              | PASS               | PASS                 | SKIPPED          | SKIPPED           |
+---------------------+-------------------+--------------------+----------------------+------------------+-------------------+
| FreeBSD 13.3        | SKIPPED           | PASS               | SKIPPED              | SKIPPED          | SKIPPED           |
+---------------------+-------------------+--------------------+----------------------+------------------+-------------------+
| Windows Server 2019 | SKIPPED           | PASS               | PASS                 | SKIPPED          | SKIPPED           |
+---------------------+-------------------+--------------------+----------------------+------------------+-------------------+
| FreeBSD 14.1        | SKIPPED           | PASS               | SKIPPED              | SKIPPED          | SKIPPED           |
+---------------------+-------------------+--------------------+----------------------+------------------+-------------------+
| CentOS Stream 8     | SKIPPED           | PASS               | SKIPPED              | PASS             | PASS              |
+---------------------+-------------------+--------------------+----------------------+------------------+-------------------+
| CentOS Stream 9     | SKIPPED           | PASS               | SKIPPED              | PASS             | PASS              |
+---------------------+-------------------+--------------------+----------------------+------------------+-------------------+
| Debian 12           | SKIPPED           | PASS               | SKIPPED              | PASS             | PASS              |
+---------------------+-------------------+--------------------+----------------------+------------------+-------------------+
| Fedora 37           | SKIPPED           | PASS               | SKIPPED              | PASS             | PASS              |
+---------------------+-------------------+--------------------+----------------------+------------------+-------------------+
| openSUSE Leap 15    | SKIPPED           | PASS               | SKIPPED              | PASS             | SKIPPED           |
+---------------------+-------------------+--------------------+----------------------+------------------+-------------------+
| RHEL8               | SKIPPED           | PASS               | SKIPPED              | PASS             | SKIPPED           |
+---------------------+-------------------+--------------------+----------------------+------------------+-------------------+
| RHEL9               | SKIPPED           | PASS               | SKIPPED              | PASS             | SKIPPED           |
+---------------------+-------------------+--------------------+----------------------+------------------+-------------------+
| Ubuntu 22.04        | SKIPPED           | PASS               | SKIPPED              | PASS             | PASS              |
+---------------------+-------------------+--------------------+----------------------+------------------+-------------------+


Windows Server 2022
	Kernel: 10.0.20348.2031
	Compiler: clang 15.0.7, gcc 8.1.0 (MinGW), and MSVC VS 17.9

FreeBSD 13.3
	Kernel: 13.3-RELEASE-p1
	Compiler: clang 17.0.6

Windows Server 2019
	Kernel: 10.0.17763
	Compiler: clang 14.0 and gcc 8.1.0 (MinGW)

FreeBSD 14.1
	Kernel: 14.1
	Compiler: clang 18.1.5

CentOS Stream 8
	Kernel: 5.4.0-167-generic
	Compiler: gcc 8.5.0 20210514

CentOS Stream 9
	Kernel: 5.4.0-167-generic
	Compiler: gcc 11.4.1 20230605

Debian 12
	Kernel: Container Host Kernel
	Compiler: gcc 12.2.0

Fedora 37
	Kernel: Depends on container host system
	Compiler: gcc 12.3.1

openSUSE Leap 15
	Kernel: 5.4.0-167-generic
	Compiler: gcc 7.5.0

RHEL8
	Kernel: 5.4.0-167-generic
	Compiler: gcc 8.5.0 20210514 (Red Hat 8.5.0-20)

RHEL9
	Kernel: Depends on container host
	Compiler: gcc 11.4.1

Ubuntu 22.04
	Kernel: 5.4.0-167-generic
	Compiler: gcc 11.4.0

To view detailed results, visit:
https://lab.dpdk.org/results/dashboard/patchsets/30323/

UNH-IOL DPDK Community Lab

To manage your email subscriptions, visit: 
https://lab.dpdk.org/results/dashboard/preferences/subscriptions/