From mboxrd@z Thu Jan  1 00:00:00 1970
Return-Path: <test-report-bounces@dpdk.org>
Received: from mails.dpdk.org (mails.dpdk.org [217.70.189.124])
	by inbox.dpdk.org (Postfix) with ESMTP id D6EDA454FC
	for <public@inbox.dpdk.org>; Thu, 27 Jun 2024 05:19:47 +0200 (CEST)
Received: from mails.dpdk.org (localhost [127.0.0.1])
	by mails.dpdk.org (Postfix) with ESMTP id D3C7B402C6;
	Thu, 27 Jun 2024 05:19:47 +0200 (CEST)
Received: from mail-yb1-f226.google.com (mail-yb1-f226.google.com
 [209.85.219.226])
 by mails.dpdk.org (Postfix) with ESMTP id 62B85402A9
 for <test-report@dpdk.org>; Thu, 27 Jun 2024 05:19:34 +0200 (CEST)
Received: by mail-yb1-f226.google.com with SMTP id
 3f1490d57ef6-dff1ccdc17bso7829700276.0
 for <test-report@dpdk.org>; Wed, 26 Jun 2024 20:19:34 -0700 (PDT)
DKIM-Signature: v=1; a=rsa-sha256; c=relaxed/relaxed;
 d=iol.unh.edu; s=unh-iol; t=1719458374; x=1720063174; darn=dpdk.org;
 h=references:in-reply-to:cc:to:from:subject:message-id:date:from:to
 :cc:subject:date:message-id:reply-to;
 bh=2jrZsOhJAe2OiCl8xNtiJ7AC+i8VT4y5NJ08ebjGGoY=;
 b=XoYjRReipDabgVxJLRduI340BzISLRasgTdyzoFQTr000NK7HhbKUNEcxTNhHBuFpM
 B738+goiGGWn88+GCSHVNfgjOG0QN0u7V4Scl3JIUgQnsqDvDDe+69zlY2vGmj+OOPIJ
 KYGm6NVKcvOZUFoBXcQYwcN/I+x6EIEi56YlE=
X-Google-DKIM-Signature: v=1; a=rsa-sha256; c=relaxed/relaxed;
 d=1e100.net; s=20230601; t=1719458374; x=1720063174;
 h=references:in-reply-to:cc:to:from:subject:message-id:date
 :x-gm-message-state:from:to:cc:subject:date:message-id:reply-to;
 bh=2jrZsOhJAe2OiCl8xNtiJ7AC+i8VT4y5NJ08ebjGGoY=;
 b=OnLvd5nALNBmPh5Uol8ehtKhsyx/r9z769OghsiPcRTna0QmGRe5tdmcnYROTouUVh
 FkLvOuiHFsI62/tqSP/8Ky6HeplF7ixA4WnLZFQfBXkoEFcSpusHV1k6kJV1UEd1perd
 HJDioWL8noXj/5d+L40a6CHFDrNAPzAHOMyqmCbqA3mcmWTLA/eqnv/1fZhMNHdlVIpU
 YpXNC7AMDZQ7kfzO3HptU87Tf6Ace8FUHqWga+58mB0nhk10GrT6VbPSMw6L02lug19C
 wAhQ5T6PCUde+ZIN7Nb+STeUdDVEumy5JYilgUOwKC5x30zRfzadaS4Ejgank0D+gfbj
 Yvgg==
X-Gm-Message-State: AOJu0YztB4mc0A6PvPQ6+u+cGnFOBfN/Gq7wUorsCfrtwEJLJoo/Qm2g
 1AoBoTA/p/iv+rSobYgRpQQdhIyUoWaNSJwDDwLnv2MUpx5WjX6H6wAY3W9tAjGj3ba++r7ktks
 +GtOowxZvErmShX/V+qpB3WjhcUjBU/tW0tjuS9Re+ehoiP9rnKYwlBPq
X-Google-Smtp-Source: AGHT+IHV+eu6oQ5yOeJNybu/0wd7vf5T+KjVb/z9nPGMNPJ3Bg3LANS+1rQUMs99riFOutQ6cXqV0YQk8JG9
X-Received: by 2002:a25:8109:0:b0:e02:b5cf:97ac with SMTP id
 3f1490d57ef6-e02fc264a57mr13240259276.3.1719458373773; 
 Wed, 26 Jun 2024 20:19:33 -0700 (PDT)
Received: from postal.iol.unh.edu (postal.iol.unh.edu.
 [2606:4100:3880:1234::84]) by smtp-relay.gmail.com with ESMTPS id
 3f1490d57ef6-e0345b821a3sm17647276.17.2024.06.26.20.19.33
 (version=TLS1_2 cipher=ECDHE-ECDSA-AES128-GCM-SHA256 bits=128/128);
 Wed, 26 Jun 2024 20:19:33 -0700 (PDT)
X-Relaying-Domain: iol.unh.edu
Date: Wed, 26 Jun 2024 20:19:33 -0700 (PDT)
Message-ID: <667cda45.050a0220.2ae4c.13d9SMTPIN_ADDED_MISSING@mx.google.com>
Received: from [172.21.0.6] (unknown [172.18.0.240])
 by postal.iol.unh.edu (Postfix) with ESMTP id 68B71605C373;
 Wed, 26 Jun 2024 23:19:33 -0400 (EDT)
Subject: |SUCCESS| pw141880 [PATCH] eal/linux: lower log level on allocation 
From: dpdklab@iol.unh.edu
To: Test Report <test-report@dpdk.org>
Cc: dpdk-test-reports@iol.unh.edu
In-Reply-To: <20240626145142.1697935-1-david.marchand@redhat.com>
References: <20240626145142.1697935-1-david.marchand@redhat.com>
Content-Type: text/plain
X-BeenThere: test-report@dpdk.org
X-Mailman-Version: 2.1.29
Precedence: list
List-Id: automatic DPDK test reports <test-report.dpdk.org>
List-Unsubscribe: <https://mails.dpdk.org/options/test-report>,
 <mailto:test-report-request@dpdk.org?subject=unsubscribe>
List-Archive: <http://mails.dpdk.org/archives/test-report/>
List-Post: <mailto:test-report@dpdk.org>
List-Help: <mailto:test-report-request@dpdk.org?subject=help>
List-Subscribe: <https://mails.dpdk.org/listinfo/test-report>,
 <mailto:test-report-request@dpdk.org?subject=subscribe>
Errors-To: test-report-bounces@dpdk.org

Test-Label: iol-compile-amd64-testing
Test-Status: SUCCESS
http://dpdk.org/patch/141880

_Testing PASS_

Submitter: David Marchand <david.marchand@redhat.com>
Date: Wednesday, June 26 2024 14:51:42 
DPDK git baseline: Repo:dpdk
  Branch: master
  CommitID:c0fa83fe030771dea12e65ca1ba11174e1164774

141880 --> testing pass

Test environment and result as below:

+---------------------+--------------------+----------------------+-------------------+
|     Environment     | dpdk_meson_compile | dpdk_mingw64_compile | dpdk_msvc_compile |
+=====================+====================+======================+===================+
| FreeBSD 13.3        | PASS               | SKIPPED              | SKIPPED           |
+---------------------+--------------------+----------------------+-------------------+
| Windows Server 2019 | PASS               | PASS                 | SKIPPED           |
+---------------------+--------------------+----------------------+-------------------+
| FreeBSD 14.1        | PASS               | SKIPPED              | SKIPPED           |
+---------------------+--------------------+----------------------+-------------------+
| Windows Server 2022 | PASS               | PASS                 | PASS              |
+---------------------+--------------------+----------------------+-------------------+


FreeBSD 13.3
	Kernel: 13.3-RELEASE-p1
	Compiler: clang 17.0.6

Windows Server 2019
	Kernel: 10.0.17763
	Compiler: clang 14.0 and gcc 8.1.0 (MinGW)

FreeBSD 14.1
	Kernel: 14.1
	Compiler: clang 18.1.5

Windows Server 2022
	Kernel: 10.0.20348.2031
	Compiler: clang 15.0.7, gcc 8.1.0 (MinGW), and MSVC VS 17.9

To view detailed results, visit:
https://lab.dpdk.org/results/dashboard/patchsets/30324/

UNH-IOL DPDK Community Lab

To manage your email subscriptions, visit: 
https://lab.dpdk.org/results/dashboard/preferences/subscriptions/