From mboxrd@z Thu Jan  1 00:00:00 1970
Return-Path: <test-report-bounces@dpdk.org>
Received: from mails.dpdk.org (mails.dpdk.org [217.70.189.124])
	by inbox.dpdk.org (Postfix) with ESMTP id 05DF645502
	for <public@inbox.dpdk.org>; Thu, 27 Jun 2024 07:14:04 +0200 (CEST)
Received: from mails.dpdk.org (localhost [127.0.0.1])
	by mails.dpdk.org (Postfix) with ESMTP id 01309402D2;
	Thu, 27 Jun 2024 07:14:04 +0200 (CEST)
Received: from mail-pg1-f227.google.com (mail-pg1-f227.google.com
 [209.85.215.227])
 by mails.dpdk.org (Postfix) with ESMTP id 04ABD4028A
 for <test-report@dpdk.org>; Thu, 27 Jun 2024 07:13:54 +0200 (CEST)
Received: by mail-pg1-f227.google.com with SMTP id
 41be03b00d2f7-70b2421471aso5335584a12.0
 for <test-report@dpdk.org>; Wed, 26 Jun 2024 22:13:53 -0700 (PDT)
DKIM-Signature: v=1; a=rsa-sha256; c=relaxed/relaxed;
 d=iol.unh.edu; s=unh-iol; t=1719465233; x=1720070033; darn=dpdk.org;
 h=references:in-reply-to:cc:to:from:subject:message-id:date:from:to
 :cc:subject:date:message-id:reply-to;
 bh=x0Kv+XIjM4WeS8GbnkFYsrC1PZbjspU9tttrGSLbotY=;
 b=WpxueoB2oOox/UhfJLxXfKzzYRkRoJch5W5BGW2NmN2furCsLDQX1C+OEFbl63GSI3
 Tn2gEP6q/KV5koTa23lkNJaF64SG8n9oo3ef1ZwLFV0yvLm7OalVAoCjOzm0cCb0VaYs
 vEOkfJcVpKkmAyC+i0BpfByYa43UpLZ4Skv1s=
X-Google-DKIM-Signature: v=1; a=rsa-sha256; c=relaxed/relaxed;
 d=1e100.net; s=20230601; t=1719465233; x=1720070033;
 h=references:in-reply-to:cc:to:from:subject:message-id:date
 :x-gm-message-state:from:to:cc:subject:date:message-id:reply-to;
 bh=x0Kv+XIjM4WeS8GbnkFYsrC1PZbjspU9tttrGSLbotY=;
 b=lmp6I5HHbpl2ozfkM3Pl4/DNI82kNBMC32H5VT0eAl7MiKqjSRTObwrFHy5/XPc4/L
 oTclRWu5TiBPQiXvG/CYiBLZ69y7QyxDEBCVwLYHoqdPaWcj+sp1Wk8puRMVKr7P00Uo
 fme+cUOwag8SEbqEBji8LT7ZKKUHCVU9+NVSQn05xGJpvbyBEZNfsZurb5CnEMaPOYtx
 aafzZUFZheAm1gM/p9lou97z+CATeyxX4nLRJTy+maKGZHl4zAfe3kBD8I8aiTEDQUSD
 OkBQMsXghQJu+m4Si08vbTWcdYjloHjlQQamjbrwn61A4GxX7IBYChxU5x9gUXPOx/r7
 zwJQ==
X-Gm-Message-State: AOJu0YztXTHaa6V21M8fOFrhMkTt+/g9Ki8jydlgUVynwevIMLb9Ieza
 iWAcuQ9ntImg+FXuamhIJNICBAPxgTS8e+vFkTggLOKQ+AF21bVzPvvNkE9YSPsIvACZ2AN70Ko
 DHJIzwEiEucLt40INnUOvd8IX+iel0j5zH6KIyKlmrA8PO40dZedlX4x4
X-Google-Smtp-Source: AGHT+IF5ca2zFih2K0CL1qU44brMxTGiNyIkjZDzOa2H7+krF77CYZhdd0zf2Px70tgAccgh98Scgf77zQmd
X-Received: by 2002:a05:6a20:1e65:b0:1bd:8581:2f61 with SMTP id
 adf61e73a8af0-1bd8581319bmr3556731637.39.1719465233198; 
 Wed, 26 Jun 2024 22:13:53 -0700 (PDT)
Received: from postal.iol.unh.edu (postal.iol.unh.edu.
 [2606:4100:3880:1234::84]) by smtp-relay.gmail.com with ESMTPS id
 d9443c01a7336-1faac90824esm185055ad.69.2024.06.26.22.13.53
 (version=TLS1_2 cipher=ECDHE-ECDSA-AES128-GCM-SHA256 bits=128/128);
 Wed, 26 Jun 2024 22:13:53 -0700 (PDT)
X-Relaying-Domain: iol.unh.edu
Date: Wed, 26 Jun 2024 22:13:53 -0700 (PDT)
Message-ID: <667cf511.170a0220.2c569.1531SMTPIN_ADDED_MISSING@mx.google.com>
Received: from [172.21.0.7] (unknown [172.18.0.240])
 by postal.iol.unh.edu (Postfix) with ESMTP id 570E3605C373;
 Thu, 27 Jun 2024 01:13:52 -0400 (EDT)
Subject: |SUCCESS| pw141880 [PATCH] eal/linux: lower log level on allocation 
From: dpdklab@iol.unh.edu
To: Test Report <test-report@dpdk.org>
Cc: David Marchand <david.marchand@redhat.com>
In-Reply-To: <20240626145142.1697935-1-david.marchand@redhat.com>
References: <20240626145142.1697935-1-david.marchand@redhat.com>
Content-Type: text/plain
X-BeenThere: test-report@dpdk.org
X-Mailman-Version: 2.1.29
Precedence: list
List-Id: automatic DPDK test reports <test-report.dpdk.org>
List-Unsubscribe: <https://mails.dpdk.org/options/test-report>,
 <mailto:test-report-request@dpdk.org?subject=unsubscribe>
List-Archive: <http://mails.dpdk.org/archives/test-report/>
List-Post: <mailto:test-report@dpdk.org>
List-Help: <mailto:test-report-request@dpdk.org?subject=help>
List-Subscribe: <https://mails.dpdk.org/listinfo/test-report>,
 <mailto:test-report-request@dpdk.org?subject=subscribe>
Errors-To: test-report-bounces@dpdk.org

Test-Label: iol-compile-amd64-testing
Test-Status: SUCCESS
http://dpdk.org/patch/141880

_Testing PASS_

Submitter: David Marchand <david.marchand@redhat.com>
Date: Wednesday, June 26 2024 14:51:42 
DPDK git baseline: Repo:dpdk
  Branch: master
  CommitID:c0fa83fe030771dea12e65ca1ba11174e1164774

141880 --> testing pass

Test environment and result as below:

+---------------------+--------------------+----------------------+-------------------+------------------+-------------------+
|     Environment     | dpdk_meson_compile | dpdk_mingw64_compile | dpdk_msvc_compile | dpdk_compile_ovs | dpdk_compile_spdk |
+=====================+====================+======================+===================+==================+===================+
| FreeBSD 13.3        | PASS               | SKIPPED              | SKIPPED           | SKIPPED          | SKIPPED           |
+---------------------+--------------------+----------------------+-------------------+------------------+-------------------+
| Windows Server 2019 | PASS               | PASS                 | SKIPPED           | SKIPPED          | SKIPPED           |
+---------------------+--------------------+----------------------+-------------------+------------------+-------------------+
| FreeBSD 14.1        | PASS               | SKIPPED              | SKIPPED           | SKIPPED          | SKIPPED           |
+---------------------+--------------------+----------------------+-------------------+------------------+-------------------+
| Windows Server 2022 | PASS               | PASS                 | PASS              | SKIPPED          | SKIPPED           |
+---------------------+--------------------+----------------------+-------------------+------------------+-------------------+
| Debian 12           | PASS               | SKIPPED              | SKIPPED           | PASS             | PASS              |
+---------------------+--------------------+----------------------+-------------------+------------------+-------------------+
| CentOS Stream 9     | PASS               | SKIPPED              | SKIPPED           | PASS             | PASS              |
+---------------------+--------------------+----------------------+-------------------+------------------+-------------------+
| CentOS Stream 8     | PASS               | SKIPPED              | SKIPPED           | PASS             | PASS              |
+---------------------+--------------------+----------------------+-------------------+------------------+-------------------+
| Debian Bullseye     | PASS               | SKIPPED              | SKIPPED           | PASS             | PASS              |
+---------------------+--------------------+----------------------+-------------------+------------------+-------------------+
| Fedora 37           | PASS               | SKIPPED              | SKIPPED           | SKIPPED          | SKIPPED           |
+---------------------+--------------------+----------------------+-------------------+------------------+-------------------+


FreeBSD 13.3
	Kernel: 13.3-RELEASE-p1
	Compiler: clang 17.0.6

Windows Server 2019
	Kernel: 10.0.17763
	Compiler: clang 14.0 and gcc 8.1.0 (MinGW)

FreeBSD 14.1
	Kernel: 14.1
	Compiler: clang 18.1.5

Windows Server 2022
	Kernel: 10.0.20348.2031
	Compiler: clang 15.0.7, gcc 8.1.0 (MinGW), and MSVC VS 17.9

Debian 12
	Kernel: Container Host Kernel
	Compiler: gcc 12.2.0

CentOS Stream 9
	Kernel: 5.4.0-167-generic
	Compiler: gcc 11.4.1 20230605

CentOS Stream 8
	Kernel: 5.4.0-167-generic
	Compiler: gcc 8.5.0 20210514

Debian Bullseye
	Kernel: 5.4.0-167-generic
	Compiler: gcc 10.2.1-6

Fedora 37
	Kernel: Depends on container host system
	Compiler: gcc 12.3.1

To view detailed results, visit:
https://lab.dpdk.org/results/dashboard/patchsets/30324/

UNH-IOL DPDK Community Lab

To manage your email subscriptions, visit: 
https://lab.dpdk.org/results/dashboard/preferences/subscriptions/