From mboxrd@z Thu Jan  1 00:00:00 1970
Return-Path: <test-report-bounces@dpdk.org>
Received: from mails.dpdk.org (mails.dpdk.org [217.70.189.124])
	by inbox.dpdk.org (Postfix) with ESMTP id B088F45507
	for <public@inbox.dpdk.org>; Thu, 27 Jun 2024 07:45:55 +0200 (CEST)
Received: from mails.dpdk.org (localhost [127.0.0.1])
	by mails.dpdk.org (Postfix) with ESMTP id DAC6A40B94;
	Thu, 27 Jun 2024 07:45:54 +0200 (CEST)
Received: from mail-pg1-f227.google.com (mail-pg1-f227.google.com
 [209.85.215.227])
 by mails.dpdk.org (Postfix) with ESMTP id 1834F4028A
 for <test-report@dpdk.org>; Thu, 27 Jun 2024 07:43:53 +0200 (CEST)
Received: by mail-pg1-f227.google.com with SMTP id
 41be03b00d2f7-707040e3017so5164534a12.3
 for <test-report@dpdk.org>; Wed, 26 Jun 2024 22:43:53 -0700 (PDT)
DKIM-Signature: v=1; a=rsa-sha256; c=relaxed/relaxed;
 d=iol.unh.edu; s=unh-iol; t=1719467032; x=1720071832; darn=dpdk.org;
 h=references:in-reply-to:cc:to:from:subject:message-id:date:from:to
 :cc:subject:date:message-id:reply-to;
 bh=+HA5oLBXFGs0PJwRuzjx35vRQTcpomBL2tpHLrOyVlE=;
 b=XWGkVHUUGz3TxsG7XxcvYglKC7va5EZkxYKVUKGhwQdkU0EX9mb1y7E6FX2lprWra1
 fotCVm2PlLnrV6zVGxOG2jwByiAjUxVgYQQgAYnh9OtVjzYFv2aAhwM/uPc/qAWT3qm8
 d9Ol2HIQskr30wj9BESKPnUlwFIzk2ORRa6W0=
X-Google-DKIM-Signature: v=1; a=rsa-sha256; c=relaxed/relaxed;
 d=1e100.net; s=20230601; t=1719467032; x=1720071832;
 h=references:in-reply-to:cc:to:from:subject:message-id:date
 :x-gm-message-state:from:to:cc:subject:date:message-id:reply-to;
 bh=+HA5oLBXFGs0PJwRuzjx35vRQTcpomBL2tpHLrOyVlE=;
 b=WrpBAR+SYtOJwgh+VkijSgiU6PPTjfmfbUj59//DJihNXun9SUgB2LZQ0LjbRx5pV5
 ArhugUEHRfaievOLia3hVnvv/FYAW+0HZ3hjcTanLmbUAr7zB5QrGZtMDCLh9zAeCURG
 wvFEEtgVUQwuM+eDtKXfIUy8gPc/jKp7hdrQLaAeNWaRjrWSSIWVik4PDUOCHaMSuTu4
 sGBPQhMSapYlmhmlZs211OZMp2gUEPeecoGjyhBLMbXBb5cxSxX9s1hnoaAr2aOoeq/S
 ushkjmtMpnkzdyB6O1EstkjGddQEKyoI9wd4qV4URVBkdStJXCZP7D8dbk9Ur7Ok0K5v
 hJsg==
X-Gm-Message-State: AOJu0YynZapj+aCRNSuLcO5Jv5b0mAShQyKnGVaKCF4Cm14+ywJ+n0iE
 Hcsw+2PNctLYYiPn5VG+6MuNxveXI42ga1qo6idHCLLZgRbM0wf2fddM6804+SZvk7RtlbHzjtL
 zm+QvsqAn/MRB4+YfvKbbtuooAQuov1q5jQdFi7hCDDCGQmBTIEca2Phm
X-Google-Smtp-Source: AGHT+IEKFpGa8YPR2SRs4Ghn3wAIbJJd5eb9UjJN6SSvL9+FCKNhjDcduT567A2bspRQ5L2ULkr33/sgtp5U
X-Received: by 2002:a05:6a20:da91:b0:1be:c7f4:b42e with SMTP id
 adf61e73a8af0-1bec7f4b5f7mr2648724637.20.1719467032236; 
 Wed, 26 Jun 2024 22:43:52 -0700 (PDT)
Received: from postal.iol.unh.edu (postal.iol.unh.edu.
 [2606:4100:3880:1234::84]) by smtp-relay.gmail.com with ESMTPS id
 d9443c01a7336-1faac9932a7sm199635ad.104.2024.06.26.22.43.52
 (version=TLS1_2 cipher=ECDHE-ECDSA-AES128-GCM-SHA256 bits=128/128);
 Wed, 26 Jun 2024 22:43:52 -0700 (PDT)
X-Relaying-Domain: iol.unh.edu
Date: Wed, 26 Jun 2024 22:43:52 -0700 (PDT)
Message-ID: <667cfc18.170a0220.b91ef.1674SMTPIN_ADDED_MISSING@mx.google.com>
Received: from [172.21.0.7] (unknown [172.18.0.240])
 by postal.iol.unh.edu (Postfix) with ESMTP id 5759B605C373;
 Thu, 27 Jun 2024 01:43:51 -0400 (EDT)
Subject: |SUCCESS| pw141880 [PATCH] eal/linux: lower log level on allocation 
From: dpdklab@iol.unh.edu
To: Test Report <test-report@dpdk.org>
Cc: dpdk-test-reports@iol.unh.edu
In-Reply-To: <20240626145142.1697935-1-david.marchand@redhat.com>
References: <20240626145142.1697935-1-david.marchand@redhat.com>
Content-Type: text/plain
X-BeenThere: test-report@dpdk.org
X-Mailman-Version: 2.1.29
Precedence: list
List-Id: automatic DPDK test reports <test-report.dpdk.org>
List-Unsubscribe: <https://mails.dpdk.org/options/test-report>,
 <mailto:test-report-request@dpdk.org?subject=unsubscribe>
List-Archive: <http://mails.dpdk.org/archives/test-report/>
List-Post: <mailto:test-report@dpdk.org>
List-Help: <mailto:test-report-request@dpdk.org?subject=help>
List-Subscribe: <https://mails.dpdk.org/listinfo/test-report>,
 <mailto:test-report-request@dpdk.org?subject=subscribe>
Errors-To: test-report-bounces@dpdk.org

Test-Label: iol-unit-amd64-testing
Test-Status: SUCCESS
http://dpdk.org/patch/141880

_Testing PASS_

Submitter: David Marchand <david.marchand@redhat.com>
Date: Wednesday, June 26 2024 14:51:42 
DPDK git baseline: Repo:dpdk
  Branch: master
  CommitID:c0fa83fe030771dea12e65ca1ba11174e1164774

141880 --> testing pass

Test environment and result as below:

+-------------------+----------------+
|    Environment    | dpdk_unit_test |
+===================+================+
| CentOS Stream 9   | PASS           |
+-------------------+----------------+
| CentOS Stream 8   | PASS           |
+-------------------+----------------+
| Debian 12         | PASS           |
+-------------------+----------------+
| Debian Bullseye   | PASS           |
+-------------------+----------------+
| Fedora 37         | PASS           |
+-------------------+----------------+
| Fedora 38         | PASS           |
+-------------------+----------------+
| Fedora 39         | PASS           |
+-------------------+----------------+
| Fedora 40         | PASS           |
+-------------------+----------------+
| Fedora 38 (Clang) | PASS           |
+-------------------+----------------+
| RHEL8             | PASS           |
+-------------------+----------------+
| openSUSE Leap 15  | PASS           |
+-------------------+----------------+


CentOS Stream 9
	Kernel: 5.4.0-167-generic
	Compiler: gcc 11.4.1 20230605

CentOS Stream 8
	Kernel: 5.4.0-167-generic
	Compiler: gcc 8.5.0 20210514

Debian 12
	Kernel: Container Host Kernel
	Compiler: gcc 12.2.0

Debian Bullseye
	Kernel: 5.4.0-167-generic
	Compiler: gcc 10.2.1-6

Fedora 37
	Kernel: Depends on container host system
	Compiler: gcc 12.3.1

Fedora 38
	Kernel: Depends on container host
	Compiler: gcc 13.2.1

Fedora 39
	Kernel: Depends on container host
	Compiler: gcc 13.2.1

Fedora 40
	Kernel: Depends on container host
	Compiler: gcc 14.1.1

Fedora 38 (Clang)
	Kernel: Depends on container host
	Compiler: clang 16.0.6

RHEL8
	Kernel: 5.4.0-167-generic
	Compiler: gcc 8.5.0 20210514 (Red Hat 8.5.0-20)

openSUSE Leap 15
	Kernel: 5.4.0-167-generic
	Compiler: gcc 7.5.0

To view detailed results, visit:
https://lab.dpdk.org/results/dashboard/patchsets/30324/

UNH-IOL DPDK Community Lab

To manage your email subscriptions, visit: 
https://lab.dpdk.org/results/dashboard/preferences/subscriptions/