From mboxrd@z Thu Jan  1 00:00:00 1970
Return-Path: <test-report-bounces@dpdk.org>
Received: from mails.dpdk.org (mails.dpdk.org [217.70.189.124])
	by inbox.dpdk.org (Postfix) with ESMTP id C756545509
	for <public@inbox.dpdk.org>; Thu, 27 Jun 2024 08:53:12 +0200 (CEST)
Received: from mails.dpdk.org (localhost [127.0.0.1])
	by mails.dpdk.org (Postfix) with ESMTP id BCA6040A6F;
	Thu, 27 Jun 2024 08:53:12 +0200 (CEST)
Received: from mail-pf1-f228.google.com (mail-pf1-f228.google.com
 [209.85.210.228])
 by mails.dpdk.org (Postfix) with ESMTP id 794AC4028A
 for <test-report@dpdk.org>; Thu, 27 Jun 2024 08:53:05 +0200 (CEST)
Received: by mail-pf1-f228.google.com with SMTP id
 d2e1a72fcca58-706b539fcaeso186462b3a.0
 for <test-report@dpdk.org>; Wed, 26 Jun 2024 23:53:05 -0700 (PDT)
DKIM-Signature: v=1; a=rsa-sha256; c=relaxed/relaxed;
 d=iol.unh.edu; s=unh-iol; t=1719471185; x=1720075985; darn=dpdk.org;
 h=references:in-reply-to:cc:to:from:subject:message-id:date:from:to
 :cc:subject:date:message-id:reply-to;
 bh=PgslWgTkB9yxr3I29gAoKikSAynRmvjTeWLfokY3vzI=;
 b=ByLs2EnUB8Kh/ZVPyBw6TmHXWU7LNsgPI458wXbz/fDSbGkeQzPGjRiuEKKAlouKPt
 /f1qG6ZpQNg6pKyNAqkJlQTgFZAcij21VbRFdo+WNSmJsfD9hTBCs9oHTde1h9qd3W8p
 E+gCfAwclR8nvhs6WBwGRs4TiT/WrvHTQCM6o=
X-Google-DKIM-Signature: v=1; a=rsa-sha256; c=relaxed/relaxed;
 d=1e100.net; s=20230601; t=1719471185; x=1720075985;
 h=references:in-reply-to:cc:to:from:subject:message-id:date
 :x-gm-message-state:from:to:cc:subject:date:message-id:reply-to;
 bh=PgslWgTkB9yxr3I29gAoKikSAynRmvjTeWLfokY3vzI=;
 b=LcbGOLH4DV5Iq4Va7mPzu4Cu9/s1q8sd0/I7oiM4X/akuN45MvJOVabGQwhDD7SMnS
 8+t8V22HPp9IpGWYsBtNYtzGqC5GfjEzy7iClLnlZwwUN3M/aHWbk+bdMRoizotWpQhB
 lM3Pvh7SxeX1nvcO88OoIhqnx04SQvARkx/urWQU/QK6n9AV8XfNDSI+wteHUaW0Bs48
 ZDih4M1nVFrj/YC7koe3jo+zXzE+UQoFXbdbamFGsJHovrDAJ6nCAwXdT06VL61YOgEH
 sXDIJg6Y9lXwCMArbJXrxHkLn6hdvPhEobIF96QrZWVj04mkEvADgzXmpUYTJubW7Tcz
 QzLw==
X-Gm-Message-State: AOJu0Yx9j1NsraBNrq3ENTn27mrC5Xk9/lf/O3DHGjXG8hwpbZ59EK6c
 jINdy2UoAEwdLvIi+VVBKYeIEy3wEzTVogZ2dsUqGkgxw3DMLINW93BUBC1vLSXT7x1XOa8AFyN
 KMHGSb0qSXUY6A5xBZEwldLJiDGMn6wQ9PGRdaK+c
X-Google-Smtp-Source: AGHT+IFYQvSVKfUIhNcV+rw2DEuf0iOnMr4jCALHLeNN+zrrJrkxVG/VoHPwFwjISrQXrwSzig1vsbc+kKCb
X-Received: by 2002:a05:6a20:1595:b0:1b8:4486:fb74 with SMTP id
 adf61e73a8af0-1bece787617mr1657767637.25.1719471184676; 
 Wed, 26 Jun 2024 23:53:04 -0700 (PDT)
Received: from postal.iol.unh.edu (postal.iol.unh.edu. [132.177.123.84])
 by smtp-relay.gmail.com with ESMTPS id
 d2e1a72fcca58-706b48fceffsm21937b3a.11.2024.06.26.23.53.04
 (version=TLS1_2 cipher=ECDHE-ECDSA-AES128-GCM-SHA256 bits=128/128);
 Wed, 26 Jun 2024 23:53:04 -0700 (PDT)
X-Relaying-Domain: iol.unh.edu
Date: Wed, 26 Jun 2024 23:53:04 -0700 (PDT)
Message-ID: <667d0c50.050a0220.fb8ce.1af8SMTPIN_ADDED_MISSING@mx.google.com>
Received: from [172.21.0.8] (unknown [172.18.0.240])
 by postal.iol.unh.edu (Postfix) with ESMTP id CD393605C373;
 Thu, 27 Jun 2024 02:53:03 -0400 (EDT)
Subject: |SUCCESS| pw141883-141890 [PATCH] [v3,8/8] net/mlx5: add async flow 
From: dpdklab@iol.unh.edu
To: Test Report <test-report@dpdk.org>
Cc: dpdk-test-reports@iol.unh.edu
In-Reply-To: <20240626181428.1678402-9-dsosnowski@nvidia.com>
References: <20240626181428.1678402-9-dsosnowski@nvidia.com>
Content-Type: text/plain
X-BeenThere: test-report@dpdk.org
X-Mailman-Version: 2.1.29
Precedence: list
List-Id: automatic DPDK test reports <test-report.dpdk.org>
List-Unsubscribe: <https://mails.dpdk.org/options/test-report>,
 <mailto:test-report-request@dpdk.org?subject=unsubscribe>
List-Archive: <http://mails.dpdk.org/archives/test-report/>
List-Post: <mailto:test-report@dpdk.org>
List-Help: <mailto:test-report-request@dpdk.org?subject=help>
List-Subscribe: <https://mails.dpdk.org/listinfo/test-report>,
 <mailto:test-report-request@dpdk.org?subject=subscribe>
Errors-To: test-report-bounces@dpdk.org

Test-Label: iol-compile-amd64-testing
Test-Status: SUCCESS
http://dpdk.org/patch/141890

_Testing PASS_

Submitter: Dariusz Sosnowski <dsosnowski@nvidia.com>
Date: Wednesday, June 26 2024 18:14:28 
DPDK git baseline: Repo:dpdk
  Branch: master
  CommitID:4a44d97f0a52a76258c6a6cb6a713f4380a8ab1f

141883-141890 --> testing pass

Test environment and result as below:

+---------------------+--------------------+----------------------+-------------------+------------------+-------------------+
|     Environment     | dpdk_meson_compile | dpdk_mingw64_compile | dpdk_msvc_compile | dpdk_compile_ovs | dpdk_compile_spdk |
+=====================+====================+======================+===================+==================+===================+
| FreeBSD 13.3        | PASS               | SKIPPED              | SKIPPED           | SKIPPED          | SKIPPED           |
+---------------------+--------------------+----------------------+-------------------+------------------+-------------------+
| Windows Server 2019 | PASS               | PASS                 | SKIPPED           | SKIPPED          | SKIPPED           |
+---------------------+--------------------+----------------------+-------------------+------------------+-------------------+
| FreeBSD 14.1        | PASS               | SKIPPED              | SKIPPED           | SKIPPED          | SKIPPED           |
+---------------------+--------------------+----------------------+-------------------+------------------+-------------------+
| Windows Server 2022 | PASS               | PASS                 | PASS              | SKIPPED          | SKIPPED           |
+---------------------+--------------------+----------------------+-------------------+------------------+-------------------+
| CentOS Stream 8     | PASS               | SKIPPED              | SKIPPED           | PASS             | PASS              |
+---------------------+--------------------+----------------------+-------------------+------------------+-------------------+
| CentOS Stream 9     | PASS               | SKIPPED              | SKIPPED           | PASS             | PASS              |
+---------------------+--------------------+----------------------+-------------------+------------------+-------------------+
| Debian 12           | PASS               | SKIPPED              | SKIPPED           | PASS             | PASS              |
+---------------------+--------------------+----------------------+-------------------+------------------+-------------------+


FreeBSD 13.3
	Kernel: 13.3-RELEASE-p1
	Compiler: clang 17.0.6

Windows Server 2019
	Kernel: 10.0.17763
	Compiler: clang 14.0 and gcc 8.1.0 (MinGW)

FreeBSD 14.1
	Kernel: 14.1
	Compiler: clang 18.1.5

Windows Server 2022
	Kernel: 10.0.20348.2031
	Compiler: clang 15.0.7, gcc 8.1.0 (MinGW), and MSVC VS 17.9

CentOS Stream 8
	Kernel: 5.4.0-167-generic
	Compiler: gcc 8.5.0 20210514

CentOS Stream 9
	Kernel: 5.4.0-167-generic
	Compiler: gcc 11.4.1 20230605

Debian 12
	Kernel: Container Host Kernel
	Compiler: gcc 12.2.0

To view detailed results, visit:
https://lab.dpdk.org/results/dashboard/patchsets/30327/

UNH-IOL DPDK Community Lab

To manage your email subscriptions, visit: 
https://lab.dpdk.org/results/dashboard/preferences/subscriptions/