From mboxrd@z Thu Jan  1 00:00:00 1970
Return-Path: <test-report-bounces@dpdk.org>
Received: from mails.dpdk.org (mails.dpdk.org [217.70.189.124])
	by inbox.dpdk.org (Postfix) with ESMTP id 5959545509
	for <public@inbox.dpdk.org>; Thu, 27 Jun 2024 09:07:19 +0200 (CEST)
Received: from mails.dpdk.org (localhost [127.0.0.1])
	by mails.dpdk.org (Postfix) with ESMTP id 5803940A6F;
	Thu, 27 Jun 2024 09:07:19 +0200 (CEST)
Received: from mail-pj1-f97.google.com (mail-pj1-f97.google.com
 [209.85.216.97]) by mails.dpdk.org (Postfix) with ESMTP id 17C954028A
 for <test-report@dpdk.org>; Thu, 27 Jun 2024 09:07:09 +0200 (CEST)
Received: by mail-pj1-f97.google.com with SMTP id
 98e67ed59e1d1-2c7b3c513f9so5771987a91.3
 for <test-report@dpdk.org>; Thu, 27 Jun 2024 00:07:09 -0700 (PDT)
DKIM-Signature: v=1; a=rsa-sha256; c=relaxed/relaxed;
 d=iol.unh.edu; s=unh-iol; t=1719472028; x=1720076828; darn=dpdk.org;
 h=references:in-reply-to:cc:to:from:subject:message-id:date:from:to
 :cc:subject:date:message-id:reply-to;
 bh=G3Z7mNTO+g4djJqlP5MU1fm38GPyuP8+v5kKE1IU7N0=;
 b=CiZNysGN9TIq+LPTcCu73038bTpRzd4bWycudIGtX9ItDJr8wRfgQ8tmX3U1MEWDNF
 eFnrQq3mwlGQrEmQQNINgRX666628ynAtpYjZiNfZ7hQdeu0ZCr7D04EoT7191UOrUL8
 aI7KLemAinRhXvFpFgvQnRQrRno3JzkFLqpf8=
X-Google-DKIM-Signature: v=1; a=rsa-sha256; c=relaxed/relaxed;
 d=1e100.net; s=20230601; t=1719472028; x=1720076828;
 h=references:in-reply-to:cc:to:from:subject:message-id:date
 :x-gm-message-state:from:to:cc:subject:date:message-id:reply-to;
 bh=G3Z7mNTO+g4djJqlP5MU1fm38GPyuP8+v5kKE1IU7N0=;
 b=eDRAVNAW60I33hJHTMybHmMmmfr6b7QLfWw2JsCeCRng7XXNAQCF+9sMRFf9DzhLbX
 KN5uTjutXj7T1ta7VcBOO3rSaESFAyKM7wKC733llMJkTLRVKipQwzsMp22CchD38Fqp
 fBYXEybEpoZoBnCM+i8YyHDRL7eBxZAm4mmln4WpOKHjBfnMU/D0TUXD20vU6S0kh/ON
 X5/iBpm3z7j333wMxIHti0lubi2LuI06zWfdjls6zsC8uaPU15k7S2mF7H8lsFumojTh
 67YXSmX3bYlq/lRSK9TjYuGp8rXKfjKNtISwo+lpH0wYc//b4Mwh2LNO4d7IUVuaZdfc
 +gnA==
X-Gm-Message-State: AOJu0YztwNS9PWPlgajGLkvJGJLILTzGrY3UXPy6j2p4M9DNoMT+zoDH
 g8/MobnNpPKqZc0Sl5ACe16nZGH907On0v5Uw4qOdsWo/a6fGT1AaF5f4izbcDujPLBC2U/CfQ3
 5OvPbKMADLVW1w/qA5lWpnVYEHQqclK3d0nhQVk0m
X-Google-Smtp-Source: AGHT+IEPJ410f7oxEs8zK0i4v1mps4OSFP6VPs8kkkBHVrtx1BVbYccivgJ/eLPFPsoHlwzZqWca54mQEg2M
X-Received: by 2002:a17:90a:4e08:b0:2c8:7897:eb46 with SMTP id
 98e67ed59e1d1-2c87897ec8emr9299009a91.37.1719472028262; 
 Thu, 27 Jun 2024 00:07:08 -0700 (PDT)
Received: from postal.iol.unh.edu (postal.iol.unh.edu. [132.177.123.84])
 by smtp-relay.gmail.com with ESMTPS id
 98e67ed59e1d1-2c8fdc8ce8dsm33681a91.0.2024.06.27.00.07.08
 (version=TLS1_2 cipher=ECDHE-ECDSA-AES128-GCM-SHA256 bits=128/128);
 Thu, 27 Jun 2024 00:07:08 -0700 (PDT)
X-Relaying-Domain: iol.unh.edu
Date: Thu, 27 Jun 2024 00:07:08 -0700 (PDT)
Message-ID: <667d0f9c.170a0220.3f3d6.27e3SMTPIN_ADDED_MISSING@mx.google.com>
Received: from [172.21.0.6] (unknown [172.18.0.240])
 by postal.iol.unh.edu (Postfix) with ESMTP id 73DE7605C373;
 Thu, 27 Jun 2024 03:07:07 -0400 (EDT)
Subject: |SUCCESS| pw141891-141910 [PATCH] [v4,23/23] net/ntnic: add GMF (Gen
From: dpdklab@iol.unh.edu
To: Test Report <test-report@dpdk.org>
Cc: dpdk-test-reports@iol.unh.edu
In-Reply-To: <20240626195545.1793419-23-sil-plv@napatech.com>
References: <20240626195545.1793419-23-sil-plv@napatech.com>
Content-Type: text/plain
X-BeenThere: test-report@dpdk.org
X-Mailman-Version: 2.1.29
Precedence: list
List-Id: automatic DPDK test reports <test-report.dpdk.org>
List-Unsubscribe: <https://mails.dpdk.org/options/test-report>,
 <mailto:test-report-request@dpdk.org?subject=unsubscribe>
List-Archive: <http://mails.dpdk.org/archives/test-report/>
List-Post: <mailto:test-report@dpdk.org>
List-Help: <mailto:test-report-request@dpdk.org?subject=help>
List-Subscribe: <https://mails.dpdk.org/listinfo/test-report>,
 <mailto:test-report-request@dpdk.org?subject=subscribe>
Errors-To: test-report-bounces@dpdk.org

Test-Label: iol-unit-amd64-testing
Test-Status: SUCCESS
http://dpdk.org/patch/141910

_Testing PASS_

Submitter: Serhii Iliushyk <sil-plv@napatech.com>
Date: Wednesday, June 26 2024 19:55:33 
DPDK git baseline: Repo:dpdk
  Branch: master
  CommitID:fbba6db3640f9f623c29c452e1a6b057073e81d2

141891-141910 --> testing pass

Test environment and result as below:

+-------------------+----------------+
|    Environment    | dpdk_unit_test |
+===================+================+
| Debian Bullseye   | PASS           |
+-------------------+----------------+
| CentOS Stream 9   | PASS           |
+-------------------+----------------+
| CentOS Stream 8   | PASS           |
+-------------------+----------------+
| Fedora 38         | PASS           |
+-------------------+----------------+
| Fedora 37         | PASS           |
+-------------------+----------------+
| Fedora 38 (Clang) | PASS           |
+-------------------+----------------+
| Fedora 39 (Clang) | PASS           |
+-------------------+----------------+
| Fedora 39         | PASS           |
+-------------------+----------------+
| openSUSE Leap 15  | PASS           |
+-------------------+----------------+
| Fedora 40         | PASS           |
+-------------------+----------------+
| RHEL8             | PASS           |
+-------------------+----------------+
| Ubuntu 20.04      | PASS           |
+-------------------+----------------+
| RHEL9             | PASS           |
+-------------------+----------------+
| Ubuntu 24.04      | PASS           |
+-------------------+----------------+
| Fedora 40 (Clang) | PASS           |
+-------------------+----------------+
| Debian 12         | PASS           |
+-------------------+----------------+
| Ubuntu 22.04      | PASS           |
+-------------------+----------------+


Debian Bullseye
	Kernel: 5.4.0-167-generic
	Compiler: gcc 10.2.1-6

CentOS Stream 9
	Kernel: 5.4.0-167-generic
	Compiler: gcc 11.4.1 20230605

CentOS Stream 8
	Kernel: 5.4.0-167-generic
	Compiler: gcc 8.5.0 20210514

Fedora 38
	Kernel: Depends on container host
	Compiler: gcc 13.2.1

Fedora 37
	Kernel: Depends on container host system
	Compiler: gcc 12.3.1

Fedora 38 (Clang)
	Kernel: Depends on container host
	Compiler: clang 16.0.6

Fedora 39 (Clang)
	Kernel: Depends on container host
	Compiler: clang 17.0.6

Fedora 39
	Kernel: Depends on container host
	Compiler: gcc 13.2.1

openSUSE Leap 15
	Kernel: 5.4.0-167-generic
	Compiler: gcc 7.5.0

Fedora 40
	Kernel: Depends on container host
	Compiler: gcc 14.1.1

RHEL8
	Kernel: 5.4.0-167-generic
	Compiler: gcc 8.5.0 20210514 (Red Hat 8.5.0-20)

Ubuntu 20.04
	Kernel: 5.4.0-167-generic
	Compiler: gcc 9.4.0-1ubuntu1~20.04.1

RHEL9
	Kernel: Depends on container host
	Compiler: gcc 11.4.1

Ubuntu 24.04
	Kernel: 5.4.0-167-generic
	Compiler: gcc 13.2.0

Fedora 40 (Clang)
	Kernel: Depends on container host
	Compiler: clang 18.1.6

Debian 12
	Kernel: Container Host Kernel
	Compiler: gcc 12.2.0

Ubuntu 22.04
	Kernel: 5.4.0-167-generic
	Compiler: gcc 11.4.0

To view detailed results, visit:
https://lab.dpdk.org/results/dashboard/patchsets/30328/

UNH-IOL DPDK Community Lab

To manage your email subscriptions, visit: 
https://lab.dpdk.org/results/dashboard/preferences/subscriptions/