From mboxrd@z Thu Jan  1 00:00:00 1970
Return-Path: <test-report-bounces@dpdk.org>
Received: from mails.dpdk.org (mails.dpdk.org [217.70.189.124])
	by inbox.dpdk.org (Postfix) with ESMTP id 0716745509
	for <public@inbox.dpdk.org>; Thu, 27 Jun 2024 09:18:08 +0200 (CEST)
Received: from mails.dpdk.org (localhost [127.0.0.1])
	by mails.dpdk.org (Postfix) with ESMTP id E457C406A2;
	Thu, 27 Jun 2024 09:18:07 +0200 (CEST)
Received: from mail-qv1-f99.google.com (mail-qv1-f99.google.com
 [209.85.219.99]) by mails.dpdk.org (Postfix) with ESMTP id 3DAB340697
 for <test-report@dpdk.org>; Thu, 27 Jun 2024 09:18:06 +0200 (CEST)
Received: by mail-qv1-f99.google.com with SMTP id
 6a1803df08f44-6b5932383e0so2258256d6.0
 for <test-report@dpdk.org>; Thu, 27 Jun 2024 00:18:06 -0700 (PDT)
DKIM-Signature: v=1; a=rsa-sha256; c=relaxed/relaxed;
 d=iol.unh.edu; s=unh-iol; t=1719472685; x=1720077485; darn=dpdk.org;
 h=references:in-reply-to:cc:to:from:subject:message-id:date:from:to
 :cc:subject:date:message-id:reply-to;
 bh=i113j0RtWsjyEMa3NMvkY6xrgQQg3HSGxVyYea7BiDU=;
 b=Ks4ugdpvwLd9gvaLSJDSrwPz5uInhNQOSD7Do1px5lD+aNgOK6s9KKmAhGu+OU5jB5
 y2dbI4c7WXgFklXl/3F55xU5iT3401VPrbrnCl5UPKjTAe7tyFQJ8BQwbH5uZNswDmGG
 A25Gq+PyqEU4V+sc7TFSrt2DceCkOO9sy3g2o=
X-Google-DKIM-Signature: v=1; a=rsa-sha256; c=relaxed/relaxed;
 d=1e100.net; s=20230601; t=1719472685; x=1720077485;
 h=references:in-reply-to:cc:to:from:subject:message-id:date
 :x-gm-message-state:from:to:cc:subject:date:message-id:reply-to;
 bh=i113j0RtWsjyEMa3NMvkY6xrgQQg3HSGxVyYea7BiDU=;
 b=OxUMwiUe3Uz8P02w5GvxeLFJCj9apNNe4NN31+ZtqQSH4CLp1NBpwkooXwm4r1LSQ9
 IGfSo3VBmj3B9WeJd7dvBneAjvQURIcTwS+4y0cPz329fWFXjE5ditR9mo3A/Hu2UniR
 3DyyJVES7HL5qgEF4f7Wz0E1tRmn7K+YtE5MCtBYDDtWpTHXK6yBYKR9EIntRyo+tRyV
 slO36dxbRnu8olahzDuhoNZrBhwzA3qHaw92HNrB2HvCxPT7sT7pLwlvm/jx0cCr839V
 hsbdnikWzSZjM3m1Ml+ikYYVwr+IYaQwIIHAqqHsVtlOn4CcVZLd5C3JMG2FZLOyTY3w
 KMYQ==
X-Gm-Message-State: AOJu0Ywwsr1cfeTbvgTEAPxGdIW9oVwFxEwRhhAOJrn6RIo5gs1fA9Sh
 BnUXLr7BVN+ze6TARKfDoCji33DdTOPl8CC+BC+0f5BPHyZrdqYvEc8u5M0tPTL6cTDg4zPFloV
 VpikzK6QXDQL4g8WmuToavPUuybKhbJ9WD3IOwK5E
X-Google-Smtp-Source: AGHT+IEBL2fG7skXbJm26x9o+8saNPTM+y4cqK20XIfSgrXHQkpPMC2MaZC6bhBP9z9WtSkyZnoPv+Ytu2Uq
X-Received: by 2002:a05:6214:238d:b0:6b5:fb9:4899 with SMTP id
 6a1803df08f44-6b593174996mr13268696d6.3.1719472685568; 
 Thu, 27 Jun 2024 00:18:05 -0700 (PDT)
Received: from postal.iol.unh.edu (postal.iol.unh.edu. [132.177.123.84])
 by smtp-relay.gmail.com with ESMTPS id
 6a1803df08f44-6b5927035d8sm310676d6.65.2024.06.27.00.18.05
 (version=TLS1_2 cipher=ECDHE-ECDSA-AES128-GCM-SHA256 bits=128/128);
 Thu, 27 Jun 2024 00:18:05 -0700 (PDT)
X-Relaying-Domain: iol.unh.edu
Date: Thu, 27 Jun 2024 00:18:05 -0700 (PDT)
Message-ID: <667d122d.d40a0220.990de.2e64SMTPIN_ADDED_MISSING@mx.google.com>
Received: from [172.21.0.7] (unknown [172.18.0.240])
 by postal.iol.unh.edu (Postfix) with ESMTP id 44B21605C373;
 Thu, 27 Jun 2024 03:18:05 -0400 (EDT)
Subject: |SUCCESS| pw141883-141890 [PATCH] [v3,8/8] net/mlx5: add async flow 
From: dpdklab@iol.unh.edu
To: Test Report <test-report@dpdk.org>
Cc: dpdk-test-reports@iol.unh.edu
In-Reply-To: <20240626181428.1678402-9-dsosnowski@nvidia.com>
References: <20240626181428.1678402-9-dsosnowski@nvidia.com>
Content-Type: text/plain
X-BeenThere: test-report@dpdk.org
X-Mailman-Version: 2.1.29
Precedence: list
List-Id: automatic DPDK test reports <test-report.dpdk.org>
List-Unsubscribe: <https://mails.dpdk.org/options/test-report>,
 <mailto:test-report-request@dpdk.org?subject=unsubscribe>
List-Archive: <http://mails.dpdk.org/archives/test-report/>
List-Post: <mailto:test-report@dpdk.org>
List-Help: <mailto:test-report-request@dpdk.org?subject=help>
List-Subscribe: <https://mails.dpdk.org/listinfo/test-report>,
 <mailto:test-report-request@dpdk.org?subject=subscribe>
Errors-To: test-report-bounces@dpdk.org

Test-Label: iol-compile-arm64-testing
Test-Status: SUCCESS
http://dpdk.org/patch/141890

_Testing PASS_

Submitter: Dariusz Sosnowski <dsosnowski@nvidia.com>
Date: Wednesday, June 26 2024 18:14:28 
DPDK git baseline: Repo:dpdk
  Branch: master
  CommitID:4a44d97f0a52a76258c6a6cb6a713f4380a8ab1f

141883-141890 --> testing pass

Test environment and result as below:

+----------------------------------------+--------------------+
|              Environment               | dpdk_meson_compile |
+========================================+====================+
| Ubuntu 20.04 ARM SVE                   | PASS               |
+----------------------------------------+--------------------+
| Debian 12 with MUSDK                   | PASS               |
+----------------------------------------+--------------------+
| Fedora 37 (ARM)                        | PASS               |
+----------------------------------------+--------------------+
| Fedora 38 (ARM)                        | PASS               |
+----------------------------------------+--------------------+
| Fedora 39 (ARM)                        | PASS               |
+----------------------------------------+--------------------+
| Fedora 40 (ARM)                        | PASS               |
+----------------------------------------+--------------------+
| Ubuntu 20.04 (ARM)                     | PASS               |
+----------------------------------------+--------------------+
| Ubuntu 22.04 (ARM)                     | PASS               |
+----------------------------------------+--------------------+
| Ubuntu 20.04 aarch32 GCC Cross Compile | PASS               |
+----------------------------------------+--------------------+
| Ubuntu 24.04 (ARM)                     | PASS               |
+----------------------------------------+--------------------+
| CentOS Stream 9 (ARM)                  | PASS               |
+----------------------------------------+--------------------+
| Debian 11 (Buster) (ARM)               | PASS               |
+----------------------------------------+--------------------+


Ubuntu 20.04 ARM SVE
	Kernel: 5.4.0-167-generic
	Compiler: gcc (Ubuntu 10.5.0-1ubuntu1~20.04) 10.5.0

Debian 12 with MUSDK
	Kernel: Container Host Kernel
	Compiler: gcc 12.2.0

Fedora 37 (ARM)
	Kernel: Depends on container host
	Compiler: gcc 12.3.1

Fedora 38 (ARM)
	Kernel: Depends on container host
	Compiler: gcc 13.2.1

Fedora 39 (ARM)
	Kernel: Depends on container host
	Compiler: gcc 13.2.1

Fedora 40 (ARM)
	Kernel: Depends on container host
	Compiler: gcc 14.1.1

Ubuntu 20.04 (ARM)
	Kernel: Container Host Kernel
	Compiler: gcc 9.4.0

Ubuntu 22.04 (ARM)
	Kernel: Container Host Kernel
	Compiler: gcc 11.4.0

Ubuntu 20.04 aarch32 GCC Cross Compile
	Kernel: 5.4.0-167-generic
	Compiler: gcc 9.4.0

Ubuntu 24.04 (ARM)
	Kernel: 5.4.0-167-generic
	Compiler: gcc 13.2.0

CentOS Stream 9 (ARM)
	Kernel: Container Host Kernel
	Compiler: gcc 11.4.1

Debian 11 (Buster) (ARM)
	Kernel: Container Host Kernel
	Compiler: gcc 10.2.1

To view detailed results, visit:
https://lab.dpdk.org/results/dashboard/patchsets/30327/

UNH-IOL DPDK Community Lab

To manage your email subscriptions, visit: 
https://lab.dpdk.org/results/dashboard/preferences/subscriptions/