From mboxrd@z Thu Jan  1 00:00:00 1970
Return-Path: <test-report-bounces@dpdk.org>
Received: from mails.dpdk.org (mails.dpdk.org [217.70.189.124])
	by inbox.dpdk.org (Postfix) with ESMTP id 73BC945509
	for <public@inbox.dpdk.org>; Thu, 27 Jun 2024 09:29:53 +0200 (CEST)
Received: from mails.dpdk.org (localhost [127.0.0.1])
	by mails.dpdk.org (Postfix) with ESMTP id 6E9EB406A2;
	Thu, 27 Jun 2024 09:29:53 +0200 (CEST)
Received: from mail-yb1-f227.google.com (mail-yb1-f227.google.com
 [209.85.219.227])
 by mails.dpdk.org (Postfix) with ESMTP id F0D5840697
 for <test-report@dpdk.org>; Thu, 27 Jun 2024 09:29:52 +0200 (CEST)
Received: by mail-yb1-f227.google.com with SMTP id
 3f1490d57ef6-e02c4983f3bso7695647276.3
 for <test-report@dpdk.org>; Thu, 27 Jun 2024 00:29:52 -0700 (PDT)
DKIM-Signature: v=1; a=rsa-sha256; c=relaxed/relaxed;
 d=iol.unh.edu; s=unh-iol; t=1719473392; x=1720078192; darn=dpdk.org;
 h=references:in-reply-to:cc:to:from:subject:message-id:date:from:to
 :cc:subject:date:message-id:reply-to;
 bh=zP2GvDzI7ICHDDx8M3Ssj5AJlIj/7Nqb6yaa13eGMPM=;
 b=XE0L1HhDydAOiVRp4zY/+eJyRxVHNOZ15kScG9RNjL/n6WpSr16wxt7rNP1VV3BNj6
 Lp0C2RX1+yWyaYAFtcj9vkQ5McAcR2haKetG/mj5LWAzrPpJOTF8fuJRhBGqSeUODWH5
 ZfjzZAXN4aARRfa8CBquMfgxGrtleqJ+yf2Aw=
X-Google-DKIM-Signature: v=1; a=rsa-sha256; c=relaxed/relaxed;
 d=1e100.net; s=20230601; t=1719473392; x=1720078192;
 h=references:in-reply-to:cc:to:from:subject:message-id:date
 :x-gm-message-state:from:to:cc:subject:date:message-id:reply-to;
 bh=zP2GvDzI7ICHDDx8M3Ssj5AJlIj/7Nqb6yaa13eGMPM=;
 b=Z4BxHzOCUpbGzJUaUcHv6LeTL3rJMYN8qKse20rX3zJgC60eqfKrGVNhMQ/5C13j6S
 mDuaVj63prBNLPpWpmkdvoSvhGchOy30pcejU8XHbpVZvRgw0m2qfR0Ndd5LT8pEuK+m
 W/2ZJnDuVOVmQ/YhsdMkN8BC3F6XKQ11qr0OELzmLl/3uLYOeWQ+KyFTQUYGC6TEpH5h
 kpkv6Cmj/qG7HrSjulGqaRLT43I0UlDuFg4oWYLkEXjFr0XybrpwH8IVW21AKP/q+hfz
 FZh+p8/RqJAOM3WQdzkdl6wn2+zQjCQBDKcYESlzbnMrymMc3VH+7mGMKXZkHOlc6GPh
 hSEw==
X-Gm-Message-State: AOJu0Yz4/26DshNDHFfqz8+ykKBw2MMhuRYO3b1eS3CEFzdmfgykoSK1
 LQWSYxSI83t87vOVaHTjA1npoNuoEu+X2OFE1ZSAQntZKWqbJxKjX46YrK8rd64yLA8ew9XQ+El
 5mdVzXlTzDMi8vopub72OQAL9c43+ncv725sSGLw/Z2BwEjkYJkEZ+bi4
X-Google-Smtp-Source: AGHT+IFMvJ1iNHQlK/bIhL2mmTZwym6vl2Ks3ksPV0DY/VELV0bnYuVhfcpE+0ZRkPX2Dh8usNbn9t2q3EZ+
X-Received: by 2002:a25:8187:0:b0:dfa:499d:7a6f with SMTP id
 3f1490d57ef6-e03454d3633mr1438861276.26.1719473392271; 
 Thu, 27 Jun 2024 00:29:52 -0700 (PDT)
Received: from postal.iol.unh.edu (postal.iol.unh.edu.
 [2606:4100:3880:1234::84]) by smtp-relay.gmail.com with ESMTPS id
 3f1490d57ef6-e0345b42645sm32357276.6.2024.06.27.00.29.52
 (version=TLS1_2 cipher=ECDHE-ECDSA-AES128-GCM-SHA256 bits=128/128);
 Thu, 27 Jun 2024 00:29:52 -0700 (PDT)
X-Relaying-Domain: iol.unh.edu
Date: Thu, 27 Jun 2024 00:29:52 -0700 (PDT)
Message-ID: <667d14f0.050a0220.10fd3.24fbSMTPIN_ADDED_MISSING@mx.google.com>
Received: from [172.21.0.8] (unknown [172.18.0.240])
 by postal.iol.unh.edu (Postfix) with ESMTP id DC97D605C373;
 Thu, 27 Jun 2024 03:29:51 -0400 (EDT)
Subject: |SUCCESS| pw141883-141890 [PATCH] [v3,8/8] net/mlx5: add async flow 
From: dpdklab@iol.unh.edu
To: Test Report <test-report@dpdk.org>
Cc: dpdk-test-reports@iol.unh.edu
In-Reply-To: <20240626181428.1678402-9-dsosnowski@nvidia.com>
References: <20240626181428.1678402-9-dsosnowski@nvidia.com>
Content-Type: text/plain
X-BeenThere: test-report@dpdk.org
X-Mailman-Version: 2.1.29
Precedence: list
List-Id: automatic DPDK test reports <test-report.dpdk.org>
List-Unsubscribe: <https://mails.dpdk.org/options/test-report>,
 <mailto:test-report-request@dpdk.org?subject=unsubscribe>
List-Archive: <http://mails.dpdk.org/archives/test-report/>
List-Post: <mailto:test-report@dpdk.org>
List-Help: <mailto:test-report-request@dpdk.org?subject=help>
List-Subscribe: <https://mails.dpdk.org/listinfo/test-report>,
 <mailto:test-report-request@dpdk.org?subject=subscribe>
Errors-To: test-report-bounces@dpdk.org

Test-Label: iol-compile-arm64-testing
Test-Status: SUCCESS
http://dpdk.org/patch/141890

_Testing PASS_

Submitter: Dariusz Sosnowski <dsosnowski@nvidia.com>
Date: Wednesday, June 26 2024 18:14:28 
DPDK git baseline: Repo:dpdk
  Branch: master
  CommitID:4a44d97f0a52a76258c6a6cb6a713f4380a8ab1f

141883-141890 --> testing pass

Test environment and result as below:

+----------------------------------------+--------------------+
|              Environment               | dpdk_meson_compile |
+========================================+====================+
| Ubuntu 20.04 ARM SVE                   | PASS               |
+----------------------------------------+--------------------+
| Debian 12 with MUSDK                   | PASS               |
+----------------------------------------+--------------------+
| Fedora 37 (ARM)                        | PASS               |
+----------------------------------------+--------------------+
| Fedora 38 (ARM)                        | PASS               |
+----------------------------------------+--------------------+
| Fedora 39 (ARM)                        | PASS               |
+----------------------------------------+--------------------+
| Fedora 40 (ARM)                        | PASS               |
+----------------------------------------+--------------------+
| Ubuntu 20.04 (ARM)                     | PASS               |
+----------------------------------------+--------------------+
| Ubuntu 22.04 (ARM)                     | PASS               |
+----------------------------------------+--------------------+
| Ubuntu 20.04 aarch32 GCC Cross Compile | PASS               |
+----------------------------------------+--------------------+
| Ubuntu 24.04 (ARM)                     | PASS               |
+----------------------------------------+--------------------+
| CentOS Stream 9 (ARM)                  | PASS               |
+----------------------------------------+--------------------+
| Debian 11 (Buster) (ARM)               | PASS               |
+----------------------------------------+--------------------+
| Debian 12 (arm)                        | PASS               |
+----------------------------------------+--------------------+


Ubuntu 20.04 ARM SVE
	Kernel: 5.4.0-167-generic
	Compiler: gcc (Ubuntu 10.5.0-1ubuntu1~20.04) 10.5.0

Debian 12 with MUSDK
	Kernel: Container Host Kernel
	Compiler: gcc 12.2.0

Fedora 37 (ARM)
	Kernel: Depends on container host
	Compiler: gcc 12.3.1

Fedora 38 (ARM)
	Kernel: Depends on container host
	Compiler: gcc 13.2.1

Fedora 39 (ARM)
	Kernel: Depends on container host
	Compiler: gcc 13.2.1

Fedora 40 (ARM)
	Kernel: Depends on container host
	Compiler: gcc 14.1.1

Ubuntu 20.04 (ARM)
	Kernel: Container Host Kernel
	Compiler: gcc 9.4.0

Ubuntu 22.04 (ARM)
	Kernel: Container Host Kernel
	Compiler: gcc 11.4.0

Ubuntu 20.04 aarch32 GCC Cross Compile
	Kernel: 5.4.0-167-generic
	Compiler: gcc 9.4.0

Ubuntu 24.04 (ARM)
	Kernel: 5.4.0-167-generic
	Compiler: gcc 13.2.0

CentOS Stream 9 (ARM)
	Kernel: Container Host Kernel
	Compiler: gcc 11.4.1

Debian 11 (Buster) (ARM)
	Kernel: Container Host Kernel
	Compiler: gcc 10.2.1

Debian 12 (arm)
	Kernel: Container Host Kernel
	Compiler: gcc 12.2.0

To view detailed results, visit:
https://lab.dpdk.org/results/dashboard/patchsets/30327/

UNH-IOL DPDK Community Lab

To manage your email subscriptions, visit: 
https://lab.dpdk.org/results/dashboard/preferences/subscriptions/