From mboxrd@z Thu Jan  1 00:00:00 1970
Return-Path: <test-report-bounces@dpdk.org>
Received: from mails.dpdk.org (mails.dpdk.org [217.70.189.124])
	by inbox.dpdk.org (Postfix) with ESMTP id B436F4550B
	for <public@inbox.dpdk.org>; Thu, 27 Jun 2024 10:09:18 +0200 (CEST)
Received: from mails.dpdk.org (localhost [127.0.0.1])
	by mails.dpdk.org (Postfix) with ESMTP id B1E2340E0F;
	Thu, 27 Jun 2024 10:09:18 +0200 (CEST)
Received: from mail-oo1-f98.google.com (mail-oo1-f98.google.com
 [209.85.161.98]) by mails.dpdk.org (Postfix) with ESMTP id B4C6740BA3
 for <test-report@dpdk.org>; Thu, 27 Jun 2024 10:08:32 +0200 (CEST)
Received: by mail-oo1-f98.google.com with SMTP id
 006d021491bc7-5c405dad8b6so176123eaf.2
 for <test-report@dpdk.org>; Thu, 27 Jun 2024 01:08:32 -0700 (PDT)
DKIM-Signature: v=1; a=rsa-sha256; c=relaxed/relaxed;
 d=iol.unh.edu; s=unh-iol; t=1719475712; x=1720080512; darn=dpdk.org;
 h=references:in-reply-to:cc:to:from:subject:message-id:date:from:to
 :cc:subject:date:message-id:reply-to;
 bh=Zq7mhjAqowvagnveuiqhzzmzp/xz4SKm+3Z6p60Ye8w=;
 b=CFZwSZdHiJbG9CRZ4TFcmZUmeBhYtnLwLyuE5+MciXOF9X7d5Pn/mSGC9iTQ081dqv
 UAFT3CfUhFXGBSp+JBxoZq55d1RYcGilYwhbWSjQQFps50zYHNcfWOYQ9qwEskv/VEe0
 KKuukq5sFx9oXnk1iOZx0sXKl/MkD52h2kdwE=
X-Google-DKIM-Signature: v=1; a=rsa-sha256; c=relaxed/relaxed;
 d=1e100.net; s=20230601; t=1719475712; x=1720080512;
 h=references:in-reply-to:cc:to:from:subject:message-id:date
 :x-gm-message-state:from:to:cc:subject:date:message-id:reply-to;
 bh=Zq7mhjAqowvagnveuiqhzzmzp/xz4SKm+3Z6p60Ye8w=;
 b=CRYTv2Lr7jyS0Qy7q41LQWItO8NBTgl+cVAQGZd29eZCjV6Xe3CZtl9NPTjIznoVLo
 OJgpm5GnP/e4AG2MKQhcSS1wV2i2TOZL7qjODzv7B14Ebx6W4q24qEwFrUfrf7X4xyJR
 jdVddRSXoI6/vjGRxbjVsLgIDESwAT3VtHdEydNEo72AV3F5cPy4VE/Vt9wqpW1XbykO
 LGbNTVylpxS2wHjrqDp+yqPmO6X6HaOYIEQGItNvwXeTodkuSXm+7OL/9I977HcEOIeG
 ndbTVMEqTW+1QHzH5fWA5yMSKluIlREpbsmcNF2/int0pwHC4RIM6PjuX40QWhr6spmx
 cEEw==
X-Gm-Message-State: AOJu0YyendRHHTIUey8iAQorzSpqsFyjJlcIOwy7h1x/FLJKbcFirohU
 WyJkFU2XzMzIZGOjdwcF1QackthdqEXyMfbr3s14DWTEm2HZPKCrLeMwuNuqM1n6Flqq/THcXbk
 KrCuMKJeVeAyqWIgrhJlj5PofERPmuB2Y2rU736oN
X-Google-Smtp-Source: AGHT+IGLLEogvZP9e1EWLBzvUoWX17FatYRHw5ZbMh9Mwoy2gL9ex+lHOpBVo2XpOrQP9s85Hxs8WzvjIE7k
X-Received: by 2002:a4a:634a:0:b0:5c1:a665:fbfa with SMTP id
 006d021491bc7-5c1eb9de998mr12929737eaf.2.1719475711729; 
 Thu, 27 Jun 2024 01:08:31 -0700 (PDT)
Received: from postal.iol.unh.edu (postal.iol.unh.edu. [132.177.123.84])
 by smtp-relay.gmail.com with ESMTPS id
 006d021491bc7-5c405cb4c78sm13622eaf.13.2024.06.27.01.08.31
 (version=TLS1_2 cipher=ECDHE-ECDSA-AES128-GCM-SHA256 bits=128/128);
 Thu, 27 Jun 2024 01:08:31 -0700 (PDT)
X-Relaying-Domain: iol.unh.edu
Date: Thu, 27 Jun 2024 01:08:31 -0700 (PDT)
Message-ID: <667d1dff.4a0a0220.4761a.15b8SMTPIN_ADDED_MISSING@mx.google.com>
Received: from [172.21.0.9] (unknown [172.18.0.240])
 by postal.iol.unh.edu (Postfix) with ESMTP id 20210605C373;
 Thu, 27 Jun 2024 04:08:31 -0400 (EDT)
Subject: |SUCCESS| pw141914-141915 [PATCH] [v3,2/2] cryptodev: validate crypt
From: dpdklab@iol.unh.edu
To: Test Report <test-report@dpdk.org>
Cc: dpdk-test-reports@iol.unh.edu
In-Reply-To: <20240626220028.2260003-2-ganapati.kundapura@intel.com>
References: <20240626220028.2260003-2-ganapati.kundapura@intel.com>
Content-Type: text/plain
X-BeenThere: test-report@dpdk.org
X-Mailman-Version: 2.1.29
Precedence: list
List-Id: automatic DPDK test reports <test-report.dpdk.org>
List-Unsubscribe: <https://mails.dpdk.org/options/test-report>,
 <mailto:test-report-request@dpdk.org?subject=unsubscribe>
List-Archive: <http://mails.dpdk.org/archives/test-report/>
List-Post: <mailto:test-report@dpdk.org>
List-Help: <mailto:test-report-request@dpdk.org?subject=help>
List-Subscribe: <https://mails.dpdk.org/listinfo/test-report>,
 <mailto:test-report-request@dpdk.org?subject=subscribe>
Errors-To: test-report-bounces@dpdk.org

Test-Label: iol-compile-arm64-testing
Test-Status: SUCCESS
http://dpdk.org/patch/141915

_Testing PASS_

Submitter: Kundapura, Ganapati <ganapati.kundapura@intel.com>
Date: Wednesday, June 26 2024 22:00:28 
DPDK git baseline: Repo:dpdk
  Branch: master
  CommitID:6ca8a873f715e19550fc7dd43ce94af54158a725

141914-141915 --> testing pass

Test environment and result as below:

+----------------------------------------+--------------------+
|              Environment               | dpdk_meson_compile |
+========================================+====================+
| Ubuntu 20.04 ARM SVE                   | PASS               |
+----------------------------------------+--------------------+
| Debian 12 with MUSDK                   | PASS               |
+----------------------------------------+--------------------+
| RHEL9 (ARM)                            | PASS               |
+----------------------------------------+--------------------+
| Fedora 38 (ARM)                        | PASS               |
+----------------------------------------+--------------------+
| Fedora 39 (ARM)                        | PASS               |
+----------------------------------------+--------------------+
| Fedora 37 (ARM)                        | PASS               |
+----------------------------------------+--------------------+
| Ubuntu 20.04 aarch32 GCC Cross Compile | PASS               |
+----------------------------------------+--------------------+
| Fedora 40 (ARM)                        | PASS               |
+----------------------------------------+--------------------+
| Ubuntu 20.04 (ARM)                     | PASS               |
+----------------------------------------+--------------------+
| Ubuntu 20.04 ARM GCC Cross Compile     | PASS               |
+----------------------------------------+--------------------+
| Ubuntu 20.04 ARM Clang Cross Compile   | PASS               |
+----------------------------------------+--------------------+
| Ubuntu 24.04 (ARM)                     | PASS               |
+----------------------------------------+--------------------+
| CentOS Stream 9 (ARM)                  | PASS               |
+----------------------------------------+--------------------+


Ubuntu 20.04 ARM SVE
	Kernel: 5.4.0-167-generic
	Compiler: gcc (Ubuntu 10.5.0-1ubuntu1~20.04) 10.5.0

Debian 12 with MUSDK
	Kernel: Container Host Kernel
	Compiler: gcc 12.2.0

RHEL9 (ARM)
	Kernel: Depends on container host
	Compiler: gcc 11.4.1

Fedora 38 (ARM)
	Kernel: Depends on container host
	Compiler: gcc 13.2.1

Fedora 39 (ARM)
	Kernel: Depends on container host
	Compiler: gcc 13.2.1

Fedora 37 (ARM)
	Kernel: Depends on container host
	Compiler: gcc 12.3.1

Ubuntu 20.04 aarch32 GCC Cross Compile
	Kernel: 5.4.0-167-generic
	Compiler: gcc 9.4.0

Fedora 40 (ARM)
	Kernel: Depends on container host
	Compiler: gcc 14.1.1

Ubuntu 20.04 (ARM)
	Kernel: Container Host Kernel
	Compiler: gcc 9.4.0

Ubuntu 20.04 ARM GCC Cross Compile
	Kernel: 5.4.0-167-generic
	Compiler: aarch64-linux-gnu-gcc (Ubuntu 9.4.0-1ubuntu1~20.04.2) 9.4.0

Ubuntu 20.04 ARM Clang Cross Compile
	Kernel: 5.4.0-72-generic
	Compiler: clang 10.0.0-4ubuntu1

Ubuntu 24.04 (ARM)
	Kernel: 5.4.0-167-generic
	Compiler: gcc 13.2.0

CentOS Stream 9 (ARM)
	Kernel: Container Host Kernel
	Compiler: gcc 11.4.1

To view detailed results, visit:
https://lab.dpdk.org/results/dashboard/patchsets/30329/

UNH-IOL DPDK Community Lab

To manage your email subscriptions, visit: 
https://lab.dpdk.org/results/dashboard/preferences/subscriptions/