From mboxrd@z Thu Jan  1 00:00:00 1970
Return-Path: <test-report-bounces@dpdk.org>
Received: from mails.dpdk.org (mails.dpdk.org [217.70.189.124])
	by inbox.dpdk.org (Postfix) with ESMTP id 4FD534550B
	for <public@inbox.dpdk.org>; Thu, 27 Jun 2024 14:37:28 +0200 (CEST)
Received: from mails.dpdk.org (localhost [127.0.0.1])
	by mails.dpdk.org (Postfix) with ESMTP id 795C1427E6;
	Thu, 27 Jun 2024 14:37:22 +0200 (CEST)
Received: from mail-pg1-f227.google.com (mail-pg1-f227.google.com
 [209.85.215.227])
 by mails.dpdk.org (Postfix) with ESMTP id 4011040E2B
 for <test-report@dpdk.org>; Thu, 27 Jun 2024 14:00:26 +0200 (CEST)
Received: by mail-pg1-f227.google.com with SMTP id
 41be03b00d2f7-7180e5f735bso1166070a12.0
 for <test-report@dpdk.org>; Thu, 27 Jun 2024 05:00:26 -0700 (PDT)
DKIM-Signature: v=1; a=rsa-sha256; c=relaxed/relaxed;
 d=iol.unh.edu; s=unh-iol; t=1719489625; x=1720094425; darn=dpdk.org;
 h=references:in-reply-to:cc:to:from:subject:message-id:date:from:to
 :cc:subject:date:message-id:reply-to;
 bh=RSRhv0JtfDznQS1ZUzmElSgXuV1KnyWwG2UNjvZFdyA=;
 b=QbCyFuflTKMVScMlpPgwV01iWBzMmnjZ5YkX2c+w2wgaH8bDf5YabXxIMHrZY/I/Yy
 w8BAKSrekMWolm9opUbj53iCzWJgL/45M8Mv2jV9xebFqQYalQJE2HeCINBPVJskupGo
 2bPOahUgQpCkMA7PG5RDTEfTHrWgSnbumULJI=
X-Google-DKIM-Signature: v=1; a=rsa-sha256; c=relaxed/relaxed;
 d=1e100.net; s=20230601; t=1719489625; x=1720094425;
 h=references:in-reply-to:cc:to:from:subject:message-id:date
 :x-gm-message-state:from:to:cc:subject:date:message-id:reply-to;
 bh=RSRhv0JtfDznQS1ZUzmElSgXuV1KnyWwG2UNjvZFdyA=;
 b=XW1iIWkwT2fxUeQqCmPD+S4SfuDFC2ad6QX4WQtuJBD3u1TG4bGzKp31jHTWTr30qr
 kcZWiougj81QVS5Lj8bepwoTRdxWFaGdkPHh6D+aegQnwoMtAyBMbRF/m8z0+ID/dhyF
 FND6dRh6FO2iwiv3DKwKHlMcrD2aERSUPI3ipJhUYCyIiQTb0MTdbL9LtdmXHr3VpnF1
 2RJoMQNZzdvd2J1mnQ+Xwi0UNXFbw/fWch7HQVBOtac9yj413E83VQECvocgM5MzRET5
 BcG5cTGoCdxW6qpdxEC9pisCIznj6NjrMUIMMK8wGdsmi62StXeL2KyMy/x/xuBKKrAH
 g8kg==
X-Gm-Message-State: AOJu0YyqUMzIOBRq9dwnk2gFp/lD1J5OSNOYziPCbxMAFaKgP1TlVHWP
 mi7iwCe0MODmf7Z72OlnkLqN/OUwqh8BH9Fm6+QNp/h4VIz/CsSsHCulR//62haIbCHW5FSuKzy
 /mm5irXc8ADwLF8rqi7poPkGb9FWFwGDOQXQj3JTS
X-Google-Smtp-Source: AGHT+IGlmFRfh9IqiPtI53dW0qXFAFQ8ycZbB9wn+TPQlk/vmbWVhWgFJ6n/ijVC6Nf7b65yVEU1xajeNCws
X-Received: by 2002:a17:90a:ea95:b0:2c7:d24b:57f with SMTP id
 98e67ed59e1d1-2c8fd532e05mr2396907a91.19.1719489623907; 
 Thu, 27 Jun 2024 05:00:23 -0700 (PDT)
Received: from postal.iol.unh.edu (postal.iol.unh.edu. [132.177.123.84])
 by smtp-relay.gmail.com with ESMTPS id
 98e67ed59e1d1-2c8f5b0d605sm100362a91.0.2024.06.27.05.00.23
 (version=TLS1_2 cipher=ECDHE-ECDSA-AES128-GCM-SHA256 bits=128/128);
 Thu, 27 Jun 2024 05:00:23 -0700 (PDT)
X-Relaying-Domain: iol.unh.edu
Date: Thu, 27 Jun 2024 05:00:23 -0700 (PDT)
Message-ID: <667d5457.170a0220.28599.58e7SMTPIN_ADDED_MISSING@mx.google.com>
Received: from [172.21.0.6] (unknown [172.18.0.240])
 by postal.iol.unh.edu (Postfix) with ESMTP id 06F2B605C373;
 Thu, 27 Jun 2024 08:00:23 -0400 (EDT)
Subject: |SUCCESS| pw141916 [PATCH] doc: documentation update for idxd driver
From: dpdklab@iol.unh.edu
To: Test Report <test-report@dpdk.org>
Cc: dpdk-test-reports@iol.unh.edu
In-Reply-To: <20240627044214.3046816-1-shaiq.wani@intel.com>
References: <20240627044214.3046816-1-shaiq.wani@intel.com>
Content-Type: text/plain
X-BeenThere: test-report@dpdk.org
X-Mailman-Version: 2.1.29
Precedence: list
List-Id: automatic DPDK test reports <test-report.dpdk.org>
List-Unsubscribe: <https://mails.dpdk.org/options/test-report>,
 <mailto:test-report-request@dpdk.org?subject=unsubscribe>
List-Archive: <http://mails.dpdk.org/archives/test-report/>
List-Post: <mailto:test-report@dpdk.org>
List-Help: <mailto:test-report-request@dpdk.org?subject=help>
List-Subscribe: <https://mails.dpdk.org/listinfo/test-report>,
 <mailto:test-report-request@dpdk.org?subject=subscribe>
Errors-To: test-report-bounces@dpdk.org

Test-Label: iol-unit-amd64-testing
Test-Status: SUCCESS
http://dpdk.org/patch/141916

_Testing PASS_

Submitter: Shaiq Wani <shaiq.wani@intel.com>
Date: Thursday, June 27 2024 04:42:14 
DPDK git baseline: Repo:dpdk
  Branch: master
  CommitID:c0fa83fe030771dea12e65ca1ba11174e1164774

141916 --> testing pass

Test environment and result as below:

+-------------------+----------------+
|    Environment    | dpdk_unit_test |
+===================+================+
| CentOS Stream 8   | PASS           |
+-------------------+----------------+
| CentOS Stream 9   | PASS           |
+-------------------+----------------+
| Fedora 37         | PASS           |
+-------------------+----------------+
| Debian Bullseye   | PASS           |
+-------------------+----------------+
| Debian 12         | PASS           |
+-------------------+----------------+
| Fedora 38         | PASS           |
+-------------------+----------------+
| Fedora 40         | PASS           |
+-------------------+----------------+
| Fedora 38 (Clang) | PASS           |
+-------------------+----------------+
| openSUSE Leap 15  | PASS           |
+-------------------+----------------+
| RHEL8             | PASS           |
+-------------------+----------------+
| Fedora 39 (Clang) | PASS           |
+-------------------+----------------+


CentOS Stream 8
	Kernel: 5.4.0-167-generic
	Compiler: gcc 8.5.0 20210514

CentOS Stream 9
	Kernel: 5.4.0-167-generic
	Compiler: gcc 11.4.1 20230605

Fedora 37
	Kernel: Depends on container host system
	Compiler: gcc 12.3.1

Debian Bullseye
	Kernel: 5.4.0-167-generic
	Compiler: gcc 10.2.1-6

Debian 12
	Kernel: Container Host Kernel
	Compiler: gcc 12.2.0

Fedora 38
	Kernel: Depends on container host
	Compiler: gcc 13.2.1

Fedora 40
	Kernel: Depends on container host
	Compiler: gcc 14.1.1

Fedora 38 (Clang)
	Kernel: Depends on container host
	Compiler: clang 16.0.6

openSUSE Leap 15
	Kernel: 5.4.0-167-generic
	Compiler: gcc 7.5.0

RHEL8
	Kernel: 5.4.0-167-generic
	Compiler: gcc 8.5.0 20210514 (Red Hat 8.5.0-20)

Fedora 39 (Clang)
	Kernel: Depends on container host
	Compiler: clang 17.0.6

To view detailed results, visit:
https://lab.dpdk.org/results/dashboard/patchsets/30330/

UNH-IOL DPDK Community Lab

To manage your email subscriptions, visit: 
https://lab.dpdk.org/results/dashboard/preferences/subscriptions/