From mboxrd@z Thu Jan  1 00:00:00 1970
Return-Path: <test-report-bounces@dpdk.org>
Received: from mails.dpdk.org (mails.dpdk.org [217.70.189.124])
	by inbox.dpdk.org (Postfix) with ESMTP id CDA464550B
	for <public@inbox.dpdk.org>; Thu, 27 Jun 2024 14:37:25 +0200 (CEST)
Received: from mails.dpdk.org (localhost [127.0.0.1])
	by mails.dpdk.org (Postfix) with ESMTP id 923A74278E;
	Thu, 27 Jun 2024 14:37:21 +0200 (CEST)
Received: from mail-oi1-f227.google.com (mail-oi1-f227.google.com
 [209.85.167.227])
 by mails.dpdk.org (Postfix) with ESMTP id 1114440DDB
 for <test-report@dpdk.org>; Thu, 27 Jun 2024 14:26:59 +0200 (CEST)
Received: by mail-oi1-f227.google.com with SMTP id
 5614622812f47-3d55ed47cc6so1305538b6e.2
 for <test-report@dpdk.org>; Thu, 27 Jun 2024 05:26:59 -0700 (PDT)
DKIM-Signature: v=1; a=rsa-sha256; c=relaxed/relaxed;
 d=iol.unh.edu; s=unh-iol; t=1719491218; x=1720096018; darn=dpdk.org;
 h=references:in-reply-to:cc:to:from:subject:message-id:date:from:to
 :cc:subject:date:message-id:reply-to;
 bh=s4x8ynLptLsOndDZCKD928c0/7brzU/RtnDY45OK15w=;
 b=ULR85T6UVsQnxtpci6LKE/bCquLtMICRaIZ9fUl07Ko2bUY/TLuCpS4YFHn6kkiwin
 J+3+bUY8yJjxgLZaOy5u7llgJIKFBibcVS9q4y114dKId7zVGdAesO1E4bQjQdQ2ya2K
 fpWNGMJE9Poliul6uyBUFTQLtNxD9k4pg8Oyo=
X-Google-DKIM-Signature: v=1; a=rsa-sha256; c=relaxed/relaxed;
 d=1e100.net; s=20230601; t=1719491218; x=1720096018;
 h=references:in-reply-to:cc:to:from:subject:message-id:date
 :x-gm-message-state:from:to:cc:subject:date:message-id:reply-to;
 bh=s4x8ynLptLsOndDZCKD928c0/7brzU/RtnDY45OK15w=;
 b=FD8yYWi1Gfe1dKdhX3h2H2jTqWJiBqQGOZqs+OD8kPJawdkUglCBEPB9zhSYVPjLQW
 D5TtLDn0ehxueEyGrxRUHgA90RY3M7RS/MMhEfg8t/k22dE2eoYdgF9acOLZ3dNDG7nq
 EvQkdvcXq9PFSQ2sUW8QhjWq7oxeOlI38wJ85o8az1GC9qhQ6n7WTG4EhVC+4nrxSozr
 lRq9n5KBGYQfr6zVlEZ2ofFvJaxyJFchcJvA4NXKMRoTs3c1v9gvrfELaMnPcycxdVml
 czYJQjhJEG3tiWGv92xDbb19faGB04jrgPDN8HgdBBNV/EcdXK18OLsYUqOuyuMwsCVZ
 Qs3g==
X-Gm-Message-State: AOJu0YyPWgQfxkU1zcGUN+zOzgPHdQcidCApUYewpCdXhBVd9q2iqPeC
 gPjYmSH78EKHpX8wRHKXZwXiD9/dXXM6ZpGFZTSLO2qULxXCSMYHdcjQOxZNhG/+680pigpbCWn
 4VZh4xdiBSZmtae3hDaKWL8C48+Ty2r6M1qFFCfRQhyjpdaEjGJadnMUp
X-Google-Smtp-Source: AGHT+IEDXA0qyTT5I6DmhNSZV76iU+8kSaxNN8V7taraTpHgQwJPX2q72RV54oMuxse+DE4jyX1El26vXdqP
X-Received: by 2002:a05:6870:523:b0:254:9ec6:c8cc with SMTP id
 586e51a60fabf-25d06e9898bmr13858383fac.48.1719491217948; 
 Thu, 27 Jun 2024 05:26:57 -0700 (PDT)
Received: from postal.iol.unh.edu (postal.iol.unh.edu.
 [2606:4100:3880:1234::84]) by smtp-relay.gmail.com with ESMTPS id
 586e51a60fabf-25d72b87799sm30675fac.14.2024.06.27.05.26.57
 (version=TLS1_2 cipher=ECDHE-ECDSA-AES128-GCM-SHA256 bits=128/128);
 Thu, 27 Jun 2024 05:26:57 -0700 (PDT)
X-Relaying-Domain: iol.unh.edu
Date: Thu, 27 Jun 2024 05:26:57 -0700 (PDT)
Message-ID: <667d5a91.050a0220.a9c3f.21c6SMTPIN_ADDED_MISSING@mx.google.com>
Received: from [172.21.0.8] (unknown [172.18.0.240])
 by postal.iol.unh.edu (Postfix) with ESMTP id 5353A605C373;
 Thu, 27 Jun 2024 08:26:57 -0400 (EDT)
Subject: |SUCCESS| pw141756-141758 [PATCH] [v3,3/3] test/crypto: add modex te
From: dpdklab@iol.unh.edu
To: Test Report <test-report@dpdk.org>
Cc: dpdk-test-reports@iol.unh.edu
In-Reply-To: <20240626100345.1758-4-gmuthukrishn@marvell.com>
References: <20240626100345.1758-4-gmuthukrishn@marvell.com>
Content-Type: text/plain
X-BeenThere: test-report@dpdk.org
X-Mailman-Version: 2.1.29
Precedence: list
List-Id: automatic DPDK test reports <test-report.dpdk.org>
List-Unsubscribe: <https://mails.dpdk.org/options/test-report>,
 <mailto:test-report-request@dpdk.org?subject=unsubscribe>
List-Archive: <http://mails.dpdk.org/archives/test-report/>
List-Post: <mailto:test-report@dpdk.org>
List-Help: <mailto:test-report-request@dpdk.org?subject=help>
List-Subscribe: <https://mails.dpdk.org/listinfo/test-report>,
 <mailto:test-report-request@dpdk.org?subject=subscribe>
Errors-To: test-report-bounces@dpdk.org

Test-Label: iol-sample-apps-testing
Test-Status: SUCCESS
http://dpdk.org/patch/141758

_Testing PASS_

Submitter: Gowrishankar Muthukrishnan <gmuthukrishn@marvell.com>
Date: Wednesday, June 26 2024 10:03:42 
DPDK git baseline: Repo:dpdk
  Branch: master
  CommitID:6ca8a873f715e19550fc7dd43ce94af54158a725

141756-141758 --> testing pass

Test environment and result as below:

+--------------------+----------------------+----------------------+
|    Environment     | compressdev_zlib_pmd | dpdk_fips_validation |
+====================+======================+======================+
| Ubuntu 22.04 (ARM) | PASS                 | SKIPPED              |
+--------------------+----------------------+----------------------+
| Ubuntu 22.04       | PASS                 | SKIPPED              |
+--------------------+----------------------+----------------------+
| Ubuntu 20.04       | SKIPPED              | PASS                 |
+--------------------+----------------------+----------------------+


Ubuntu 22.04 (ARM)
	Kernel: 5.15.0-97-generic
	Compiler: gcc gcc (Ubuntu 11.4.0-1ubuntu1~22.04) 11.4.0

Ubuntu 22.04
	Kernel: 5.15.0-100-generic
	Compiler: gcc gcc (Ubuntu 11.4.0-1ubuntu1~22.04) 11.4.0

Ubuntu 20.04
	Kernel: 5.4.0-167-generic
	Compiler: gcc 9.4.0-1ubuntu1~20.04.1

To view detailed results, visit:
https://lab.dpdk.org/results/dashboard/patchsets/30317/

UNH-IOL DPDK Community Lab

To manage your email subscriptions, visit: 
https://lab.dpdk.org/results/dashboard/preferences/subscriptions/