From mboxrd@z Thu Jan  1 00:00:00 1970
Return-Path: <test-report-bounces@dpdk.org>
Received: from mails.dpdk.org (mails.dpdk.org [217.70.189.124])
	by inbox.dpdk.org (Postfix) with ESMTP id 21F3E4550B
	for <public@inbox.dpdk.org>; Thu, 27 Jun 2024 15:09:56 +0200 (CEST)
Received: from mails.dpdk.org (localhost [127.0.0.1])
	by mails.dpdk.org (Postfix) with ESMTP id 1E33540E09;
	Thu, 27 Jun 2024 15:09:56 +0200 (CEST)
Received: from mail-io1-f99.google.com (mail-io1-f99.google.com
 [209.85.166.99]) by mails.dpdk.org (Postfix) with ESMTP id 07DF340BA3
 for <test-report@dpdk.org>; Thu, 27 Jun 2024 15:09:55 +0200 (CEST)
Received: by mail-io1-f99.google.com with SMTP id
 ca18e2360f4ac-7ec2d71059dso300262039f.2
 for <test-report@dpdk.org>; Thu, 27 Jun 2024 06:09:54 -0700 (PDT)
DKIM-Signature: v=1; a=rsa-sha256; c=relaxed/relaxed;
 d=iol.unh.edu; s=unh-iol; t=1719493794; x=1720098594; darn=dpdk.org;
 h=references:in-reply-to:cc:to:from:subject:message-id:date:from:to
 :cc:subject:date:message-id:reply-to;
 bh=9EjQSe5KrmKrD0zgtaQZAa7D7U/XdbFOZmXWBnGi8Dc=;
 b=C2Kv6PWtN0E9ms8Wqc1sGHjGiVI9naLF1eOvhtA+/NNBGXOoEWKp7FlhM2f42XoI4z
 YCwai0Xq9RSpolDKhuDUhXYEm24rRd5O9nvoOORqZEK35rrlQUvQzhgYSlaDUO+Sj7CY
 +Rinyfwq6h/gnFV+CijyaTt87qtAaD9WDz9pQ=
X-Google-DKIM-Signature: v=1; a=rsa-sha256; c=relaxed/relaxed;
 d=1e100.net; s=20230601; t=1719493794; x=1720098594;
 h=references:in-reply-to:cc:to:from:subject:message-id:date
 :x-gm-message-state:from:to:cc:subject:date:message-id:reply-to;
 bh=9EjQSe5KrmKrD0zgtaQZAa7D7U/XdbFOZmXWBnGi8Dc=;
 b=Lwv4tkdjvbqVAqO318mB2q/y0kAP+M2tpVa40u1YV0KiShj80QVxptxFvXKuY96M+Q
 nqS0HxFnuQm4BkfkF6TWsTAIZlmUObHZFShBLn9eBiKU1Jt4vu2iSunYajf/snIOGrtK
 AQ4t9gJdexRKh1C4Dul2wuWeOf694/9lmOtvFSOmmEc0r4+raE8T2hUfH8ILjAXxrLl9
 18l66w+9E8q0+B8H0WEa66WqnDSMx/cP962aHPHYUpfYh/p6EqNQoTFA0TysTlZb53PP
 BaI0baNcy3rG4Dp3Gv3qYG1GoCwlkWv+GY3HxQFV8Y7rh2Bw37CHUCuldr7lY2Nr/PFB
 fxmg==
X-Gm-Message-State: AOJu0YxlSIKeHjkmZUU26KzFQhMDiQ1jR6Xz2hPOUL5mkDd6B7LZnvSs
 HbHNxSvd3LLguzpu/UeDck1CxO+6QyHAujmfOY6d9w5crOlCt70XxzfqOrI4VoYiSP5B2RqEgpQ
 Lo1+5Ws1veRtUB2r743PiVMmmaNE2aKlPUG87VTcv8ut3GYabs37BTHji
X-Google-Smtp-Source: AGHT+IH3grGkDIpoPVajc9ys6VFo3zIFTMACdq3ZqJenhsO11FmlFT+obYJtx94IgN2SG1X4BoHAUWKG45J4
X-Received: by 2002:a05:6602:6b82:b0:7f3:8ff8:e3c0 with SMTP id
 ca18e2360f4ac-7f3a7507193mr1642221739f.5.1719493794148; 
 Thu, 27 Jun 2024 06:09:54 -0700 (PDT)
Received: from postal.iol.unh.edu (postal.iol.unh.edu.
 [2606:4100:3880:1234::84]) by smtp-relay.gmail.com with ESMTPS id
 ca18e2360f4ac-7f45441d743sm3357039f.10.2024.06.27.06.09.54
 (version=TLS1_2 cipher=ECDHE-ECDSA-AES128-GCM-SHA256 bits=128/128);
 Thu, 27 Jun 2024 06:09:54 -0700 (PDT)
X-Relaying-Domain: iol.unh.edu
Date: Thu, 27 Jun 2024 06:09:54 -0700 (PDT)
Message-ID: <667d64a2.050a0220.3f61b.2477SMTPIN_ADDED_MISSING@mx.google.com>
Received: from [172.17.0.4] (unknown [172.18.0.217])
 by postal.iol.unh.edu (Postfix) with ESMTP id BE360605C373;
 Thu, 27 Jun 2024 09:09:53 -0400 (EDT)
Subject: |PENDING| pw141923-141941 [PATCH] [v5,23/23] net/ntnic: add GMF (Gen
From: dpdklab@iol.unh.edu
To: Test Report <test-report@dpdk.org>
Cc: dpdk-test-reports@iol.unh.edu
In-Reply-To: <20240627073918.2039719-23-sil-plv@napatech.com>
References: <20240627073918.2039719-23-sil-plv@napatech.com>
Content-Type: text/plain
X-BeenThere: test-report@dpdk.org
X-Mailman-Version: 2.1.29
Precedence: list
List-Id: automatic DPDK test reports <test-report.dpdk.org>
List-Unsubscribe: <https://mails.dpdk.org/options/test-report>,
 <mailto:test-report-request@dpdk.org?subject=unsubscribe>
List-Archive: <http://mails.dpdk.org/archives/test-report/>
List-Post: <mailto:test-report@dpdk.org>
List-Help: <mailto:test-report-request@dpdk.org?subject=help>
List-Subscribe: <https://mails.dpdk.org/listinfo/test-report>,
 <mailto:test-report-request@dpdk.org?subject=subscribe>
Errors-To: test-report-bounces@dpdk.org

Test-Label: iol-abi-testing
Test-Status: PENDING
http://dpdk.org/patch/141941

_Testing pending_

Submitter: Serhii Iliushyk <sil-plv@napatech.com>
Date: Thursday, June 27 2024 07:39:04 
DPDK git baseline: Repo:dpdk
  Branch: master
  CommitID:fbba6db3640f9f623c29c452e1a6b057073e81d2

141923-141941 --> testing pending

Test environment and result as below:

+-------------------+----------+
|    Environment    | abi_test |
+===================+==========+
| CentOS Stream 9   | PASS     |
+-------------------+----------+
| CentOS Stream 8   | PASS     |
+-------------------+----------+
| Debian Bullseye   | PASS     |
+-------------------+----------+
| Debian 12         | PASS     |
+-------------------+----------+
| Fedora 37         | PASS     |
+-------------------+----------+
| Fedora 38 (Clang) | PEND     |
+-------------------+----------+
| Fedora 40 (Clang) | PASS     |
+-------------------+----------+
| Fedora 38         | PEND     |
+-------------------+----------+
| Fedora 39         | PEND     |
+-------------------+----------+
| Fedora 39 (Clang) | PEND     |
+-------------------+----------+
| Ubuntu 24.04      | PEND     |
+-------------------+----------+
| openSUSE Leap 15  | PEND     |
+-------------------+----------+
| Ubuntu 22.04      | PEND     |
+-------------------+----------+
| Fedora 40         | PEND     |
+-------------------+----------+
| RHEL9             | PEND     |
+-------------------+----------+


CentOS Stream 9
	Kernel: 5.4.0-167-generic
	Compiler: gcc 11.4.1 20230605

CentOS Stream 8
	Kernel: 5.4.0-167-generic
	Compiler: gcc 8.5.0 20210514

Debian Bullseye
	Kernel: 5.4.0-167-generic
	Compiler: gcc 10.2.1-6

Debian 12
	Kernel: Container Host Kernel
	Compiler: gcc 12.2.0

Fedora 37
	Kernel: Depends on container host system
	Compiler: gcc 12.3.1

Fedora 38 (Clang)
	Kernel: Depends on container host
	Compiler: clang 16.0.6

Fedora 40 (Clang)
	Kernel: Depends on container host
	Compiler: clang 18.1.6

Fedora 38
	Kernel: Depends on container host
	Compiler: gcc 13.2.1

Fedora 39
	Kernel: Depends on container host
	Compiler: gcc 13.2.1

Fedora 39 (Clang)
	Kernel: Depends on container host
	Compiler: clang 17.0.6

Ubuntu 24.04
	Kernel: 5.4.0-167-generic
	Compiler: gcc 13.2.0

openSUSE Leap 15
	Kernel: 5.4.0-167-generic
	Compiler: gcc 7.5.0

Ubuntu 22.04
	Kernel: 5.4.0-167-generic
	Compiler: gcc 11.4.0

Fedora 40
	Kernel: Depends on container host
	Compiler: gcc 14.1.1

RHEL9
	Kernel: Depends on container host
	Compiler: gcc 11.4.1

To view detailed results, visit:
https://lab.dpdk.org/results/dashboard/patchsets/30335/

UNH-IOL DPDK Community Lab

To manage your email subscriptions, visit: 
https://lab.dpdk.org/results/dashboard/preferences/subscriptions/