From mboxrd@z Thu Jan  1 00:00:00 1970
Return-Path: <test-report-bounces@dpdk.org>
Received: from mails.dpdk.org (mails.dpdk.org [217.70.189.124])
	by inbox.dpdk.org (Postfix) with ESMTP id 346744550B
	for <public@inbox.dpdk.org>; Thu, 27 Jun 2024 15:10:24 +0200 (CEST)
Received: from mails.dpdk.org (localhost [127.0.0.1])
	by mails.dpdk.org (Postfix) with ESMTP id 3035440E09;
	Thu, 27 Jun 2024 15:10:24 +0200 (CEST)
Received: from mail-il1-f228.google.com (mail-il1-f228.google.com
 [209.85.166.228])
 by mails.dpdk.org (Postfix) with ESMTP id 86FF240BA3
 for <test-report@dpdk.org>; Thu, 27 Jun 2024 15:10:22 +0200 (CEST)
Received: by mail-il1-f228.google.com with SMTP id
 e9e14a558f8ab-37613975e20so31949555ab.2
 for <test-report@dpdk.org>; Thu, 27 Jun 2024 06:10:22 -0700 (PDT)
DKIM-Signature: v=1; a=rsa-sha256; c=relaxed/relaxed;
 d=iol.unh.edu; s=unh-iol; t=1719493821; x=1720098621; darn=dpdk.org;
 h=references:in-reply-to:cc:to:from:subject:message-id:date:from:to
 :cc:subject:date:message-id:reply-to;
 bh=9EjQSe5KrmKrD0zgtaQZAa7D7U/XdbFOZmXWBnGi8Dc=;
 b=FRZ9G/Um/UijQEb0q86Y/BHSWl0YId29EeVtSko//XL3G0DLcLITfW9O7VqU5KI3Wk
 wzrLUdCPRcKRdCc/6eVuQVt9J5wUtBFkyzpjx7YgDffennGAqE6l5uDuQE87B3ostrJv
 vQBGq7uxfGYrtet3MBhwth4SlyuIhR+1MsTn8=
X-Google-DKIM-Signature: v=1; a=rsa-sha256; c=relaxed/relaxed;
 d=1e100.net; s=20230601; t=1719493821; x=1720098621;
 h=references:in-reply-to:cc:to:from:subject:message-id:date
 :x-gm-message-state:from:to:cc:subject:date:message-id:reply-to;
 bh=9EjQSe5KrmKrD0zgtaQZAa7D7U/XdbFOZmXWBnGi8Dc=;
 b=vEaoKtq0GYFolRkgYwaFFFtPk6NAiSSyoC3BRnBKh+3BVhKJolmx5bCbIx8W8mQHWt
 BSFFkLOiCWRDsnsKOXCMyvJF/1RudZCUCM/6tJmznlZ9tuEVZnNjyvmUfoh831d2DsK0
 2dDRm4L3W8l7+A67TA9so/o52prndVV7iV5b9MQy10lTDvTO7x6+9FMmd76YDKY8Hckf
 bQSjLRdE+DynKc0hMETQeyZ6H2aioDIsam7NK6chVDNaWHpylti7Er8R591RmH6/nw0M
 WgzJ7/UhInrzCh0FFim5m9lAlTyapGeqo3QE9zsecYmM8xyPunjV6GsY3GI/nykUwCjx
 r0ag==
X-Gm-Message-State: AOJu0YwhDtdSik3Cae9H/nN21jL2drus862uq6V+3Z7OS67w+3Ao2sWQ
 o6dSgW4UAPXvaRnOGgjkxJgQ+zN/3I5ddimoNT9H1WJQcTnsuuZNKLPhCqyASc0fOnp2rfuqh6c
 OvEwl+5gE9TC/0MQwZsOfUSBAk41vmcTnkXywCwNBmzyZGLFpB3AbLuDw
X-Google-Smtp-Source: AGHT+IHtPmJHsjyooB4NS+TRBDdIIXQV1VCj+CLV2nZPfG5wKKNTrQlYf2WjDgFhw6Z3H2LSWY9LLlNX7NR0
X-Received: by 2002:a05:6e02:138f:b0:376:2a10:ac82 with SMTP id
 e9e14a558f8ab-3763f693917mr189512635ab.23.1719493821770; 
 Thu, 27 Jun 2024 06:10:21 -0700 (PDT)
Received: from postal.iol.unh.edu (postal.iol.unh.edu.
 [2606:4100:3880:1234::84]) by smtp-relay.gmail.com with ESMTPS id
 e9e14a558f8ab-379a6ef8cb0sm670145ab.36.2024.06.27.06.10.21
 (version=TLS1_2 cipher=ECDHE-ECDSA-AES128-GCM-SHA256 bits=128/128);
 Thu, 27 Jun 2024 06:10:21 -0700 (PDT)
X-Relaying-Domain: iol.unh.edu
Date: Thu, 27 Jun 2024 06:10:21 -0700 (PDT)
Message-ID: <667d64bd.920a0220.ca7e.4656SMTPIN_ADDED_MISSING@mx.google.com>
Received: from [172.21.0.6] (unknown [172.18.0.240])
 by postal.iol.unh.edu (Postfix) with ESMTP id 479E5605C373;
 Thu, 27 Jun 2024 09:10:21 -0400 (EDT)
Subject: |PENDING| pw141923-141941 [PATCH] [v5,23/23] net/ntnic: add GMF (Gen
From: dpdklab@iol.unh.edu
To: Test Report <test-report@dpdk.org>
Cc: dpdk-test-reports@iol.unh.edu
In-Reply-To: <20240627073918.2039719-23-sil-plv@napatech.com>
References: <20240627073918.2039719-23-sil-plv@napatech.com>
Content-Type: text/plain
X-BeenThere: test-report@dpdk.org
X-Mailman-Version: 2.1.29
Precedence: list
List-Id: automatic DPDK test reports <test-report.dpdk.org>
List-Unsubscribe: <https://mails.dpdk.org/options/test-report>,
 <mailto:test-report-request@dpdk.org?subject=unsubscribe>
List-Archive: <http://mails.dpdk.org/archives/test-report/>
List-Post: <mailto:test-report@dpdk.org>
List-Help: <mailto:test-report-request@dpdk.org?subject=help>
List-Subscribe: <https://mails.dpdk.org/listinfo/test-report>,
 <mailto:test-report-request@dpdk.org?subject=subscribe>
Errors-To: test-report-bounces@dpdk.org

Test-Label: iol-abi-testing
Test-Status: PENDING
http://dpdk.org/patch/141941

_Testing pending_

Submitter: Serhii Iliushyk <sil-plv@napatech.com>
Date: Thursday, June 27 2024 07:39:04 
DPDK git baseline: Repo:dpdk
  Branch: master
  CommitID:fbba6db3640f9f623c29c452e1a6b057073e81d2

141923-141941 --> testing pending

Test environment and result as below:

+-------------------+----------+
|    Environment    | abi_test |
+===================+==========+
| CentOS Stream 9   | PASS     |
+-------------------+----------+
| CentOS Stream 8   | PASS     |
+-------------------+----------+
| Debian Bullseye   | PASS     |
+-------------------+----------+
| Debian 12         | PASS     |
+-------------------+----------+
| Fedora 37         | PASS     |
+-------------------+----------+
| Fedora 38 (Clang) | PEND     |
+-------------------+----------+
| Fedora 40 (Clang) | PASS     |
+-------------------+----------+
| Fedora 38         | PEND     |
+-------------------+----------+
| Fedora 39         | PEND     |
+-------------------+----------+
| Fedora 39 (Clang) | PEND     |
+-------------------+----------+
| Ubuntu 24.04      | PEND     |
+-------------------+----------+
| openSUSE Leap 15  | PEND     |
+-------------------+----------+
| Ubuntu 22.04      | PEND     |
+-------------------+----------+
| Fedora 40         | PEND     |
+-------------------+----------+
| RHEL9             | PEND     |
+-------------------+----------+


CentOS Stream 9
	Kernel: 5.4.0-167-generic
	Compiler: gcc 11.4.1 20230605

CentOS Stream 8
	Kernel: 5.4.0-167-generic
	Compiler: gcc 8.5.0 20210514

Debian Bullseye
	Kernel: 5.4.0-167-generic
	Compiler: gcc 10.2.1-6

Debian 12
	Kernel: Container Host Kernel
	Compiler: gcc 12.2.0

Fedora 37
	Kernel: Depends on container host system
	Compiler: gcc 12.3.1

Fedora 38 (Clang)
	Kernel: Depends on container host
	Compiler: clang 16.0.6

Fedora 40 (Clang)
	Kernel: Depends on container host
	Compiler: clang 18.1.6

Fedora 38
	Kernel: Depends on container host
	Compiler: gcc 13.2.1

Fedora 39
	Kernel: Depends on container host
	Compiler: gcc 13.2.1

Fedora 39 (Clang)
	Kernel: Depends on container host
	Compiler: clang 17.0.6

Ubuntu 24.04
	Kernel: 5.4.0-167-generic
	Compiler: gcc 13.2.0

openSUSE Leap 15
	Kernel: 5.4.0-167-generic
	Compiler: gcc 7.5.0

Ubuntu 22.04
	Kernel: 5.4.0-167-generic
	Compiler: gcc 11.4.0

Fedora 40
	Kernel: Depends on container host
	Compiler: gcc 14.1.1

RHEL9
	Kernel: Depends on container host
	Compiler: gcc 11.4.1

To view detailed results, visit:
https://lab.dpdk.org/results/dashboard/patchsets/30335/

UNH-IOL DPDK Community Lab

To manage your email subscriptions, visit: 
https://lab.dpdk.org/results/dashboard/preferences/subscriptions/