From mboxrd@z Thu Jan  1 00:00:00 1970
Return-Path: <test-report-bounces@dpdk.org>
Received: from mails.dpdk.org (mails.dpdk.org [217.70.189.124])
	by inbox.dpdk.org (Postfix) with ESMTP id A38934550C
	for <public@inbox.dpdk.org>; Thu, 27 Jun 2024 17:25:09 +0200 (CEST)
Received: from mails.dpdk.org (localhost [127.0.0.1])
	by mails.dpdk.org (Postfix) with ESMTP id 9F2CB42E0C;
	Thu, 27 Jun 2024 17:25:09 +0200 (CEST)
Received: from mail-oa1-f98.google.com (mail-oa1-f98.google.com
 [209.85.160.98]) by mails.dpdk.org (Postfix) with ESMTP id 62C91427A7
 for <test-report@dpdk.org>; Thu, 27 Jun 2024 17:25:08 +0200 (CEST)
Received: by mail-oa1-f98.google.com with SMTP id
 586e51a60fabf-25d5333989dso1328120fac.1
 for <test-report@dpdk.org>; Thu, 27 Jun 2024 08:25:08 -0700 (PDT)
DKIM-Signature: v=1; a=rsa-sha256; c=relaxed/relaxed;
 d=iol.unh.edu; s=unh-iol; t=1719501907; x=1720106707; darn=dpdk.org;
 h=references:in-reply-to:cc:to:from:subject:message-id:date:from:to
 :cc:subject:date:message-id:reply-to;
 bh=bXWRZ27IPGMPOcFh36xS7+1DCkDgOmuGCbEoggT/Qjc=;
 b=RmiucYSZ5MylQ10stj5ab3wHpNODEer/p7R0JvBpu7j3fW5g5+VfrSjpk0Q3Di6//g
 9VFrwWFvdX7Ge0GrhZ0qP16W8mHyQC4yEKGxO9fKb0yje1GhXqUZF+iukIHTDewh2Avy
 GfM1p6iSlXzvRlIxaZaBa8pPh9Rtqy0n21Xfg=
X-Google-DKIM-Signature: v=1; a=rsa-sha256; c=relaxed/relaxed;
 d=1e100.net; s=20230601; t=1719501907; x=1720106707;
 h=references:in-reply-to:cc:to:from:subject:message-id:date
 :x-gm-message-state:from:to:cc:subject:date:message-id:reply-to;
 bh=bXWRZ27IPGMPOcFh36xS7+1DCkDgOmuGCbEoggT/Qjc=;
 b=nI4FU+XwtZ8cjZgIpuFZuJT2a+V6Cx4b91TYZbsA5g9suTarHYuzmmTAXePbqOpx+0
 4m5iZLonkNbtWftXR1FYzWVbPYU/TcuHiO4wkH94icdPIgojjELUVvsoMWb5J5jXpQvf
 4VgCSWtTV2djtSeAep74tSZhp7Lq5rHmGHbB0CTzUa6un07yfzC2uKVmEKMWm4saVYp1
 lU6rKoIkOm+XkCLrZMDObWLvqJHBQx/E4GwA/kamf64OR87KtwaEuhhSrcCcS0lIq1cJ
 AuieFwlFjdSyXRSGUBsQRMJrUCFRSrrFovLQoXLFCWA3+4g3RblyYFeEOzIlpuVUoh4c
 986g==
X-Gm-Message-State: AOJu0YwTJq8CtXXdvCD5xySbLHZ2neK28TJuGaFeoLuvCtB34+Z5udJT
 gB2ZDaZ23O+quRrS9zjHN3RSGyL/Wszr8HLPy/UtKPVsdIPbZajnP51x79eSpkT2jqsZSVLsC6e
 I+EkS6xBUsbAvOm6eoSgqEX7zUTtan2v/0NCuYR8v
X-Google-Smtp-Source: AGHT+IGtYwFJT/q+BvJQofPFty9Ne6qmt+HzlijreCxQRzNmCXKyUzuhOeJmbLheiUa3RrgaqrdjUiKRu0AB
X-Received: by 2002:a05:6870:e242:b0:254:ab8e:471b with SMTP id
 586e51a60fabf-25d06ebefc1mr11365760fac.50.1719501907634; 
 Thu, 27 Jun 2024 08:25:07 -0700 (PDT)
Received: from postal.iol.unh.edu (postal.iol.unh.edu. [132.177.123.84])
 by smtp-relay.gmail.com with ESMTPS id
 586e51a60fabf-25d72b87799sm37062fac.14.2024.06.27.08.25.07
 (version=TLS1_2 cipher=ECDHE-ECDSA-AES128-GCM-SHA256 bits=128/128);
 Thu, 27 Jun 2024 08:25:07 -0700 (PDT)
X-Relaying-Domain: iol.unh.edu
Date: Thu, 27 Jun 2024 08:25:07 -0700 (PDT)
Message-ID: <667d8453.050a0220.a9c3f.2869SMTPIN_ADDED_MISSING@mx.google.com>
Received: from [172.21.0.6] (unknown [172.18.0.240])
 by postal.iol.unh.edu (Postfix) with ESMTP id 1D41B605C380;
 Thu, 27 Jun 2024 11:25:07 -0400 (EDT)
Subject: |SUCCESS| pw141923-141941 [PATCH] [v5,23/23] net/ntnic: add GMF (Gen
From: dpdklab@iol.unh.edu
To: Test Report <test-report@dpdk.org>
Cc: dpdk-test-reports@iol.unh.edu
In-Reply-To: <20240627073918.2039719-23-sil-plv@napatech.com>
References: <20240627073918.2039719-23-sil-plv@napatech.com>
Content-Type: text/plain
X-BeenThere: test-report@dpdk.org
X-Mailman-Version: 2.1.29
Precedence: list
List-Id: automatic DPDK test reports <test-report.dpdk.org>
List-Unsubscribe: <https://mails.dpdk.org/options/test-report>,
 <mailto:test-report-request@dpdk.org?subject=unsubscribe>
List-Archive: <http://mails.dpdk.org/archives/test-report/>
List-Post: <mailto:test-report@dpdk.org>
List-Help: <mailto:test-report-request@dpdk.org?subject=help>
List-Subscribe: <https://mails.dpdk.org/listinfo/test-report>,
 <mailto:test-report-request@dpdk.org?subject=subscribe>
Errors-To: test-report-bounces@dpdk.org

Test-Label: iol-compile-amd64-testing
Test-Status: SUCCESS
http://dpdk.org/patch/141941

_Testing PASS_

Submitter: Serhii Iliushyk <sil-plv@napatech.com>
Date: Thursday, June 27 2024 07:39:04 
DPDK git baseline: Repo:dpdk
  Branch: master
  CommitID:fbba6db3640f9f623c29c452e1a6b057073e81d2

141923-141941 --> testing pass

Test environment and result as below:

+---------------------+----------------------+-------------------+--------------------+------------------+-------------------+
|     Environment     | dpdk_mingw64_compile | dpdk_msvc_compile | dpdk_meson_compile | dpdk_compile_ovs | dpdk_compile_spdk |
+=====================+======================+===================+====================+==================+===================+
| Windows Server 2022 | PASS                 | PASS              | PASS               | SKIPPED          | SKIPPED           |
+---------------------+----------------------+-------------------+--------------------+------------------+-------------------+
| Windows Server 2019 | PASS                 | SKIPPED           | PASS               | SKIPPED          | SKIPPED           |
+---------------------+----------------------+-------------------+--------------------+------------------+-------------------+
| FreeBSD 13.3        | SKIPPED              | SKIPPED           | PASS               | SKIPPED          | SKIPPED           |
+---------------------+----------------------+-------------------+--------------------+------------------+-------------------+
| FreeBSD 14.1        | SKIPPED              | SKIPPED           | PASS               | SKIPPED          | SKIPPED           |
+---------------------+----------------------+-------------------+--------------------+------------------+-------------------+
| Ubuntu 20.04        | SKIPPED              | SKIPPED           | PASS               | PASS             | SKIPPED           |
+---------------------+----------------------+-------------------+--------------------+------------------+-------------------+
| Fedora 39 (Clang)   | SKIPPED              | SKIPPED           | PASS               | PASS             | PASS              |
+---------------------+----------------------+-------------------+--------------------+------------------+-------------------+
| CentOS Stream 9     | SKIPPED              | SKIPPED           | PASS               | PASS             | PASS              |
+---------------------+----------------------+-------------------+--------------------+------------------+-------------------+
| openSUSE Leap 15    | SKIPPED              | SKIPPED           | PASS               | PASS             | SKIPPED           |
+---------------------+----------------------+-------------------+--------------------+------------------+-------------------+
| Fedora 40 (Clang)   | SKIPPED              | SKIPPED           | PASS               | PASS             | PASS              |
+---------------------+----------------------+-------------------+--------------------+------------------+-------------------+
| Fedora 38 (Clang)   | SKIPPED              | SKIPPED           | PASS               | PASS             | PASS              |
+---------------------+----------------------+-------------------+--------------------+------------------+-------------------+
| Fedora 38           | SKIPPED              | SKIPPED           | PASS               | PASS             | PASS              |
+---------------------+----------------------+-------------------+--------------------+------------------+-------------------+
| Fedora 39           | SKIPPED              | SKIPPED           | PASS               | PASS             | PASS              |
+---------------------+----------------------+-------------------+--------------------+------------------+-------------------+
| Fedora 37           | SKIPPED              | SKIPPED           | PASS               | PASS             | PASS              |
+---------------------+----------------------+-------------------+--------------------+------------------+-------------------+
| Debian 12           | SKIPPED              | SKIPPED           | PASS               | PASS             | PASS              |
+---------------------+----------------------+-------------------+--------------------+------------------+-------------------+
| RHEL9               | SKIPPED              | SKIPPED           | PASS               | PASS             | SKIPPED           |
+---------------------+----------------------+-------------------+--------------------+------------------+-------------------+


Windows Server 2022
	Kernel: 10.0.20348.2031
	Compiler: clang 15.0.7, gcc 8.1.0 (MinGW), and MSVC VS 17.9

Windows Server 2019
	Kernel: 10.0.17763
	Compiler: clang 14.0 and gcc 8.1.0 (MinGW)

FreeBSD 13.3
	Kernel: 13.3-RELEASE-p1
	Compiler: clang 17.0.6

FreeBSD 14.1
	Kernel: 14.1
	Compiler: clang 18.1.5

Ubuntu 20.04
	Kernel: 5.4.0-167-generic
	Compiler: gcc 9.4.0-1ubuntu1~20.04.1

Fedora 39 (Clang)
	Kernel: Depends on container host
	Compiler: clang 17.0.6

CentOS Stream 9
	Kernel: 5.4.0-167-generic
	Compiler: gcc 11.4.1 20230605

openSUSE Leap 15
	Kernel: 5.4.0-167-generic
	Compiler: gcc 7.5.0

Fedora 40 (Clang)
	Kernel: Depends on container host
	Compiler: clang 18.1.6

Fedora 38 (Clang)
	Kernel: Depends on container host
	Compiler: clang 16.0.6

Fedora 38
	Kernel: Depends on container host
	Compiler: gcc 13.2.1

Fedora 39
	Kernel: Depends on container host
	Compiler: gcc 13.2.1

Fedora 37
	Kernel: Depends on container host system
	Compiler: gcc 12.3.1

Debian 12
	Kernel: Container Host Kernel
	Compiler: gcc 12.2.0

RHEL9
	Kernel: Depends on container host
	Compiler: gcc 11.4.1

To view detailed results, visit:
https://lab.dpdk.org/results/dashboard/patchsets/30335/

UNH-IOL DPDK Community Lab

To manage your email subscriptions, visit: 
https://lab.dpdk.org/results/dashboard/preferences/subscriptions/