From mboxrd@z Thu Jan  1 00:00:00 1970
Return-Path: <test-report-bounces@dpdk.org>
Received: from mails.dpdk.org (mails.dpdk.org [217.70.189.124])
	by inbox.dpdk.org (Postfix) with ESMTP id 6FDE14550C
	for <public@inbox.dpdk.org>; Thu, 27 Jun 2024 17:50:29 +0200 (CEST)
Received: from mails.dpdk.org (localhost [127.0.0.1])
	by mails.dpdk.org (Postfix) with ESMTP id 7998840E0A;
	Thu, 27 Jun 2024 17:50:29 +0200 (CEST)
Received: from mail-yw1-f225.google.com (mail-yw1-f225.google.com
 [209.85.128.225])
 by mails.dpdk.org (Postfix) with ESMTP id 29BC240BA3
 for <test-report@dpdk.org>; Thu, 27 Jun 2024 17:50:28 +0200 (CEST)
Received: by mail-yw1-f225.google.com with SMTP id
 00721157ae682-6325b04c275so82949097b3.3
 for <test-report@dpdk.org>; Thu, 27 Jun 2024 08:50:28 -0700 (PDT)
DKIM-Signature: v=1; a=rsa-sha256; c=relaxed/relaxed;
 d=iol.unh.edu; s=unh-iol; t=1719503427; x=1720108227; darn=dpdk.org;
 h=references:in-reply-to:cc:to:from:subject:message-id:date:from:to
 :cc:subject:date:message-id:reply-to;
 bh=2RRge0nZ77fbAv+7ZyRu1lfNiFm0265S+Z3k5e4yAkE=;
 b=G+lDGYf3S0tzZyDhaJZfx99nQFyjn7bUSVupucUqjFi7DEATxpy0iZAZxijK1xZzgr
 fVs8fbU/gWof/Zf7HvB7njKIvHUw8hZixsaon9yqWv+n6SeA3YCq3NIKEuMQRNEKKZ/x
 ss4RLHUQKpatH0SL1ahQ8SkC2VF2Np9qM78Cg=
X-Google-DKIM-Signature: v=1; a=rsa-sha256; c=relaxed/relaxed;
 d=1e100.net; s=20230601; t=1719503427; x=1720108227;
 h=references:in-reply-to:cc:to:from:subject:message-id:date
 :x-gm-message-state:from:to:cc:subject:date:message-id:reply-to;
 bh=2RRge0nZ77fbAv+7ZyRu1lfNiFm0265S+Z3k5e4yAkE=;
 b=QoE0B1EgQ8t+9WEWMZndcMm92usqldDbE4TyrxG05+YmAepPxrA0El0ubYgrk11EZz
 F2sn6QL3II56pO5/dhknBsIKZD3FcAlWzjIL4f4bor5SkvwpmNjb97GhiZanWrpapcWr
 WSzbQFqxkzJ9+W7aYIU03p/eccG5W6A9yNhaMfiwdfV1mV0wb1q+GAm9WtviiZtYS+GJ
 xUhHJIJVKhgExtIT1bXmgXBzmaRh5OcsKqrvTzbZBlNgFLWRZS0ML/12iNUC5BjlJRyG
 MX7w+88DrXEwEYL9WbgEQ4XcFbBoxmEGXrGpiFoJhPIoZ6dIZ0yOgqDgdYIblvIGVAmb
 EWgw==
X-Gm-Message-State: AOJu0Yz4/uC2DwTnMBh6hGVv0gXTsb5eaf1Kkaluia+uENoy55PclA8/
 dYTfXNCDZy3ni6tDr30A3j5ohrpIbq51gEWTviONaE1SPN/1kxL13XfaigHIPRDoM6M8/1/hdZs
 aL50EqgVPqRCay8o4rnXrS8zMsP8yzrqTJhnob14q
X-Google-Smtp-Source: AGHT+IGwWXPGxCkqq7Pj7wXgCK3IQR9d4D98fVcgucfersVWcyhRPjnREI2BxrXe3lAD/oVTgSgcxMszwTui
X-Received: by 2002:a81:4406:0:b0:62f:6f02:86d3 with SMTP id
 00721157ae682-643ac32baadmr130117937b3.34.1719503427446; 
 Thu, 27 Jun 2024 08:50:27 -0700 (PDT)
Received: from postal.iol.unh.edu (postal.iol.unh.edu. [132.177.123.84])
 by smtp-relay.gmail.com with ESMTPS id
 00721157ae682-6497a75771fsm690007b3.48.2024.06.27.08.50.27
 (version=TLS1_2 cipher=ECDHE-ECDSA-AES128-GCM-SHA256 bits=128/128);
 Thu, 27 Jun 2024 08:50:27 -0700 (PDT)
X-Relaying-Domain: iol.unh.edu
Date: Thu, 27 Jun 2024 08:50:27 -0700 (PDT)
Message-ID: <667d8a43.810a0220.a864d.49dcSMTPIN_ADDED_MISSING@mx.google.com>
Received: from [172.21.0.7] (unknown [172.18.0.240])
 by postal.iol.unh.edu (Postfix) with ESMTP id E62EC605C380;
 Thu, 27 Jun 2024 11:50:26 -0400 (EDT)
Subject: |PENDING| pw141946-141947 [PATCH] [2/2] net/cnxk: avoid NPC Rx and M
From: dpdklab@iol.unh.edu
To: Test Report <test-report@dpdk.org>
Cc: dpdk-test-reports@iol.unh.edu
In-Reply-To: <20240627090859.2860207-2-rbhansali@marvell.com>
References: <20240627090859.2860207-2-rbhansali@marvell.com>
Content-Type: text/plain
X-BeenThere: test-report@dpdk.org
X-Mailman-Version: 2.1.29
Precedence: list
List-Id: automatic DPDK test reports <test-report.dpdk.org>
List-Unsubscribe: <https://mails.dpdk.org/options/test-report>,
 <mailto:test-report-request@dpdk.org?subject=unsubscribe>
List-Archive: <http://mails.dpdk.org/archives/test-report/>
List-Post: <mailto:test-report@dpdk.org>
List-Help: <mailto:test-report-request@dpdk.org?subject=help>
List-Subscribe: <https://mails.dpdk.org/listinfo/test-report>,
 <mailto:test-report-request@dpdk.org?subject=subscribe>
Errors-To: test-report-bounces@dpdk.org

Test-Label: iol-abi-testing
Test-Status: PENDING
http://dpdk.org/patch/141947

_Testing pending_

Submitter: Rahul Bhansali <rbhansali@marvell.com>
Date: Thursday, June 27 2024 09:08:59 
DPDK git baseline: Repo:dpdk
  Branch: master
  CommitID:362db0a4d230fbe43c2da1d6e34ecd0f2f946903

141946-141947 --> testing pending

Test environment and result as below:

+-------------------+----------+
|    Environment    | abi_test |
+===================+==========+
| CentOS Stream 9   | PASS     |
+-------------------+----------+
| CentOS Stream 8   | PASS     |
+-------------------+----------+
| Debian Bullseye   | PASS     |
+-------------------+----------+
| Debian 12         | PASS     |
+-------------------+----------+
| Fedora 38         | PASS     |
+-------------------+----------+
| Fedora 37         | PEND     |
+-------------------+----------+
| Fedora 39         | PEND     |
+-------------------+----------+
| Fedora 39 (Clang) | PEND     |
+-------------------+----------+
| Fedora 40 (Clang) | PEND     |
+-------------------+----------+
| Fedora 38 (Clang) | PEND     |
+-------------------+----------+
| RHEL8             | PEND     |
+-------------------+----------+
| openSUSE Leap 15  | PEND     |
+-------------------+----------+
| Fedora 40         | PEND     |
+-------------------+----------+
| RHEL9             | PEND     |
+-------------------+----------+
| Ubuntu 22.04      | PEND     |
+-------------------+----------+
| Ubuntu 24.04      | PEND     |
+-------------------+----------+


CentOS Stream 9
	Kernel: 5.4.0-167-generic
	Compiler: gcc 11.4.1 20230605

CentOS Stream 8
	Kernel: 5.4.0-167-generic
	Compiler: gcc 8.5.0 20210514

Debian Bullseye
	Kernel: 5.4.0-167-generic
	Compiler: gcc 10.2.1-6

Debian 12
	Kernel: Container Host Kernel
	Compiler: gcc 12.2.0

Fedora 38
	Kernel: Depends on container host
	Compiler: gcc 13.2.1

Fedora 37
	Kernel: Depends on container host system
	Compiler: gcc 12.3.1

Fedora 39
	Kernel: Depends on container host
	Compiler: gcc 13.2.1

Fedora 39 (Clang)
	Kernel: Depends on container host
	Compiler: clang 17.0.6

Fedora 40 (Clang)
	Kernel: Depends on container host
	Compiler: clang 18.1.6

Fedora 38 (Clang)
	Kernel: Depends on container host
	Compiler: clang 16.0.6

RHEL8
	Kernel: 5.4.0-167-generic
	Compiler: gcc 8.5.0 20210514 (Red Hat 8.5.0-20)

openSUSE Leap 15
	Kernel: 5.4.0-167-generic
	Compiler: gcc 7.5.0

Fedora 40
	Kernel: Depends on container host
	Compiler: gcc 14.1.1

RHEL9
	Kernel: Depends on container host
	Compiler: gcc 11.4.1

Ubuntu 22.04
	Kernel: 5.4.0-167-generic
	Compiler: gcc 11.4.0

Ubuntu 24.04
	Kernel: 5.4.0-167-generic
	Compiler: gcc 13.2.0

To view detailed results, visit:
https://lab.dpdk.org/results/dashboard/patchsets/30337/

UNH-IOL DPDK Community Lab

To manage your email subscriptions, visit: 
https://lab.dpdk.org/results/dashboard/preferences/subscriptions/