From mboxrd@z Thu Jan  1 00:00:00 1970
Return-Path: <test-report-bounces@dpdk.org>
Received: from mails.dpdk.org (mails.dpdk.org [217.70.189.124])
	by inbox.dpdk.org (Postfix) with ESMTP id 3CC3D4550E
	for <public@inbox.dpdk.org>; Thu, 27 Jun 2024 20:58:38 +0200 (CEST)
Received: from mails.dpdk.org (localhost [127.0.0.1])
	by mails.dpdk.org (Postfix) with ESMTP id 39AD240E2A;
	Thu, 27 Jun 2024 20:58:38 +0200 (CEST)
Received: from mail-il1-f227.google.com (mail-il1-f227.google.com
 [209.85.166.227])
 by mails.dpdk.org (Postfix) with ESMTP id C653D40E28
 for <test-report@dpdk.org>; Thu, 27 Jun 2024 20:58:36 +0200 (CEST)
Received: by mail-il1-f227.google.com with SMTP id
 e9e14a558f8ab-37636c38d6aso25512495ab.3
 for <test-report@dpdk.org>; Thu, 27 Jun 2024 11:58:36 -0700 (PDT)
DKIM-Signature: v=1; a=rsa-sha256; c=relaxed/relaxed;
 d=iol.unh.edu; s=unh-iol; t=1719514716; x=1720119516; darn=dpdk.org;
 h=references:in-reply-to:cc:to:from:subject:message-id:date:from:to
 :cc:subject:date:message-id:reply-to;
 bh=BUCNzS4/9fUSDLdlqb+E6t/Au71MQnJPsmXBtwryXVw=;
 b=cYHPAIGegKmIOF63onwIrfF/PlEFE2eEbNvJvh/IiZzV40J3bYBla/cnM8iFL1kItJ
 N/1nvhzLkFPFpz0g6mkLtSGjMDu7eSMhDiG3hX1uYLfgCvkCSNhZxpXot/6zpM+okHOe
 aiqfvF3iHmnnfVo/sOF+y/iXkbOTg5fsdMePM=
X-Google-DKIM-Signature: v=1; a=rsa-sha256; c=relaxed/relaxed;
 d=1e100.net; s=20230601; t=1719514716; x=1720119516;
 h=references:in-reply-to:cc:to:from:subject:message-id:date
 :x-gm-message-state:from:to:cc:subject:date:message-id:reply-to;
 bh=BUCNzS4/9fUSDLdlqb+E6t/Au71MQnJPsmXBtwryXVw=;
 b=NYdQq0+p3p9AWyWEc69ESsWzpg0n3nBqCLRnJ4giOUh1QSq1EGNI82upMExRRSXyvV
 OrmAqvVu0BGtPbVBsknu8+wqZlWRrzabqvXoODZtOqX2xXx7RBlbOa+3VsZL08+YwpMd
 u3LT32mHCGadRRQcguRVSsfdN/2/8ozcFRtSdxmtJXkP0NFVGSCQXCiiHU8Kc7v7gu1v
 3ttkbHjY1M7Kpm4lfzdPh5eQr5WKEVUVQqrer1qf5s8+RM0oJ1WbC1vDVfaEy9xqqyu7
 Eorx6ktxwE+o58MeSq0tyvkKiAi864DYt4JHf6sh5I3hDQt3SPGNuL1adjRfR8ikk+yU
 GJHA==
X-Gm-Message-State: AOJu0YxGMafFYjmRvHI2XavtEE2WyCBMZDC4Cvuf8UVkQeeeEUvqnetn
 6Oq0NlxN548N8zqZIi9qmvcqF+nNB4kL/LYXHjuP9dpFjXcESJQ7DGLCw7A+E8qloJjq2YZeOPL
 UMm+AOcwUd+MoFF6+IyTQG3DbNJ2Oacn/lYT1fqK9
X-Google-Smtp-Source: AGHT+IEpRvSD2SFXxfTvj0aIPsCblwbaAyeikKs2tVkXvKpB1NyrzGFHP23SLzapo05tfbuYWzdxXAi1frbJ
X-Received: by 2002:a05:6e02:1e02:b0:375:a7ee:dff9 with SMTP id
 e9e14a558f8ab-3763f5d22b9mr217066015ab.17.1719514716141; 
 Thu, 27 Jun 2024 11:58:36 -0700 (PDT)
Received: from postal.iol.unh.edu (postal.iol.unh.edu. [132.177.123.84])
 by smtp-relay.gmail.com with ESMTPS id
 e9e14a558f8ab-37ad2f4076fsm69585ab.40.2024.06.27.11.58.36
 (version=TLS1_2 cipher=ECDHE-ECDSA-AES128-GCM-SHA256 bits=128/128);
 Thu, 27 Jun 2024 11:58:36 -0700 (PDT)
X-Relaying-Domain: iol.unh.edu
Date: Thu, 27 Jun 2024 11:58:36 -0700 (PDT)
Message-ID: <667db65c.920a0220.125af.072aSMTPIN_ADDED_MISSING@mx.google.com>
Received: from [172.21.0.7] (unknown [172.18.0.240])
 by postal.iol.unh.edu (Postfix) with ESMTP id 94C5B605C380;
 Thu, 27 Jun 2024 14:58:35 -0400 (EDT)
Subject: |SUCCESS| pw141946-141947 [PATCH] [2/2] net/cnxk: avoid NPC Rx and M
From: dpdklab@iol.unh.edu
To: Test Report <test-report@dpdk.org>
Cc: dpdk-test-reports@iol.unh.edu
In-Reply-To: <20240627090859.2860207-2-rbhansali@marvell.com>
References: <20240627090859.2860207-2-rbhansali@marvell.com>
Content-Type: text/plain
X-BeenThere: test-report@dpdk.org
X-Mailman-Version: 2.1.29
Precedence: list
List-Id: automatic DPDK test reports <test-report.dpdk.org>
List-Unsubscribe: <https://mails.dpdk.org/options/test-report>,
 <mailto:test-report-request@dpdk.org?subject=unsubscribe>
List-Archive: <http://mails.dpdk.org/archives/test-report/>
List-Post: <mailto:test-report@dpdk.org>
List-Help: <mailto:test-report-request@dpdk.org?subject=help>
List-Subscribe: <https://mails.dpdk.org/listinfo/test-report>,
 <mailto:test-report-request@dpdk.org?subject=subscribe>
Errors-To: test-report-bounces@dpdk.org

Test-Label: iol-compile-amd64-testing
Test-Status: SUCCESS
http://dpdk.org/patch/141947

_Testing PASS_

Submitter: Rahul Bhansali <rbhansali@marvell.com>
Date: Thursday, June 27 2024 09:08:59 
DPDK git baseline: Repo:dpdk
  Branch: master
  CommitID:362db0a4d230fbe43c2da1d6e34ecd0f2f946903

141946-141947 --> testing pass

Test environment and result as below:

+---------------------+--------------------+----------------------+
|     Environment     | dpdk_meson_compile | dpdk_mingw64_compile |
+=====================+====================+======================+
| Windows Server 2019 | PASS               | PASS                 |
+---------------------+--------------------+----------------------+
| FreeBSD 13.3        | PASS               | SKIPPED              |
+---------------------+--------------------+----------------------+
| FreeBSD 14.1        | PASS               | SKIPPED              |
+---------------------+--------------------+----------------------+


Windows Server 2019
	Kernel: 10.0.17763
	Compiler: clang 14.0 and gcc 8.1.0 (MinGW)

FreeBSD 13.3
	Kernel: 13.3-RELEASE-p1
	Compiler: clang 17.0.6

FreeBSD 14.1
	Kernel: 14.1
	Compiler: clang 18.1.5

To view detailed results, visit:
https://lab.dpdk.org/results/dashboard/patchsets/30337/

UNH-IOL DPDK Community Lab

To manage your email subscriptions, visit: 
https://lab.dpdk.org/results/dashboard/preferences/subscriptions/