From mboxrd@z Thu Jan  1 00:00:00 1970
Return-Path: <test-report-bounces@dpdk.org>
Received: from mails.dpdk.org (mails.dpdk.org [217.70.189.124])
	by inbox.dpdk.org (Postfix) with ESMTP id AB36C4550E
	for <public@inbox.dpdk.org>; Thu, 27 Jun 2024 21:07:41 +0200 (CEST)
Received: from mails.dpdk.org (localhost [127.0.0.1])
	by mails.dpdk.org (Postfix) with ESMTP id A5E3F40E2A;
	Thu, 27 Jun 2024 21:07:41 +0200 (CEST)
Received: from mail-pl1-f228.google.com (mail-pl1-f228.google.com
 [209.85.214.228])
 by mails.dpdk.org (Postfix) with ESMTP id 9C75D40E28
 for <test-report@dpdk.org>; Thu, 27 Jun 2024 21:07:27 +0200 (CEST)
Received: by mail-pl1-f228.google.com with SMTP id
 d9443c01a7336-1f9aa039327so67078605ad.2
 for <test-report@dpdk.org>; Thu, 27 Jun 2024 12:07:27 -0700 (PDT)
DKIM-Signature: v=1; a=rsa-sha256; c=relaxed/relaxed;
 d=iol.unh.edu; s=unh-iol; t=1719515247; x=1720120047; darn=dpdk.org;
 h=references:in-reply-to:cc:to:from:subject:message-id:date:from:to
 :cc:subject:date:message-id:reply-to;
 bh=pZf1Yln30hT67tG7B9tJGi+g/Y5u6MmLAs7cxNVdOTQ=;
 b=MARoROTs43SYWDF6o2ZJwSbOndPxG0z4WU0/9cp76xzdBr0dLAeKrBm3r7YefKg5Zs
 X/rDc6adde1/JLwOuHAKpnCO2haIWQNAncM09oODDUrqF9BBGlb4GKOU3d01/HRu8tDC
 BNMpcm04CVN1kBqhquw3WWriKZfmvP57BRSb8=
X-Google-DKIM-Signature: v=1; a=rsa-sha256; c=relaxed/relaxed;
 d=1e100.net; s=20230601; t=1719515247; x=1720120047;
 h=references:in-reply-to:cc:to:from:subject:message-id:date
 :x-gm-message-state:from:to:cc:subject:date:message-id:reply-to;
 bh=pZf1Yln30hT67tG7B9tJGi+g/Y5u6MmLAs7cxNVdOTQ=;
 b=eiK+YOmAmNsQA0nqSxq8JDN9xQYPhXui/UQEpfbDW5O3HPRTZQDfP08f4n/GHkixzf
 T/9alzTgyOrvuQJmEsZ3+rfs6pcz7cFGeFFNvHp9y5xW6NBQ87LsIc0QV6KXHiYldihg
 Rl9eVfM2Ei3mViYE8TVexAE0HJrLfBHwA1M00I8JidUe3j9UfdxKQtpYmp8XooglG1+B
 +c+5N82FOJCoPq82pC4QA+Ro8Icrt7Nm3GN7XhH76sEvCLFhBDhJX8IiPI6LZwG6+BAa
 99XYn98GCw/7VgzTp7l6JauAV5bxvYa2chpQq9iHIDoFJ6np3J5ch6TYxcEQg/xs7v2G
 q1lw==
X-Gm-Message-State: AOJu0YwX5SYciwJgfhXzSLnWozp/wsKfDd0HIHUGYmTzEAjY5xwFSa09
 ChqTF7bECqoE+/VdlUOLPGmnPOqAcGuDgYnJMpYrjTX50KxYx1svz8QVZA6FIhE2j+xeKlwEd2Z
 6KTECbA77tD/Vk4fYBmzK5sW5EHS6HfsngHN99exq
X-Google-Smtp-Source: AGHT+IGV5XN0iE/wTdIZlAy94esBfpR/M/5Mg8Bfx6ecIIGhQIX52wAeVvtfqmGbk24UOXjOauCpaCnLNEF0
X-Received: by 2002:a17:902:ce82:b0:1f7:3d0d:4cd with SMTP id
 d9443c01a7336-1fa1d514687mr164844165ad.24.1719515246900; 
 Thu, 27 Jun 2024 12:07:26 -0700 (PDT)
Received: from postal.iol.unh.edu (postal.iol.unh.edu. [132.177.123.84])
 by smtp-relay.gmail.com with ESMTPS id
 d9443c01a7336-1fac155a776sm50485ad.103.2024.06.27.12.07.26
 (version=TLS1_2 cipher=ECDHE-ECDSA-AES128-GCM-SHA256 bits=128/128);
 Thu, 27 Jun 2024 12:07:26 -0700 (PDT)
X-Relaying-Domain: iol.unh.edu
Date: Thu, 27 Jun 2024 12:07:26 -0700 (PDT)
Message-ID: <667db86e.170a0220.7bd29.0528SMTPIN_ADDED_MISSING@mx.google.com>
Received: from [172.21.0.6] (unknown [172.18.0.240])
 by postal.iol.unh.edu (Postfix) with ESMTP id 5BD3D605C380;
 Thu, 27 Jun 2024 15:07:26 -0400 (EDT)
Subject: |SUCCESS| pw141946-141947 [PATCH] [2/2] net/cnxk: avoid NPC Rx and M
From: dpdklab@iol.unh.edu
To: Test Report <test-report@dpdk.org>
Cc: dpdk-test-reports@iol.unh.edu
In-Reply-To: <20240627090859.2860207-2-rbhansali@marvell.com>
References: <20240627090859.2860207-2-rbhansali@marvell.com>
Content-Type: text/plain
X-BeenThere: test-report@dpdk.org
X-Mailman-Version: 2.1.29
Precedence: list
List-Id: automatic DPDK test reports <test-report.dpdk.org>
List-Unsubscribe: <https://mails.dpdk.org/options/test-report>,
 <mailto:test-report-request@dpdk.org?subject=unsubscribe>
List-Archive: <http://mails.dpdk.org/archives/test-report/>
List-Post: <mailto:test-report@dpdk.org>
List-Help: <mailto:test-report-request@dpdk.org?subject=help>
List-Subscribe: <https://mails.dpdk.org/listinfo/test-report>,
 <mailto:test-report-request@dpdk.org?subject=subscribe>
Errors-To: test-report-bounces@dpdk.org

Test-Label: iol-compile-amd64-testing
Test-Status: SUCCESS
http://dpdk.org/patch/141947

_Testing PASS_

Submitter: Rahul Bhansali <rbhansali@marvell.com>
Date: Thursday, June 27 2024 09:08:59 
DPDK git baseline: Repo:dpdk
  Branch: master
  CommitID:362db0a4d230fbe43c2da1d6e34ecd0f2f946903

141946-141947 --> testing pass

Test environment and result as below:

+---------------------+--------------------+----------------------+
|     Environment     | dpdk_meson_compile | dpdk_mingw64_compile |
+=====================+====================+======================+
| Windows Server 2019 | PASS               | PASS                 |
+---------------------+--------------------+----------------------+
| FreeBSD 13.3        | PASS               | SKIPPED              |
+---------------------+--------------------+----------------------+
| FreeBSD 14.1        | PASS               | SKIPPED              |
+---------------------+--------------------+----------------------+
| Windows Server 2022 | PASS               | PASS                 |
+---------------------+--------------------+----------------------+


Windows Server 2019
	Kernel: 10.0.17763
	Compiler: clang 14.0 and gcc 8.1.0 (MinGW)

FreeBSD 13.3
	Kernel: 13.3-RELEASE-p1
	Compiler: clang 17.0.6

FreeBSD 14.1
	Kernel: 14.1
	Compiler: clang 18.1.5

Windows Server 2022
	Kernel: 10.0.20348.2031
	Compiler: clang 15.0.7, gcc 8.1.0 (MinGW), and MSVC VS 17.9

To view detailed results, visit:
https://lab.dpdk.org/results/dashboard/patchsets/30337/

UNH-IOL DPDK Community Lab

To manage your email subscriptions, visit: 
https://lab.dpdk.org/results/dashboard/preferences/subscriptions/