From mboxrd@z Thu Jan  1 00:00:00 1970
Return-Path: <test-report-bounces@dpdk.org>
Received: from mails.dpdk.org (mails.dpdk.org [217.70.189.124])
	by inbox.dpdk.org (Postfix) with ESMTP id 93E524550E
	for <public@inbox.dpdk.org>; Thu, 27 Jun 2024 21:33:50 +0200 (CEST)
Received: from mails.dpdk.org (localhost [127.0.0.1])
	by mails.dpdk.org (Postfix) with ESMTP id 906E740E2A;
	Thu, 27 Jun 2024 21:33:50 +0200 (CEST)
Received: from mail-pj1-f99.google.com (mail-pj1-f99.google.com
 [209.85.216.99]) by mails.dpdk.org (Postfix) with ESMTP id BF3C140E28
 for <test-report@dpdk.org>; Thu, 27 Jun 2024 21:33:49 +0200 (CEST)
Received: by mail-pj1-f99.google.com with SMTP id
 98e67ed59e1d1-2c84df0e2f4so1609457a91.1
 for <test-report@dpdk.org>; Thu, 27 Jun 2024 12:33:49 -0700 (PDT)
DKIM-Signature: v=1; a=rsa-sha256; c=relaxed/relaxed;
 d=iol.unh.edu; s=unh-iol; t=1719516829; x=1720121629; darn=dpdk.org;
 h=references:in-reply-to:cc:to:from:subject:message-id:date:from:to
 :cc:subject:date:message-id:reply-to;
 bh=RWVJXqE9K+64yddhghyMdLFAaHToVn7ZZ9PREY2mc+c=;
 b=JVArnhkVmPJAP6WqkCYhYRsrZPXNsANrAs9CNNiAq0TBZqHeGHq+dQ+BL3bvrIG/No
 YSGJFdOGUT6jbQ0hkKaHIozBYxvJuuODSXejnWW0xb4jU84BaCfUQV5o/E3oT3dPqiHI
 NtYYfg0+eyP9kOsjTvg2rNQaUBT16Tu2EnqM0=
X-Google-DKIM-Signature: v=1; a=rsa-sha256; c=relaxed/relaxed;
 d=1e100.net; s=20230601; t=1719516829; x=1720121629;
 h=references:in-reply-to:cc:to:from:subject:message-id:date
 :x-gm-message-state:from:to:cc:subject:date:message-id:reply-to;
 bh=RWVJXqE9K+64yddhghyMdLFAaHToVn7ZZ9PREY2mc+c=;
 b=LTnBiYJ95tv2ZCQkiVvwMMIB3EhEPhkSui902zWRVnPqRd+EYB9m0h0Xm/kVbyAEyI
 yZGmVXixaHJJPneP7iSbaXydBFCvpvlPnKQetFzeiMb96KAZhNoGRHzu4Ow6WuAWBl06
 BmaFMQWJ3kSdx8uVlUS5rJj9L3TuPssxPbqAP8FdX3m1j74k8by1JWTLEFrzOzN+WlmO
 kUFIG0pZ8n6JqH3s/RyWNbiF0rQ8pa8GHNnvcJfMYPlhEOzYpOQQYKZvI407KJ4Edx4O
 xAtNtYjD/uAB2+1NwdYg/MJ9VnQRugjE3IUXIq7vtJ3CsYkVlVWhIBkLlQ0UUX4NfTMm
 KR6w==
X-Gm-Message-State: AOJu0Yws9k42khlb8BGd2z7+wmpus//G7GdNZcmZuxiugIBUaH3fEHgT
 Jukm2nueKZ7MI/t9pDaktTEu/OXOmOI8al5/wVJcWSa6l289MBTStiXQ32d+pGYh2Ffi3ZLiiZ9
 ZhjrwNw6PYaLvVzA1HHyNufbpAKIhxXW2rzbAkaias+PbYnyt5UZcNsUy
X-Google-Smtp-Source: AGHT+IHzHyQKReWGjlWJ1dq+DB6Ug9fbXQjoq06oe9jNzGFP2j7kaos57XL72GbhPkWabpFoXl0Lmdw2vuT9
X-Received: by 2002:a17:90b:4a8a:b0:2c2:d590:808e with SMTP id
 98e67ed59e1d1-2c8a237a759mr14310556a91.13.1719516828943; 
 Thu, 27 Jun 2024 12:33:48 -0700 (PDT)
Received: from postal.iol.unh.edu (postal.iol.unh.edu.
 [2606:4100:3880:1234::84]) by smtp-relay.gmail.com with ESMTPS id
 98e67ed59e1d1-2c91d3b68dasm12763a91.13.2024.06.27.12.33.48
 (version=TLS1_2 cipher=ECDHE-ECDSA-AES128-GCM-SHA256 bits=128/128);
 Thu, 27 Jun 2024 12:33:48 -0700 (PDT)
X-Relaying-Domain: iol.unh.edu
Date: Thu, 27 Jun 2024 12:33:48 -0700 (PDT)
Message-ID: <667dbe9c.170a0220.9f513.0d2aSMTPIN_ADDED_MISSING@mx.google.com>
Received: from [172.21.0.7] (unknown [172.18.0.240])
 by postal.iol.unh.edu (Postfix) with ESMTP id 63A1B605C373;
 Thu, 27 Jun 2024 15:33:47 -0400 (EDT)
Subject: |SUCCESS| pw141948-141949 [PATCH] [v3,2/2] cryptodev: validate crypt
From: dpdklab@iol.unh.edu
To: Test Report <test-report@dpdk.org>
Cc: dpdk-test-reports@iol.unh.edu
In-Reply-To: <20240627100626.2430162-2-ganapati.kundapura@intel.com>
References: <20240627100626.2430162-2-ganapati.kundapura@intel.com>
Content-Type: text/plain
X-BeenThere: test-report@dpdk.org
X-Mailman-Version: 2.1.29
Precedence: list
List-Id: automatic DPDK test reports <test-report.dpdk.org>
List-Unsubscribe: <https://mails.dpdk.org/options/test-report>,
 <mailto:test-report-request@dpdk.org?subject=unsubscribe>
List-Archive: <http://mails.dpdk.org/archives/test-report/>
List-Post: <mailto:test-report@dpdk.org>
List-Help: <mailto:test-report-request@dpdk.org?subject=help>
List-Subscribe: <https://mails.dpdk.org/listinfo/test-report>,
 <mailto:test-report-request@dpdk.org?subject=subscribe>
Errors-To: test-report-bounces@dpdk.org

Test-Label: iol-compile-arm64-testing
Test-Status: SUCCESS
http://dpdk.org/patch/141949

_Testing PASS_

Submitter: Kundapura, Ganapati <ganapati.kundapura@intel.com>
Date: Thursday, June 27 2024 10:06:26 
DPDK git baseline: Repo:dpdk
  Branch: master
  CommitID:3b80379078a1f7c09b8d0ece24442c8ff2e2c67c

141948-141949 --> testing pass

Test environment and result as below:

+----------------------+--------------------+
|     Environment      | dpdk_meson_compile |
+======================+====================+
| Ubuntu 20.04 ARM SVE | PASS               |
+----------------------+--------------------+
| Debian 12 with MUSDK | PASS               |
+----------------------+--------------------+
| Fedora 37 (ARM)      | PASS               |
+----------------------+--------------------+
| RHEL9 (ARM)          | PASS               |
+----------------------+--------------------+


Ubuntu 20.04 ARM SVE
	Kernel: 5.4.0-167-generic
	Compiler: gcc (Ubuntu 10.5.0-1ubuntu1~20.04) 10.5.0

Debian 12 with MUSDK
	Kernel: Container Host Kernel
	Compiler: gcc 12.2.0

Fedora 37 (ARM)
	Kernel: Depends on container host
	Compiler: gcc 12.3.1

RHEL9 (ARM)
	Kernel: Depends on container host
	Compiler: gcc 11.4.1

To view detailed results, visit:
https://lab.dpdk.org/results/dashboard/patchsets/30338/

UNH-IOL DPDK Community Lab

To manage your email subscriptions, visit: 
https://lab.dpdk.org/results/dashboard/preferences/subscriptions/