From mboxrd@z Thu Jan  1 00:00:00 1970
Return-Path: <test-report-bounces@dpdk.org>
Received: from mails.dpdk.org (mails.dpdk.org [217.70.189.124])
	by inbox.dpdk.org (Postfix) with ESMTP id A118145506
	for <public@inbox.dpdk.org>; Thu, 27 Jun 2024 22:27:20 +0200 (CEST)
Received: from mails.dpdk.org (localhost [127.0.0.1])
	by mails.dpdk.org (Postfix) with ESMTP id 9B7FF40E2A;
	Thu, 27 Jun 2024 22:27:20 +0200 (CEST)
Received: from mail-qt1-f225.google.com (mail-qt1-f225.google.com
 [209.85.160.225])
 by mails.dpdk.org (Postfix) with ESMTP id 178A540E28
 for <test-report@dpdk.org>; Thu, 27 Jun 2024 22:27:19 +0200 (CEST)
Received: by mail-qt1-f225.google.com with SMTP id
 d75a77b69052e-44639c3d8e7so9608381cf.1
 for <test-report@dpdk.org>; Thu, 27 Jun 2024 13:27:19 -0700 (PDT)
DKIM-Signature: v=1; a=rsa-sha256; c=relaxed/relaxed;
 d=iol.unh.edu; s=unh-iol; t=1719520038; x=1720124838; darn=dpdk.org;
 h=references:in-reply-to:cc:to:from:subject:message-id:date:from:to
 :cc:subject:date:message-id:reply-to;
 bh=Xy+/CSSZJdue1kBVceDfV/GzY2ViMjsbPSc1/tzVed0=;
 b=KEE1cCjCgFIL3AjcPBwz/sjkYt0Vp1/QZfKotfWaL+uldm5IrH+g4Qln71Wd2sdPqM
 TB0EPsina5KbZj88csS9YEK6LNgdQmRxCTSyC4qeeNrEDYBBjfCpw9lg0VtTjE/o776I
 E/euXLG8iy+hW2kROfwjOAng/bkjAA6KHUKUo=
X-Google-DKIM-Signature: v=1; a=rsa-sha256; c=relaxed/relaxed;
 d=1e100.net; s=20230601; t=1719520038; x=1720124838;
 h=references:in-reply-to:cc:to:from:subject:message-id:date
 :x-gm-message-state:from:to:cc:subject:date:message-id:reply-to;
 bh=Xy+/CSSZJdue1kBVceDfV/GzY2ViMjsbPSc1/tzVed0=;
 b=OsM1pbzlctCp+StWByXCKg6x3aC2HiT8pYgEUO/zSg1hGVVGhtUz7nQ5F1X7Q6juHZ
 ygqIllSYg8W8DuBQjPXXoSUbvwErg6iTxURq2vMV5sF6TgxwFNVnVV0btxyMo6Y9B0EZ
 SVRhTNvofeH2t+wwFN+t9yB0SKb2HyQQtfrPmjb8I6YZZqbzu+aZbsMXA4oCqICSxHTY
 /sauHi8wSOWKAIP3+9KKoTaCEKyHQf66QEUFPUqOHeI14Eoowaes0qlV50Hqc6zrXgu7
 CXTlhPabtRylvzqgPs3j1Nq6PZi/pMrfr3D+0VjGpEV9x8x0hVIsqv3cRNLgltEmKmVY
 i/SA==
X-Gm-Message-State: AOJu0Yy+LUwoDgADn7YwOTom5Vh2omHlYl4f2+/jyveUzHDMJpIxkouj
 bAn1k94r2bn4EPiaMBq3qShmhRUmr4UwdXk8XU/h8U1m8zF9a1WdPwJxXKaJRWbUsyPg8Qp+7j6
 9rxPN5GHt+7o1JypaUiljzjq7nkMqxt3CUgvZhFl9XMEiZI0cJnI4gKcN
X-Google-Smtp-Source: AGHT+IGnTG8RlyWRFf+HDzclTVCvUzIa8QcjzdxsZr4bS7/v8Xze1hDl+CZ80pUKvXG3Wzyz1fQeW5n2RNkd
X-Received: by 2002:ad4:5fc8:0:b0:6b5:4335:3af0 with SMTP id
 6a1803df08f44-6b543353b3fmr200324246d6.62.1719520038506; 
 Thu, 27 Jun 2024 13:27:18 -0700 (PDT)
Received: from postal.iol.unh.edu (postal.iol.unh.edu.
 [2606:4100:3880:1234::84]) by smtp-relay.gmail.com with ESMTPS id
 6a1803df08f44-6b59e367713sm178886d6.16.2024.06.27.13.27.18
 (version=TLS1_2 cipher=ECDHE-ECDSA-AES128-GCM-SHA256 bits=128/128);
 Thu, 27 Jun 2024 13:27:18 -0700 (PDT)
X-Relaying-Domain: iol.unh.edu
Date: Thu, 27 Jun 2024 13:27:18 -0700 (PDT)
Message-ID: <667dcb26.d40a0220.9fec4.136dSMTPIN_ADDED_MISSING@mx.google.com>
Received: from [172.21.0.8] (unknown [172.18.0.240])
 by postal.iol.unh.edu (Postfix) with ESMTP id 3002F605C373;
 Thu, 27 Jun 2024 16:27:18 -0400 (EDT)
Subject: |SUCCESS| pw141948-141949 [PATCH] [v3,2/2] cryptodev: validate crypt
From: dpdklab@iol.unh.edu
To: Test Report <test-report@dpdk.org>
Cc: dpdk-test-reports@iol.unh.edu
In-Reply-To: <20240627100626.2430162-2-ganapati.kundapura@intel.com>
References: <20240627100626.2430162-2-ganapati.kundapura@intel.com>
Content-Type: text/plain
X-BeenThere: test-report@dpdk.org
X-Mailman-Version: 2.1.29
Precedence: list
List-Id: automatic DPDK test reports <test-report.dpdk.org>
List-Unsubscribe: <https://mails.dpdk.org/options/test-report>,
 <mailto:test-report-request@dpdk.org?subject=unsubscribe>
List-Archive: <http://mails.dpdk.org/archives/test-report/>
List-Post: <mailto:test-report@dpdk.org>
List-Help: <mailto:test-report-request@dpdk.org?subject=help>
List-Subscribe: <https://mails.dpdk.org/listinfo/test-report>,
 <mailto:test-report-request@dpdk.org?subject=subscribe>
Errors-To: test-report-bounces@dpdk.org

Test-Label: iol-unit-arm64-testing
Test-Status: SUCCESS
http://dpdk.org/patch/141949

_Testing PASS_

Submitter: Kundapura, Ganapati <ganapati.kundapura@intel.com>
Date: Thursday, June 27 2024 10:06:26 
DPDK git baseline: Repo:dpdk
  Branch: master
  CommitID:3b80379078a1f7c09b8d0ece24442c8ff2e2c67c

141948-141949 --> testing pass

Test environment and result as below:

+--------------------------+----------------+------------------------------+---------------------------+
|       Environment        | dpdk_unit_test | cryptodev_sw_snow3g_autotest | cryptodev_sw_zuc_autotest |
+==========================+================+==============================+===========================+
| CentOS Stream 9 (ARM)    | PASS           | SKIPPED                      | SKIPPED                   |
+--------------------------+----------------+------------------------------+---------------------------+
| Debian 11 (Buster) (ARM) | PASS           | SKIPPED                      | SKIPPED                   |
+--------------------------+----------------+------------------------------+---------------------------+
| Fedora 37 (ARM)          | PASS           | SKIPPED                      | SKIPPED                   |
+--------------------------+----------------+------------------------------+---------------------------+
| Debian 12 (arm)          | PASS           | PASS                         | PASS                      |
+--------------------------+----------------+------------------------------+---------------------------+
| Fedora 38 (ARM)          | PASS           | SKIPPED                      | SKIPPED                   |
+--------------------------+----------------+------------------------------+---------------------------+
| Fedora 38 (ARM Clang)    | PASS           | SKIPPED                      | SKIPPED                   |
+--------------------------+----------------+------------------------------+---------------------------+
| Fedora 39 (ARM)          | PASS           | SKIPPED                      | SKIPPED                   |
+--------------------------+----------------+------------------------------+---------------------------+
| Fedora 40 (ARM)          | PASS           | SKIPPED                      | SKIPPED                   |
+--------------------------+----------------+------------------------------+---------------------------+
| Fedora 39 (ARM Clang)    | PASS           | SKIPPED                      | SKIPPED                   |
+--------------------------+----------------+------------------------------+---------------------------+


CentOS Stream 9 (ARM)
	Kernel: Container Host Kernel
	Compiler: gcc 11.4.1

Debian 11 (Buster) (ARM)
	Kernel: Container Host Kernel
	Compiler: gcc 10.2.1

Fedora 37 (ARM)
	Kernel: Depends on container host
	Compiler: gcc 12.3.1

Debian 12 (arm)
	Kernel: Container Host Kernel
	Compiler: gcc 12.2.0

Fedora 38 (ARM)
	Kernel: Depends on container host
	Compiler: gcc 13.2.1

Fedora 38 (ARM Clang)
	Kernel: Depends on container host
	Compiler: clang 16.0.6

Fedora 39 (ARM)
	Kernel: Depends on container host
	Compiler: gcc 13.2.1

Fedora 40 (ARM)
	Kernel: Depends on container host
	Compiler: gcc 14.1.1

Fedora 39 (ARM Clang)
	Kernel: Depends on container host
	Compiler: clang 17.0.6

To view detailed results, visit:
https://lab.dpdk.org/results/dashboard/patchsets/30338/

UNH-IOL DPDK Community Lab

To manage your email subscriptions, visit: 
https://lab.dpdk.org/results/dashboard/preferences/subscriptions/