From mboxrd@z Thu Jan 1 00:00:00 1970 Return-Path: Received: from mails.dpdk.org (mails.dpdk.org [217.70.189.124]) by inbox.dpdk.org (Postfix) with ESMTP id 60D1845512 for ; Fri, 28 Jun 2024 00:41:16 +0200 (CEST) Received: from mails.dpdk.org (localhost [127.0.0.1]) by mails.dpdk.org (Postfix) with ESMTP id 59F614029E; Fri, 28 Jun 2024 00:41:16 +0200 (CEST) Received: from mail-pg1-f225.google.com (mail-pg1-f225.google.com [209.85.215.225]) by mails.dpdk.org (Postfix) with ESMTP id AB4F14029B for ; Fri, 28 Jun 2024 00:41:14 +0200 (CEST) Received: by mail-pg1-f225.google.com with SMTP id 41be03b00d2f7-70df213542bso5911879a12.3 for ; Thu, 27 Jun 2024 15:41:14 -0700 (PDT) DKIM-Signature: v=1; a=rsa-sha256; c=relaxed/relaxed; d=iol.unh.edu; s=unh-iol; t=1719528074; x=1720132874; darn=dpdk.org; h=cc:to:from:subject:message-id:date:from:to:cc:subject:date :message-id:reply-to; bh=gEIOoJoUSjiOnLTJrdu1cs53CEXlpgbQuI4b2ZwipQY=; b=SgGfWwS7Y30978oy3WalcrOv9BD70oeDNhIXXegNeWbEpn8Qp+t8S9zPrquh3QgRv+ yxYpqn359QWXdaWVlgDWL9XBeM9LbL582on8i6iOgBqUC1tHxNuGl27VWn2fhckL0Yzw tG0yBnxsw6kZWbpQhZbLuM2gNWFofNi4x9Ulw= X-Google-DKIM-Signature: v=1; a=rsa-sha256; c=relaxed/relaxed; d=1e100.net; s=20230601; t=1719528074; x=1720132874; h=cc:to:from:subject:message-id:date:x-gm-message-state:from:to:cc :subject:date:message-id:reply-to; bh=gEIOoJoUSjiOnLTJrdu1cs53CEXlpgbQuI4b2ZwipQY=; b=lYv+uz7N0ixaZpFSZhYPq8RPqn9avJXGAOfHEK7tMGoeK/ERADgEHM2zKosAatCAaH 0NNXyfJ9Mp+dgyIkfMVWYwNAiikZowvZWDxVfyOeCmJ7UQmPRegfDFsgSLPSE3KGmjtq 4/7gYmZcMumz3QLSctLWkN7KHCGykY+EYwb2zVgfGIJwd755lSDyQIiXxsCfx4JYV2OF 9N69pNE+Xw/u1uB80L2fuZM2qDNiOmChf5+oTlwEbK33lwhHynSfwQJqc+ncjEqj00ko 3Jy1GIvXmSIUolPvb9ccB9d8WZJ5savPyCNd+AQlWsJgaBVfcxoabLVpcHgkWkkRAvmw nM4Q== X-Gm-Message-State: AOJu0Yz5qVDe6CPS90xvUe2NWMvng7qqySw1HWK5u4qA+/xJcXMzgax7 Vn6LstrLLpSGKORynhcnWH3Z10ahv4+yu+xQMcv1DrelDxava4CA1QSSomyxBbzTtgcOa2EHKxG NIfz087ThYzRSJdp+Pa3cxvqxU3C4nR8ULg34aprH9Gna0IomanGRX/c8 X-Google-Smtp-Source: AGHT+IG4BgeZa176iZR5SryZ4ZTebZ3KVg51OX4RD7c0ZKc0+5+jgRk5PgU0uH6cZAL2YSg/ZorJYSBuopGQ X-Received: by 2002:a05:6a20:158e:b0:1bc:e978:8bf2 with SMTP id adf61e73a8af0-1bcf7eae9f3mr16630629637.23.1719528073710; Thu, 27 Jun 2024 15:41:13 -0700 (PDT) Received: from postal.iol.unh.edu (postal.iol.unh.edu. [2606:4100:3880:1234::84]) by smtp-relay.gmail.com with ESMTPS id d9443c01a7336-1fac11e83e2sm171625ad.56.2024.06.27.15.41.13 (version=TLS1_2 cipher=ECDHE-ECDSA-AES128-GCM-SHA256 bits=128/128); Thu, 27 Jun 2024 15:41:13 -0700 (PDT) X-Relaying-Domain: iol.unh.edu Date: Thu, 27 Jun 2024 15:41:13 -0700 (PDT) Message-ID: <667dea89.170a0220.900f9.1496SMTPIN_ADDED_MISSING@mx.google.com> Received: from [172.21.0.7] (unknown [172.18.0.240]) by postal.iol.unh.edu (Postfix) with ESMTP id E3536605C373; Thu, 27 Jun 2024 18:41:12 -0400 (EDT) Subject: |SUCCESS| [GIT MASTER] 3b80379078a1f7c09b8d0ece24442c8ff2e2c67c From: dpdklab@iol.unh.edu To: Test Report Cc: dpdk-test-reports@iol.unh.edu, Akhil Goyal Content-Type: text/plain X-BeenThere: test-report@dpdk.org X-Mailman-Version: 2.1.29 Precedence: list List-Id: automatic DPDK test reports List-Unsubscribe: , List-Archive: List-Post: List-Help: List-Subscribe: , Errors-To: test-report-bounces@dpdk.org _Testing PASS_ Branch: dpdk-next-crypto 3b80379078a1f7c09b8d0ece24442c8ff2e2c67c --> testing pass Test environment and result as below: +---------------------+--------------------+----------------------+ | Environment | dpdk_meson_compile | dpdk_mingw64_compile | +=====================+====================+======================+ | FreeBSD 13.3 | PASS | SKIPPED | +---------------------+--------------------+----------------------+ | Windows Server 2019 | PASS | PASS | +---------------------+--------------------+----------------------+ | Windows Server 2022 | PASS | PASS | +---------------------+--------------------+----------------------+ | FreeBSD 14.1 | PASS | SKIPPED | +---------------------+--------------------+----------------------+ FreeBSD 13.3 Kernel: 13.3-RELEASE-p1 Compiler: clang 17.0.6 Windows Server 2019 Kernel: 10.0.17763 Compiler: clang 14.0 and gcc 8.1.0 (MinGW) Windows Server 2022 Kernel: 10.0.20348.2031 Compiler: clang 15.0.7, gcc 8.1.0 (MinGW), and MSVC VS 17.9 FreeBSD 14.1 Kernel: 14.1 Compiler: clang 18.1.5 To view detailed results, visit: https://lab.dpdk.org/results/dashboard/tarballs/29626/ UNH-IOL DPDK Community Lab To manage your email subscriptions, visit: https://lab.dpdk.org/results/dashboard/preferences/subscriptions/