From mboxrd@z Thu Jan 1 00:00:00 1970 Return-Path: Received: from mails.dpdk.org (mails.dpdk.org [217.70.189.124]) by inbox.dpdk.org (Postfix) with ESMTP id DFE5D45512 for ; Fri, 28 Jun 2024 00:41:48 +0200 (CEST) Received: from mails.dpdk.org (localhost [127.0.0.1]) by mails.dpdk.org (Postfix) with ESMTP id B5CF240EE7; Fri, 28 Jun 2024 00:41:48 +0200 (CEST) Received: from mail-pg1-f228.google.com (mail-pg1-f228.google.com [209.85.215.228]) by mails.dpdk.org (Postfix) with ESMTP id D968B4029B for ; Fri, 28 Jun 2024 00:41:46 +0200 (CEST) Received: by mail-pg1-f228.google.com with SMTP id 41be03b00d2f7-7180e5f735bso22454a12.0 for ; Thu, 27 Jun 2024 15:41:46 -0700 (PDT) DKIM-Signature: v=1; a=rsa-sha256; c=relaxed/relaxed; d=iol.unh.edu; s=unh-iol; t=1719528106; x=1720132906; darn=dpdk.org; h=cc:to:from:subject:message-id:date:from:to:cc:subject:date :message-id:reply-to; bh=gEIOoJoUSjiOnLTJrdu1cs53CEXlpgbQuI4b2ZwipQY=; b=AP3P8Ki2ykfaYGsdTuKANnTSBnmqUpgYXIT2hHwZ0gHgkjJBOgCHFGkA8+VFlntxJI Enngehrx185efMYUBKNDWYs2kXLNTVX8pHBnfk57vjqukGb7nzWt+nAV6vdYL7T3EpYZ bFzmGYQt50Pb3eAm8JBJNaUbNE546Ytosr/y4= X-Google-DKIM-Signature: v=1; a=rsa-sha256; c=relaxed/relaxed; d=1e100.net; s=20230601; t=1719528106; x=1720132906; h=cc:to:from:subject:message-id:date:x-gm-message-state:from:to:cc :subject:date:message-id:reply-to; bh=gEIOoJoUSjiOnLTJrdu1cs53CEXlpgbQuI4b2ZwipQY=; b=TifjwNy9QSz65aJaUzCJpHr9Z2Jq4X7oUMOtpykEnWZOASs9cMTGhLW014S1T78Bqw O9y5CRV5BvTaAOmtuQvT/v4pgTU2tZEziPUY8sv+coD0M/4SL3vYsu1vzaYp34QDJfDU ba9tbOcorD9jhdmeRZOlN5mtTC6ZlqvmaBQMb5mu+mFswV8dDu7gIhG/YG4TfM7DnBW9 bPuWaWFEPeVNl+fAF1eF+95G0RrxAsAlmgypOlvnTIJ6Qz+Vv+ab3yUYkm+TUDm1nbXg Jmvc4wvVCYu1noOhWquPkpq9Oh43zOT2Ivr4V6FO89TewxiyHGyGANWIpGhsJ7l6TiAT UvrQ== X-Gm-Message-State: AOJu0Yy2Sw+caWkyZPsgXzScJNCkd4IH9eFZgmiNRA3ypaM2ss20E5Ot vO6kJZFlW0aD4jYE4Frg9CCDej7x0KYGbz9lfos1nvKxr+YxTaBtfWinJoVZm9cAZlYHFqXz6We n0AAxTsoNcrYgXhlge7f4mdG2VCXneqPapKQbbQs8lloDUYpShXAZqtYY X-Google-Smtp-Source: AGHT+IG8HmdzgohuNxCCjCGRjvirydqLcSx6edM2C8TJ1mVJUbYvbz9bJ7eGC7TApuhrNAiwGDq0x/I/5bAe X-Received: by 2002:a17:903:2345:b0:1f0:8c5e:ffdd with SMTP id d9443c01a7336-1fa5e63fdcfmr149857375ad.4.1719528106160; Thu, 27 Jun 2024 15:41:46 -0700 (PDT) Received: from postal.iol.unh.edu (postal.iol.unh.edu. [2606:4100:3880:1234::84]) by smtp-relay.gmail.com with ESMTPS id d9443c01a7336-1fac155bb90sm157875ad.77.2024.06.27.15.41.46 (version=TLS1_2 cipher=ECDHE-ECDSA-AES128-GCM-SHA256 bits=128/128); Thu, 27 Jun 2024 15:41:46 -0700 (PDT) X-Relaying-Domain: iol.unh.edu Date: Thu, 27 Jun 2024 15:41:46 -0700 (PDT) Message-ID: <667deaaa.170a0220.b2ff6.1176SMTPIN_ADDED_MISSING@mx.google.com> Received: from [172.21.0.8] (unknown [172.18.0.240]) by postal.iol.unh.edu (Postfix) with ESMTP id 54708605C373; Thu, 27 Jun 2024 18:41:45 -0400 (EDT) Subject: |SUCCESS| [GIT MASTER] 3b80379078a1f7c09b8d0ece24442c8ff2e2c67c From: dpdklab@iol.unh.edu To: Test Report Cc: dpdk-test-reports@iol.unh.edu, Akhil Goyal Content-Type: text/plain X-BeenThere: test-report@dpdk.org X-Mailman-Version: 2.1.29 Precedence: list List-Id: automatic DPDK test reports List-Unsubscribe: , List-Archive: List-Post: List-Help: List-Subscribe: , Errors-To: test-report-bounces@dpdk.org _Testing PASS_ Branch: dpdk-next-crypto 3b80379078a1f7c09b8d0ece24442c8ff2e2c67c --> testing pass Test environment and result as below: +---------------------+--------------------+----------------------+ | Environment | dpdk_meson_compile | dpdk_mingw64_compile | +=====================+====================+======================+ | FreeBSD 13.3 | PASS | SKIPPED | +---------------------+--------------------+----------------------+ | Windows Server 2019 | PASS | PASS | +---------------------+--------------------+----------------------+ | Windows Server 2022 | PASS | PASS | +---------------------+--------------------+----------------------+ | FreeBSD 14.1 | PASS | SKIPPED | +---------------------+--------------------+----------------------+ FreeBSD 13.3 Kernel: 13.3-RELEASE-p1 Compiler: clang 17.0.6 Windows Server 2019 Kernel: 10.0.17763 Compiler: clang 14.0 and gcc 8.1.0 (MinGW) Windows Server 2022 Kernel: 10.0.20348.2031 Compiler: clang 15.0.7, gcc 8.1.0 (MinGW), and MSVC VS 17.9 FreeBSD 14.1 Kernel: 14.1 Compiler: clang 18.1.5 To view detailed results, visit: https://lab.dpdk.org/results/dashboard/tarballs/29626/ UNH-IOL DPDK Community Lab To manage your email subscriptions, visit: https://lab.dpdk.org/results/dashboard/preferences/subscriptions/