From mboxrd@z Thu Jan  1 00:00:00 1970
Return-Path: <test-report-bounces@dpdk.org>
Received: from mails.dpdk.org (mails.dpdk.org [217.70.189.124])
	by inbox.dpdk.org (Postfix) with ESMTP id 586DC45514
	for <public@inbox.dpdk.org>; Fri, 28 Jun 2024 01:08:23 +0200 (CEST)
Received: from mails.dpdk.org (localhost [127.0.0.1])
	by mails.dpdk.org (Postfix) with ESMTP id 4D3D54029E;
	Fri, 28 Jun 2024 01:08:23 +0200 (CEST)
Received: from mail-yw1-f228.google.com (mail-yw1-f228.google.com
 [209.85.128.228])
 by mails.dpdk.org (Postfix) with ESMTP id 760894029B
 for <test-report@dpdk.org>; Fri, 28 Jun 2024 01:08:19 +0200 (CEST)
Received: by mail-yw1-f228.google.com with SMTP id
 00721157ae682-632597a42b8so80731957b3.3
 for <test-report@dpdk.org>; Thu, 27 Jun 2024 16:08:19 -0700 (PDT)
DKIM-Signature: v=1; a=rsa-sha256; c=relaxed/relaxed;
 d=iol.unh.edu; s=unh-iol; t=1719529699; x=1720134499; darn=dpdk.org;
 h=references:in-reply-to:cc:to:from:subject:message-id:date:from:to
 :cc:subject:date:message-id:reply-to;
 bh=siUGnlSAhWq7yzeIRqe65sgrhWeiEu/GxatoDxoOEUA=;
 b=YQKkt+7oFOybzMEOy/KRj1WEsfAMoBOXm6ADEnxcSucRYK0fn9Kp27EL/0+C9uT0L/
 q0u+fenbBkguPAjQutzswftlhkDcBnE3cIyREtx3mhCkIgzdrR6vqzJtgdKh/p5Nyq2i
 00EEQWiy4hBE5Fs4gxSWDMGcYAZIseY0lS9hw=
X-Google-DKIM-Signature: v=1; a=rsa-sha256; c=relaxed/relaxed;
 d=1e100.net; s=20230601; t=1719529699; x=1720134499;
 h=references:in-reply-to:cc:to:from:subject:message-id:date
 :x-gm-message-state:from:to:cc:subject:date:message-id:reply-to;
 bh=siUGnlSAhWq7yzeIRqe65sgrhWeiEu/GxatoDxoOEUA=;
 b=HERKnJ7i0oEiYVc8pkuoLqR+PUOhc8GrFs7r54hGAAxjTTX03YvBtXRB6dory8VFPQ
 KAcw3dBIf1SnY6mG0RtOrljiSCsxhALL9MfhLQ5quLRs9c9XEkb4MCcGm5apVpMtH0L1
 kw5beLwgNSMGkCc8sr5D/u4RQATYZn1NF7dc3YeWASTOdglv+jQMDHTO0DuoTZWA67eP
 Uetm+JhXC6SrxHO1duV5FY27EbKq3eqaVHC4EJrN21sj+eNPZGOk+p3U4U5dTFwJ+D5b
 ItvF8FS+EWurlskdavocltqH0RlBPDADtk9JJgwQCTgP8SoTuMYDt2lbrHzbmtuz7A9T
 9xsA==
X-Gm-Message-State: AOJu0Yy608PBYz1hSysgI14vtikgg4r1qLCxEy2I+8K8FquVLqeexRsf
 W58hn8SYySY4jEpEgkSxaCrXp2t08IgGe6jui8f5J9BwhxMzuMKkomwYJAUlQHqckHU8Tmj+5Vu
 XWEcZKMq3L1YRKc82SiWlbQbckrrzrF2QdW7b9KbuuvPdyBrrNpnRV5Tw
X-Google-Smtp-Source: AGHT+IHZftzNz06esy8QwMMopTV4Gg5kUGzMbEMjq9cPGb1au2lgBg4i57CTj62KiQNVc58v6exbjFukcBNB
X-Received: by 2002:a05:690c:6484:b0:62c:f772:2af3 with SMTP id
 00721157ae682-64972986051mr41354437b3.1.1719529698823; 
 Thu, 27 Jun 2024 16:08:18 -0700 (PDT)
Received: from postal.iol.unh.edu (postal.iol.unh.edu.
 [2606:4100:3880:1234::84]) by smtp-relay.gmail.com with ESMTPS id
 00721157ae682-64a9a13f8b4sm166957b3.15.2024.06.27.16.08.18
 (version=TLS1_2 cipher=ECDHE-ECDSA-AES128-GCM-SHA256 bits=128/128);
 Thu, 27 Jun 2024 16:08:18 -0700 (PDT)
X-Relaying-Domain: iol.unh.edu
Date: Thu, 27 Jun 2024 16:08:18 -0700 (PDT)
Message-ID: <667df0e2.050a0220.e2bd1.115aSMTPIN_ADDED_MISSING@mx.google.com>
Received: from [172.21.0.7] (unknown [172.18.0.240])
 by postal.iol.unh.edu (Postfix) with ESMTP id 755B1605C373;
 Thu, 27 Jun 2024 19:08:18 -0400 (EDT)
Subject: |SUCCESS| pw141891-141910 [PATCH] [v4,23/23] net/ntnic: add GMF (Gen
From: dpdklab@iol.unh.edu
To: Test Report <test-report@dpdk.org>
Cc: dpdk-test-reports@iol.unh.edu
In-Reply-To: <20240626195545.1793419-23-sil-plv@napatech.com>
References: <20240626195545.1793419-23-sil-plv@napatech.com>
Content-Type: text/plain
X-BeenThere: test-report@dpdk.org
X-Mailman-Version: 2.1.29
Precedence: list
List-Id: automatic DPDK test reports <test-report.dpdk.org>
List-Unsubscribe: <https://mails.dpdk.org/options/test-report>,
 <mailto:test-report-request@dpdk.org?subject=unsubscribe>
List-Archive: <http://mails.dpdk.org/archives/test-report/>
List-Post: <mailto:test-report@dpdk.org>
List-Help: <mailto:test-report-request@dpdk.org?subject=help>
List-Subscribe: <https://mails.dpdk.org/listinfo/test-report>,
 <mailto:test-report-request@dpdk.org?subject=subscribe>
Errors-To: test-report-bounces@dpdk.org

Test-Label: iol-unit-amd64-testing
Test-Status: SUCCESS
http://dpdk.org/patch/141910

_Testing PASS_

Submitter: Serhii Iliushyk <sil-plv@napatech.com>
Date: Wednesday, June 26 2024 19:55:33 
DPDK git baseline: Repo:dpdk
  Branch: master
  CommitID:fbba6db3640f9f623c29c452e1a6b057073e81d2

141891-141910 --> testing pass

Test environment and result as below:

+---------------------+----------------+
|     Environment     | dpdk_unit_test |
+=====================+================+
| Debian Bullseye     | PASS           |
+---------------------+----------------+
| CentOS Stream 9     | PASS           |
+---------------------+----------------+
| CentOS Stream 8     | PASS           |
+---------------------+----------------+
| Fedora 38           | PASS           |
+---------------------+----------------+
| Fedora 37           | PASS           |
+---------------------+----------------+
| Fedora 38 (Clang)   | PASS           |
+---------------------+----------------+
| Fedora 39 (Clang)   | PASS           |
+---------------------+----------------+
| Fedora 39           | PASS           |
+---------------------+----------------+
| openSUSE Leap 15    | PASS           |
+---------------------+----------------+
| Fedora 40           | PASS           |
+---------------------+----------------+
| RHEL8               | PASS           |
+---------------------+----------------+
| Ubuntu 20.04        | PASS           |
+---------------------+----------------+
| RHEL9               | PASS           |
+---------------------+----------------+
| Ubuntu 24.04        | PASS           |
+---------------------+----------------+
| Fedora 40 (Clang)   | PASS           |
+---------------------+----------------+
| Debian 12           | PASS           |
+---------------------+----------------+
| Ubuntu 22.04        | PASS           |
+---------------------+----------------+
| Windows Server 2019 | PASS           |
+---------------------+----------------+


Debian Bullseye
	Kernel: 5.4.0-167-generic
	Compiler: gcc 10.2.1-6

CentOS Stream 9
	Kernel: 5.4.0-167-generic
	Compiler: gcc 11.4.1 20230605

CentOS Stream 8
	Kernel: 5.4.0-167-generic
	Compiler: gcc 8.5.0 20210514

Fedora 38
	Kernel: Depends on container host
	Compiler: gcc 13.2.1

Fedora 37
	Kernel: Depends on container host system
	Compiler: gcc 12.3.1

Fedora 38 (Clang)
	Kernel: Depends on container host
	Compiler: clang 16.0.6

Fedora 39 (Clang)
	Kernel: Depends on container host
	Compiler: clang 17.0.6

Fedora 39
	Kernel: Depends on container host
	Compiler: gcc 13.2.1

openSUSE Leap 15
	Kernel: 5.4.0-167-generic
	Compiler: gcc 7.5.0

Fedora 40
	Kernel: Depends on container host
	Compiler: gcc 14.1.1

RHEL8
	Kernel: 5.4.0-167-generic
	Compiler: gcc 8.5.0 20210514 (Red Hat 8.5.0-20)

Ubuntu 20.04
	Kernel: 5.4.0-167-generic
	Compiler: gcc 9.4.0-1ubuntu1~20.04.1

RHEL9
	Kernel: Depends on container host
	Compiler: gcc 11.4.1

Ubuntu 24.04
	Kernel: 5.4.0-167-generic
	Compiler: gcc 13.2.0

Fedora 40 (Clang)
	Kernel: Depends on container host
	Compiler: clang 18.1.6

Debian 12
	Kernel: Container Host Kernel
	Compiler: gcc 12.2.0

Ubuntu 22.04
	Kernel: 5.4.0-167-generic
	Compiler: gcc 11.4.0

Windows Server 2019
	Kernel: 10.0.17763
	Compiler: clang 14.0 and gcc 8.1.0 (MinGW)

To view detailed results, visit:
https://lab.dpdk.org/results/dashboard/patchsets/30328/

UNH-IOL DPDK Community Lab

To manage your email subscriptions, visit: 
https://lab.dpdk.org/results/dashboard/preferences/subscriptions/