From mboxrd@z Thu Jan  1 00:00:00 1970
Return-Path: <test-report-bounces@dpdk.org>
Received: from mails.dpdk.org (mails.dpdk.org [217.70.189.124])
	by inbox.dpdk.org (Postfix) with ESMTP id 9095C45514
	for <public@inbox.dpdk.org>; Fri, 28 Jun 2024 01:49:10 +0200 (CEST)
Received: from mails.dpdk.org (localhost [127.0.0.1])
	by mails.dpdk.org (Postfix) with ESMTP id D642B4029E;
	Fri, 28 Jun 2024 01:49:08 +0200 (CEST)
Received: from mail-qv1-f100.google.com (mail-qv1-f100.google.com
 [209.85.219.100])
 by mails.dpdk.org (Postfix) with ESMTP id 8D2C34029B
 for <test-report@dpdk.org>; Fri, 28 Jun 2024 01:49:07 +0200 (CEST)
Received: by mail-qv1-f100.google.com with SMTP id
 6a1803df08f44-6b2c95b6c5aso221926d6.2
 for <test-report@dpdk.org>; Thu, 27 Jun 2024 16:49:07 -0700 (PDT)
DKIM-Signature: v=1; a=rsa-sha256; c=relaxed/relaxed;
 d=iol.unh.edu; s=unh-iol; t=1719532147; x=1720136947; darn=dpdk.org;
 h=references:in-reply-to:cc:to:from:subject:message-id:date:from:to
 :cc:subject:date:message-id:reply-to;
 bh=xLEUzInk5YF2cyXEN/c/udw8nXG1XC2XT+3Jm3yMvpU=;
 b=XDmamneRXsacbb2wCnlk0O7lMlx1TJ8hfVByaxDYFDORbSO6SBe8HH0cE9A+HXwrrP
 NqA4Xl7EN7QBpbusxnLI2yCvSvQgf69TSzu3FDitXi16l6mISM/xgXWy5Abb2Cjm+XWh
 fFTwjOK1sKLlCMbvwv4yrVU+8eIAkOo2AK8mg=
X-Google-DKIM-Signature: v=1; a=rsa-sha256; c=relaxed/relaxed;
 d=1e100.net; s=20230601; t=1719532147; x=1720136947;
 h=references:in-reply-to:cc:to:from:subject:message-id:date
 :x-gm-message-state:from:to:cc:subject:date:message-id:reply-to;
 bh=xLEUzInk5YF2cyXEN/c/udw8nXG1XC2XT+3Jm3yMvpU=;
 b=m23oBtNcmSE3G+x058zYrMn9tL1r0xa6qSWItnU9LxDK7QMGo6Yq8EhUrthdvHnN3+
 wxhtekKnf56Bzr+nwo+ha2gW7QozhHz7QJ1JCcz1g3A3PJqkfbrNZ3D4lMsIWSEDFG9z
 efDaTg4H+9zbacSYjEJy2Odde0KkbLf/gdUNr8uVlttZmPkilN6GlcmnyFbV3fqRBWaI
 YywbQiOsaGRuLsRIlBhWDh5oY13UD8jj7QWItr2TuawkUnc/eaeugaW4SU055zfbsaeC
 bXwDeTbky2RawHU9t1fqHZMs1u7qQLQBwB9W+nRk4YfFd0FvraaWFhaVSKdx2B891lTR
 +NBg==
X-Gm-Message-State: AOJu0YxbhyLbTj88wgajnnSGSQvRi0ELLMZkCIe30IwG9cDRTU5jfmcL
 C9yMDDQMFdzYUK/7XaWrJLtt5cu2iQljJZhEjJ9sOAU14i0yUMsizMMjVgZtrIeYr/rOeNC6coR
 i90hLqafP3bhaMvnsE/XG1GjqCy9OMqX1ewtSNEZl
X-Google-Smtp-Source: AGHT+IHCAjeLGKk1tUPxUE+FLP0b1+sXJ71VEpG/gYPlYXO2qdUGb/35mIBRH5VY3U49kizC6noxJhbeCCCo
X-Received: by 2002:a0c:fbc7:0:b0:6b2:cf9e:866 with SMTP id
 6a1803df08f44-6b54099e7c7mr173034536d6.4.1719532146900; 
 Thu, 27 Jun 2024 16:49:06 -0700 (PDT)
Received: from postal.iol.unh.edu (postal.iol.unh.edu. [132.177.123.84])
 by smtp-relay.gmail.com with ESMTPS id
 6a1803df08f44-6b59e0b28c2sm327316d6.0.2024.06.27.16.49.06
 (version=TLS1_2 cipher=ECDHE-ECDSA-AES128-GCM-SHA256 bits=128/128);
 Thu, 27 Jun 2024 16:49:06 -0700 (PDT)
X-Relaying-Domain: iol.unh.edu
Date: Thu, 27 Jun 2024 16:49:06 -0700 (PDT)
Message-ID: <667dfa72.050a0220.18db0.22faSMTPIN_ADDED_MISSING@mx.google.com>
Received: from [172.21.0.7] (unknown [172.18.0.240])
 by postal.iol.unh.edu (Postfix) with ESMTP id 86800605C373;
 Thu, 27 Jun 2024 19:49:06 -0400 (EDT)
Subject: |SUCCESS| pw141946-141947 [PATCH] [2/2] net/cnxk: avoid NPC Rx and M
From: dpdklab@iol.unh.edu
To: Test Report <test-report@dpdk.org>
Cc: dpdk-test-reports@iol.unh.edu
In-Reply-To: <20240627090859.2860207-2-rbhansali@marvell.com>
References: <20240627090859.2860207-2-rbhansali@marvell.com>
Content-Type: text/plain
X-BeenThere: test-report@dpdk.org
X-Mailman-Version: 2.1.29
Precedence: list
List-Id: automatic DPDK test reports <test-report.dpdk.org>
List-Unsubscribe: <https://mails.dpdk.org/options/test-report>,
 <mailto:test-report-request@dpdk.org?subject=unsubscribe>
List-Archive: <http://mails.dpdk.org/archives/test-report/>
List-Post: <mailto:test-report@dpdk.org>
List-Help: <mailto:test-report-request@dpdk.org?subject=help>
List-Subscribe: <https://mails.dpdk.org/listinfo/test-report>,
 <mailto:test-report-request@dpdk.org?subject=subscribe>
Errors-To: test-report-bounces@dpdk.org

Test-Label: iol-compile-amd64-testing
Test-Status: SUCCESS
http://dpdk.org/patch/141947

_Testing PASS_

Submitter: Rahul Bhansali <rbhansali@marvell.com>
Date: Thursday, June 27 2024 09:08:59 
DPDK git baseline: Repo:dpdk
  Branch: master
  CommitID:362db0a4d230fbe43c2da1d6e34ecd0f2f946903

141946-141947 --> testing pass

Test environment and result as below:

+---------------------+--------------------+----------------------+-------------------+------------------+-------------------+
|     Environment     | dpdk_meson_compile | dpdk_mingw64_compile | dpdk_msvc_compile | dpdk_compile_ovs | dpdk_compile_spdk |
+=====================+====================+======================+===================+==================+===================+
| Windows Server 2019 | PASS               | PASS                 | SKIPPED           | SKIPPED          | SKIPPED           |
+---------------------+--------------------+----------------------+-------------------+------------------+-------------------+
| FreeBSD 13.3        | PASS               | SKIPPED              | SKIPPED           | SKIPPED          | SKIPPED           |
+---------------------+--------------------+----------------------+-------------------+------------------+-------------------+
| FreeBSD 14.1        | PASS               | SKIPPED              | SKIPPED           | SKIPPED          | SKIPPED           |
+---------------------+--------------------+----------------------+-------------------+------------------+-------------------+
| Windows Server 2022 | PASS               | PASS                 | PASS              | SKIPPED          | SKIPPED           |
+---------------------+--------------------+----------------------+-------------------+------------------+-------------------+
| Debian 12           | PASS               | SKIPPED              | SKIPPED           | PASS             | PASS              |
+---------------------+--------------------+----------------------+-------------------+------------------+-------------------+
| Debian Bullseye     | PASS               | SKIPPED              | SKIPPED           | PASS             | PASS              |
+---------------------+--------------------+----------------------+-------------------+------------------+-------------------+
| CentOS Stream 9     | PASS               | SKIPPED              | SKIPPED           | PASS             | PASS              |
+---------------------+--------------------+----------------------+-------------------+------------------+-------------------+


Windows Server 2019
	Kernel: 10.0.17763
	Compiler: clang 14.0 and gcc 8.1.0 (MinGW)

FreeBSD 13.3
	Kernel: 13.3-RELEASE-p1
	Compiler: clang 17.0.6

FreeBSD 14.1
	Kernel: 14.1
	Compiler: clang 18.1.5

Windows Server 2022
	Kernel: 10.0.20348.2031
	Compiler: clang 15.0.7, gcc 8.1.0 (MinGW), and MSVC VS 17.9

Debian 12
	Kernel: Container Host Kernel
	Compiler: gcc 12.2.0

Debian Bullseye
	Kernel: 5.4.0-167-generic
	Compiler: gcc 10.2.1-6

CentOS Stream 9
	Kernel: 5.4.0-167-generic
	Compiler: gcc 11.4.1 20230605

To view detailed results, visit:
https://lab.dpdk.org/results/dashboard/patchsets/30337/

UNH-IOL DPDK Community Lab

To manage your email subscriptions, visit: 
https://lab.dpdk.org/results/dashboard/preferences/subscriptions/