From mboxrd@z Thu Jan  1 00:00:00 1970
Return-Path: <test-report-bounces@dpdk.org>
Received: from mails.dpdk.org (mails.dpdk.org [217.70.189.124])
	by inbox.dpdk.org (Postfix) with ESMTP id 06F8045514
	for <public@inbox.dpdk.org>; Fri, 28 Jun 2024 01:49:29 +0200 (CEST)
Received: from mails.dpdk.org (localhost [127.0.0.1])
	by mails.dpdk.org (Postfix) with ESMTP id F253A4029E;
	Fri, 28 Jun 2024 01:49:28 +0200 (CEST)
Received: from mail-oi1-f228.google.com (mail-oi1-f228.google.com
 [209.85.167.228])
 by mails.dpdk.org (Postfix) with ESMTP id E3F2E4029B
 for <test-report@dpdk.org>; Fri, 28 Jun 2024 01:49:26 +0200 (CEST)
Received: by mail-oi1-f228.google.com with SMTP id
 5614622812f47-3d62f9a4115so44032b6e.0
 for <test-report@dpdk.org>; Thu, 27 Jun 2024 16:49:26 -0700 (PDT)
DKIM-Signature: v=1; a=rsa-sha256; c=relaxed/relaxed;
 d=iol.unh.edu; s=unh-iol; t=1719532166; x=1720136966; darn=dpdk.org;
 h=references:in-reply-to:cc:to:from:subject:message-id:date:from:to
 :cc:subject:date:message-id:reply-to;
 bh=yPoeCg0m6LEzvu1M9CT/Ro3lFfhvEAijUTPPKalVG2U=;
 b=gY4c2Yvm/c+KPYPrCIBTwKtTdo0n8B89ug0opEO0aty8CkfjaFNdc9maxE72ECatin
 UUNp13wiFFgT3NNrluhL01BhSU/VL9QpbadUbyZiuipR/nfQWPOcAby/r7pvd+5GaYGj
 UtE25okNQNFUOL6xd+TkOxmSzHNtNCKUv1cfs=
X-Google-DKIM-Signature: v=1; a=rsa-sha256; c=relaxed/relaxed;
 d=1e100.net; s=20230601; t=1719532166; x=1720136966;
 h=references:in-reply-to:cc:to:from:subject:message-id:date
 :x-gm-message-state:from:to:cc:subject:date:message-id:reply-to;
 bh=yPoeCg0m6LEzvu1M9CT/Ro3lFfhvEAijUTPPKalVG2U=;
 b=Ls2ZFKaDYqw7XGwx+zOTafdG45s8BPjjfgvUG09AgdNZGwzeRmqjMJpNfBoZoddQbk
 QyDvGPPzGZy4wtv3F9CMu+d3hBwhv+KFEtzRVAUIH97jUcxg9Eoe7fqbZQHBC7OSO0Uo
 uFRnbnyUI9oNWATGUj0VBXFWrWndH5CM+pQ/TclzPkru7Lz5q3iTplqLedoT6KprGIs9
 ZCNuLAmD8mdn2ym8MZ0nC1Mto7wPV71WRAPp8QTbZsjK7IsM7svFNDvfOkLT44Hc92i3
 jmDQOOrI3N8TcbALLSltu+MvL8vlyOvfDeuoQmDKFrwFTduITnaHsZrKYSk4iI3niDdX
 2eXQ==
X-Gm-Message-State: AOJu0YwoXo0QfIISUfSkqwtwxZs2dfnpeBqPZFD2m5icLSyVjTTJ0XtC
 GpW4KGZhTBsnVLCqwKx6Ci2sYQL04oMjALeLOG6UyudYCS9Lxx5NvwWv83ufL+pffP2AQ/ZjFiR
 d/Ns15R6yS36nv1k46/HVmAru4Xnleod2tzHR3PMf
X-Google-Smtp-Source: AGHT+IFBuw8qHzPz0ykqurUSq2LqQrXVs6WBshxi5PLkbEC9cC9RdVFK6RMIyP8C/fKp2wF5NPveagBZzxxX
X-Received: by 2002:a05:6808:2218:b0:3d2:19da:9542 with SMTP id
 5614622812f47-3d545987123mr17868280b6e.25.1719532166105; 
 Thu, 27 Jun 2024 16:49:26 -0700 (PDT)
Received: from postal.iol.unh.edu (postal.iol.unh.edu. [132.177.123.84])
 by smtp-relay.gmail.com with ESMTPS id
 d2e1a72fcca58-70803809bd4sm20000b3a.27.2024.06.27.16.49.25
 (version=TLS1_2 cipher=ECDHE-ECDSA-AES128-GCM-SHA256 bits=128/128);
 Thu, 27 Jun 2024 16:49:26 -0700 (PDT)
X-Relaying-Domain: iol.unh.edu
Date: Thu, 27 Jun 2024 16:49:26 -0700 (PDT)
Message-ID: <667dfa86.050a0220.76c2f.17a2SMTPIN_ADDED_MISSING@mx.google.com>
Received: from [172.21.0.10] (unknown [172.18.0.240])
 by postal.iol.unh.edu (Postfix) with ESMTP id 47E6C605C373;
 Thu, 27 Jun 2024 19:49:25 -0400 (EDT)
Subject: |SUCCESS| pw141946-141947 [PATCH] [2/2] net/cnxk: avoid NPC Rx and M
From: dpdklab@iol.unh.edu
To: Test Report <test-report@dpdk.org>
Cc: dpdk-test-reports@iol.unh.edu
In-Reply-To: <20240627090859.2860207-2-rbhansali@marvell.com>
References: <20240627090859.2860207-2-rbhansali@marvell.com>
Content-Type: text/plain
X-BeenThere: test-report@dpdk.org
X-Mailman-Version: 2.1.29
Precedence: list
List-Id: automatic DPDK test reports <test-report.dpdk.org>
List-Unsubscribe: <https://mails.dpdk.org/options/test-report>,
 <mailto:test-report-request@dpdk.org?subject=unsubscribe>
List-Archive: <http://mails.dpdk.org/archives/test-report/>
List-Post: <mailto:test-report@dpdk.org>
List-Help: <mailto:test-report-request@dpdk.org?subject=help>
List-Subscribe: <https://mails.dpdk.org/listinfo/test-report>,
 <mailto:test-report-request@dpdk.org?subject=subscribe>
Errors-To: test-report-bounces@dpdk.org

Test-Label: iol-unit-amd64-testing
Test-Status: SUCCESS
http://dpdk.org/patch/141947

_Testing PASS_

Submitter: Rahul Bhansali <rbhansali@marvell.com>
Date: Thursday, June 27 2024 09:08:59 
DPDK git baseline: Repo:dpdk
  Branch: master
  CommitID:362db0a4d230fbe43c2da1d6e34ecd0f2f946903

141946-141947 --> testing pass

Test environment and result as below:

+-----------------+----------------+
|   Environment   | dpdk_unit_test |
+=================+================+
| CentOS Stream 9 | PASS           |
+-----------------+----------------+
| CentOS Stream 8 | PASS           |
+-----------------+----------------+
| Debian Bullseye | PASS           |
+-----------------+----------------+
| Debian 12       | PASS           |
+-----------------+----------------+
| Fedora 38       | PASS           |
+-----------------+----------------+
| Fedora 39       | PASS           |
+-----------------+----------------+
| Fedora 37       | PASS           |
+-----------------+----------------+
| RHEL8           | PASS           |
+-----------------+----------------+


CentOS Stream 9
	Kernel: 5.4.0-167-generic
	Compiler: gcc 11.4.1 20230605

CentOS Stream 8
	Kernel: 5.4.0-167-generic
	Compiler: gcc 8.5.0 20210514

Debian Bullseye
	Kernel: 5.4.0-167-generic
	Compiler: gcc 10.2.1-6

Debian 12
	Kernel: Container Host Kernel
	Compiler: gcc 12.2.0

Fedora 38
	Kernel: Depends on container host
	Compiler: gcc 13.2.1

Fedora 39
	Kernel: Depends on container host
	Compiler: gcc 13.2.1

Fedora 37
	Kernel: Depends on container host system
	Compiler: gcc 12.3.1

RHEL8
	Kernel: 5.4.0-167-generic
	Compiler: gcc 8.5.0 20210514 (Red Hat 8.5.0-20)

To view detailed results, visit:
https://lab.dpdk.org/results/dashboard/patchsets/30337/

UNH-IOL DPDK Community Lab

To manage your email subscriptions, visit: 
https://lab.dpdk.org/results/dashboard/preferences/subscriptions/