From mboxrd@z Thu Jan 1 00:00:00 1970 Return-Path: Received: from mails.dpdk.org (mails.dpdk.org [217.70.189.124]) by inbox.dpdk.org (Postfix) with ESMTP id AB74145515 for ; Fri, 28 Jun 2024 02:52:09 +0200 (CEST) Received: from mails.dpdk.org (localhost [127.0.0.1]) by mails.dpdk.org (Postfix) with ESMTP id A5A554029E; Fri, 28 Jun 2024 02:52:09 +0200 (CEST) Received: from mail-pj1-f100.google.com (mail-pj1-f100.google.com [209.85.216.100]) by mails.dpdk.org (Postfix) with ESMTP id 525E44029B for ; Fri, 28 Jun 2024 02:52:08 +0200 (CEST) Received: by mail-pj1-f100.google.com with SMTP id 98e67ed59e1d1-2c7ecfc9e22so77536a91.0 for ; Thu, 27 Jun 2024 17:52:08 -0700 (PDT) DKIM-Signature: v=1; a=rsa-sha256; c=relaxed/relaxed; d=iol.unh.edu; s=unh-iol; t=1719535927; x=1720140727; darn=dpdk.org; h=cc:to:from:subject:message-id:date:from:to:cc:subject:date :message-id:reply-to; bh=/e6vecsMH+s0RKDX4KYvSLTZ7Lz2bbKQMrJWAbzM9Y0=; b=Ox8EQjmq67k1lJusE6/C+EXK+XLkQh+DHZmEMC7NC8egNgAHHOssO+NI18vfowP5r1 gh5HFq7ra1PI5OFXNCJx0EDyCQEUik+5TA4W3G0nGAvPET8yLy9fCCY9BnLHd+acIUG2 HAJ+A7PNffumO8kYISCxYw5vUxRimaQJJOqnM= X-Google-DKIM-Signature: v=1; a=rsa-sha256; c=relaxed/relaxed; d=1e100.net; s=20230601; t=1719535927; x=1720140727; h=cc:to:from:subject:message-id:date:x-gm-message-state:from:to:cc :subject:date:message-id:reply-to; bh=/e6vecsMH+s0RKDX4KYvSLTZ7Lz2bbKQMrJWAbzM9Y0=; b=FUbFNkjkvbyttD3dEXDppFt4HSpnTZhENIWOcMuXRv7cTwXLD/7E+BYM8KpJ2MqCdb amWkrATCgGVn1ksteAinG0okglacA1Y4135wMaYIvBpOOmnB68dHk1bczxwv0DZRW601 JR3wTbqbeFVmKwwx62pbigskYc38blS4kztspQoyex9hjx7EWueETrhNpNpzViApzu8C lf1drQuC1huQaQabhnlTBKiVuc8mKulgJ0J2abU8FjETEl/a+toqdTLSFJqz4UqPwpID gpk9twN9Xh2tYCGmWq+lF8Nvixj/uaLlkn+9S0cRq8QtTjm/NZBKJaEE++T27vjb8N9x LfUg== X-Gm-Message-State: AOJu0Yw3VQPdKNchsd4Bdrd8qEIrOY9G3qfW0BAnKI/TUVFRMwmrWevs CkIL29hZO58DRrCalmZna85Aeg6td0ZFXMiKwoGaDjQYn0aaPXsEpbHMQHcHayZZi+CpacXEVJf ksG+gmsShr0mUpKgAkQ7LPTgYaQ5/5GxXDhiTf5W6uEb/E4sL36+nE7jX X-Google-Smtp-Source: AGHT+IEuWq5Ojys5Q6texZFLvurmBK7hgBUYhLhF72Huke31NNXjuzOQiV0NPIbcAaXKyM3pcOf+nRm0m4+3 X-Received: by 2002:a17:90a:be14:b0:2c2:daf5:4192 with SMTP id 98e67ed59e1d1-2c861409dc4mr12026772a91.32.1719535927611; Thu, 27 Jun 2024 17:52:07 -0700 (PDT) Received: from postal.iol.unh.edu (postal.iol.unh.edu. [2606:4100:3880:1234::84]) by smtp-relay.gmail.com with ESMTPS id 98e67ed59e1d1-2c91ce44ffesm36623a91.6.2024.06.27.17.52.07 (version=TLS1_2 cipher=ECDHE-ECDSA-AES128-GCM-SHA256 bits=128/128); Thu, 27 Jun 2024 17:52:07 -0700 (PDT) X-Relaying-Domain: iol.unh.edu Date: Thu, 27 Jun 2024 17:52:07 -0700 (PDT) Message-ID: <667e0937.170a0220.1018f.2980SMTPIN_ADDED_MISSING@mx.google.com> Received: from [172.21.0.8] (unknown [172.18.0.240]) by postal.iol.unh.edu (Postfix) with ESMTP id BC6E3605C373; Thu, 27 Jun 2024 20:52:06 -0400 (EDT) Subject: |SUCCESS| [GIT MASTER] 3b80379078a1f7c09b8d0ece24442c8ff2e2c67c From: dpdklab@iol.unh.edu To: Test Report Cc: dpdk-test-reports@iol.unh.edu, Akhil Goyal Content-Type: text/plain X-BeenThere: test-report@dpdk.org X-Mailman-Version: 2.1.29 Precedence: list List-Id: automatic DPDK test reports List-Unsubscribe: , List-Archive: List-Post: List-Help: List-Subscribe: , Errors-To: test-report-bounces@dpdk.org _Testing PASS_ Branch: dpdk-next-crypto 3b80379078a1f7c09b8d0ece24442c8ff2e2c67c --> testing pass Test environment and result as below: +---------------------+--------------------+----------------------+-------------------+ | Environment | dpdk_meson_compile | dpdk_mingw64_compile | dpdk_msvc_compile | +=====================+====================+======================+===================+ | FreeBSD 13.3 | PASS | SKIPPED | SKIPPED | +---------------------+--------------------+----------------------+-------------------+ | Windows Server 2019 | PASS | PASS | SKIPPED | +---------------------+--------------------+----------------------+-------------------+ | Windows Server 2022 | PASS | PASS | PASS | +---------------------+--------------------+----------------------+-------------------+ | FreeBSD 14.1 | PASS | SKIPPED | SKIPPED | +---------------------+--------------------+----------------------+-------------------+ FreeBSD 13.3 Kernel: 13.3-RELEASE-p1 Compiler: clang 17.0.6 Windows Server 2019 Kernel: 10.0.17763 Compiler: clang 14.0 and gcc 8.1.0 (MinGW) Windows Server 2022 Kernel: 10.0.20348.2031 Compiler: clang 15.0.7, gcc 8.1.0 (MinGW), and MSVC VS 17.9 FreeBSD 14.1 Kernel: 14.1 Compiler: clang 18.1.5 To view detailed results, visit: https://lab.dpdk.org/results/dashboard/tarballs/29626/ UNH-IOL DPDK Community Lab To manage your email subscriptions, visit: https://lab.dpdk.org/results/dashboard/preferences/subscriptions/