From mboxrd@z Thu Jan  1 00:00:00 1970
Return-Path: <test-report-bounces@dpdk.org>
Received: from mails.dpdk.org (mails.dpdk.org [217.70.189.124])
	by inbox.dpdk.org (Postfix) with ESMTP id BDDEF4551A
	for <public@inbox.dpdk.org>; Fri, 28 Jun 2024 04:41:06 +0200 (CEST)
Received: from mails.dpdk.org (localhost [127.0.0.1])
	by mails.dpdk.org (Postfix) with ESMTP id BA4E64029E;
	Fri, 28 Jun 2024 04:41:06 +0200 (CEST)
Received: from mail-io1-f98.google.com (mail-io1-f98.google.com
 [209.85.166.98]) by mails.dpdk.org (Postfix) with ESMTP id B9DF44029B
 for <test-report@dpdk.org>; Fri, 28 Jun 2024 04:41:05 +0200 (CEST)
Received: by mail-io1-f98.google.com with SMTP id
 ca18e2360f4ac-7eb895539e3so3824439f.2
 for <test-report@dpdk.org>; Thu, 27 Jun 2024 19:41:05 -0700 (PDT)
DKIM-Signature: v=1; a=rsa-sha256; c=relaxed/relaxed;
 d=iol.unh.edu; s=unh-iol; t=1719542465; x=1720147265; darn=dpdk.org;
 h=references:in-reply-to:cc:to:from:subject:message-id:date:from:to
 :cc:subject:date:message-id:reply-to;
 bh=+RkLZztPeuRu2c5J5ScSfxFw559Bh2HYYChB91L8jvc=;
 b=io42Kcy/H5RPTUm/OX6G0TFHLD6qoaKIds97V1omXWtIHzPID3U5vli/TVyG5Gb1Rw
 zD14TT9RmoLn7gukbDH48KiLBn9m/9ABCejej4G3Y90WnORNHIXzMHBYGPnZNwkzMCTQ
 AeezC7+zvLYgtCWPY+L6L+WkAbIEUocvw1CH4=
X-Google-DKIM-Signature: v=1; a=rsa-sha256; c=relaxed/relaxed;
 d=1e100.net; s=20230601; t=1719542465; x=1720147265;
 h=references:in-reply-to:cc:to:from:subject:message-id:date
 :x-gm-message-state:from:to:cc:subject:date:message-id:reply-to;
 bh=+RkLZztPeuRu2c5J5ScSfxFw559Bh2HYYChB91L8jvc=;
 b=vb1b4d1UxrVCYtJg+3Bbd5VDtoIJYiHKdd3g0cMIoDcp/KLXMar+Fixgt5PnnLe5cp
 87+ERamL1MtXp6menxD5WsGXfnc/J00/QiJACvbiT2WjcMmHKM5d+0ZdTtnYvresTR5h
 ETsaQogyB6rmadx/HCevRY9kkSUPXoWHMsQQcX6Xwjyei6SIS9itEt4ZK/wbiJ1HJ1Sc
 6iRRYqWue8ZfQVF5XB0XTBrb7MIOppGiQtEx1ra6eXQ5nAJtok9LpPBx5o1I01JN3noh
 +SdhMhfFVfcBkKu5RCqTrIha+oFdp1XREH4I3b4sLCcnmfBVvhJj5j6Iuz/8N9boZsp3
 WVFg==
X-Gm-Message-State: AOJu0YzfkJ4czeUh1l4aMQV3gE3Fn2WZv16G/guzSh2qMRgnvZj2UAjP
 LrUpeT9CVBg6GK3dEBE28/YofJt9YrJg8ZaV9Jzs6QD2eXSWtRja999oxxfa4xyLlXpOqvr12Vq
 g/6jabGPqo9LiQmtCBcPp1em9Ph/xIjbeqSxHdDAp
X-Google-Smtp-Source: AGHT+IHNn7H02P6XwMsogyqHxTkvAaq7i0mx6NdsI//RmWJuoLTlcVtwHZ1OJaqIxEXxVs30GFOInjG/UhQL
X-Received: by 2002:a05:6602:2dce:b0:7eb:78b4:faee with SMTP id
 ca18e2360f4ac-7f3a4db23dcmr1989838939f.3.1719542464948; 
 Thu, 27 Jun 2024 19:41:04 -0700 (PDT)
Received: from postal.iol.unh.edu (postal.iol.unh.edu. [132.177.123.84])
 by smtp-relay.gmail.com with ESMTPS id
 8926c6da1cb9f-4bb73e27f3esm29222173.37.2024.06.27.19.41.04
 (version=TLS1_2 cipher=ECDHE-ECDSA-AES128-GCM-SHA256 bits=128/128);
 Thu, 27 Jun 2024 19:41:04 -0700 (PDT)
X-Relaying-Domain: iol.unh.edu
Date: Thu, 27 Jun 2024 19:41:04 -0700 (PDT)
Message-ID: <667e22c0.050a0220.d2f73.20ddSMTPIN_ADDED_MISSING@mx.google.com>
Received: from [172.21.0.6] (unknown [172.18.0.240])
 by postal.iol.unh.edu (Postfix) with ESMTP id 6D6E86050A9C;
 Thu, 27 Jun 2024 22:41:04 -0400 (EDT)
Subject: |SUCCESS| pw141914-141915 [PATCH] [v3,2/2] cryptodev: validate crypt
From: dpdklab@iol.unh.edu
To: Test Report <test-report@dpdk.org>
Cc: dpdk-test-reports@iol.unh.edu
In-Reply-To: <20240626220028.2260003-2-ganapati.kundapura@intel.com>
References: <20240626220028.2260003-2-ganapati.kundapura@intel.com>
Content-Type: text/plain
X-BeenThere: test-report@dpdk.org
X-Mailman-Version: 2.1.29
Precedence: list
List-Id: automatic DPDK test reports <test-report.dpdk.org>
List-Unsubscribe: <https://mails.dpdk.org/options/test-report>,
 <mailto:test-report-request@dpdk.org?subject=unsubscribe>
List-Archive: <http://mails.dpdk.org/archives/test-report/>
List-Post: <mailto:test-report@dpdk.org>
List-Help: <mailto:test-report-request@dpdk.org?subject=help>
List-Subscribe: <https://mails.dpdk.org/listinfo/test-report>,
 <mailto:test-report-request@dpdk.org?subject=subscribe>
Errors-To: test-report-bounces@dpdk.org

Test-Label: iol-unit-amd64-testing
Test-Status: SUCCESS
http://dpdk.org/patch/141915

_Testing PASS_

Submitter: Kundapura, Ganapati <ganapati.kundapura@intel.com>
Date: Wednesday, June 26 2024 22:00:28 
DPDK git baseline: Repo:dpdk
  Branch: master
  CommitID:6ca8a873f715e19550fc7dd43ce94af54158a725

141914-141915 --> testing pass

Test environment and result as below:

+---------------------+----------------+
|     Environment     | dpdk_unit_test |
+=====================+================+
| CentOS Stream 8     | PASS           |
+---------------------+----------------+
| Debian Bullseye     | PASS           |
+---------------------+----------------+
| Debian 12           | PASS           |
+---------------------+----------------+
| Fedora 37           | PASS           |
+---------------------+----------------+
| Fedora 38           | PASS           |
+---------------------+----------------+
| Fedora 39           | PASS           |
+---------------------+----------------+
| Fedora 38 (Clang)   | PASS           |
+---------------------+----------------+
| Fedora 40           | PASS           |
+---------------------+----------------+
| openSUSE Leap 15    | PASS           |
+---------------------+----------------+
| RHEL8               | PASS           |
+---------------------+----------------+
| Ubuntu 22.04        | PASS           |
+---------------------+----------------+
| Fedora 39 (Clang)   | PASS           |
+---------------------+----------------+
| RHEL9               | PASS           |
+---------------------+----------------+
| Fedora 40 (Clang)   | PASS           |
+---------------------+----------------+
| Ubuntu 20.04        | PASS           |
+---------------------+----------------+
| Ubuntu 24.04        | PASS           |
+---------------------+----------------+
| CentOS Stream 9     | PASS           |
+---------------------+----------------+
| Windows Server 2019 | PASS           |
+---------------------+----------------+
| Windows Server 2022 | PASS           |
+---------------------+----------------+


CentOS Stream 8
	Kernel: 5.4.0-167-generic
	Compiler: gcc 8.5.0 20210514

Debian Bullseye
	Kernel: 5.4.0-167-generic
	Compiler: gcc 10.2.1-6

Debian 12
	Kernel: Container Host Kernel
	Compiler: gcc 12.2.0

Fedora 37
	Kernel: Depends on container host system
	Compiler: gcc 12.3.1

Fedora 38
	Kernel: Depends on container host
	Compiler: gcc 13.2.1

Fedora 39
	Kernel: Depends on container host
	Compiler: gcc 13.2.1

Fedora 38 (Clang)
	Kernel: Depends on container host
	Compiler: clang 16.0.6

Fedora 40
	Kernel: Depends on container host
	Compiler: gcc 14.1.1

openSUSE Leap 15
	Kernel: 5.4.0-167-generic
	Compiler: gcc 7.5.0

RHEL8
	Kernel: 5.4.0-167-generic
	Compiler: gcc 8.5.0 20210514 (Red Hat 8.5.0-20)

Ubuntu 22.04
	Kernel: 5.4.0-167-generic
	Compiler: gcc 11.4.0

Fedora 39 (Clang)
	Kernel: Depends on container host
	Compiler: clang 17.0.6

RHEL9
	Kernel: Depends on container host
	Compiler: gcc 11.4.1

Fedora 40 (Clang)
	Kernel: Depends on container host
	Compiler: clang 18.1.6

Ubuntu 20.04
	Kernel: 5.4.0-167-generic
	Compiler: gcc 9.4.0-1ubuntu1~20.04.1

Ubuntu 24.04
	Kernel: 5.4.0-167-generic
	Compiler: gcc 13.2.0

CentOS Stream 9
	Kernel: 5.4.0-167-generic
	Compiler: gcc 11.4.1 20230605

Windows Server 2019
	Kernel: 10.0.17763
	Compiler: clang 14.0 and gcc 8.1.0 (MinGW)

Windows Server 2022
	Kernel: 10.0.20348.2031
	Compiler: clang 15.0.7, gcc 8.1.0 (MinGW), and MSVC VS 17.9

To view detailed results, visit:
https://lab.dpdk.org/results/dashboard/patchsets/30329/

UNH-IOL DPDK Community Lab

To manage your email subscriptions, visit: 
https://lab.dpdk.org/results/dashboard/preferences/subscriptions/