From mboxrd@z Thu Jan 1 00:00:00 1970 Return-Path: Received: from mails.dpdk.org (mails.dpdk.org [217.70.189.124]) by inbox.dpdk.org (Postfix) with ESMTP id 3FE5A4551C for ; Fri, 28 Jun 2024 05:42:41 +0200 (CEST) Received: from mails.dpdk.org (localhost [127.0.0.1]) by mails.dpdk.org (Postfix) with ESMTP id 3CC1F427A0; Fri, 28 Jun 2024 05:42:41 +0200 (CEST) Received: from mail-yw1-f228.google.com (mail-yw1-f228.google.com [209.85.128.228]) by mails.dpdk.org (Postfix) with ESMTP id 9CC004111B for ; Fri, 28 Jun 2024 05:42:40 +0200 (CEST) Received: by mail-yw1-f228.google.com with SMTP id 00721157ae682-64ac6015996so1519237b3.1 for ; Thu, 27 Jun 2024 20:42:40 -0700 (PDT) DKIM-Signature: v=1; a=rsa-sha256; c=relaxed/relaxed; d=iol.unh.edu; s=unh-iol; t=1719546160; x=1720150960; darn=dpdk.org; h=cc:to:from:subject:message-id:date:from:to:cc:subject:date :message-id:reply-to; bh=IJ/2OeYB3htGYL5HWxUo6aR+bpPJk+hmQRToAMGwiDE=; b=KGlRFLpFYikAy06R/tbDFYmxv0GjzUYhLbljQ8bn5Pbws9r1RlcuDvRf9RUwtMdQlB rQWwUNVjD8MepbhxzmJFt2sZjcajpGiHadNz7lJhhiZo1sagawoi7iF5eoVh9bUl6hcB dtsd3pw1lkzuFBErR0XHg4h7vyRgF8sapQO5M= X-Google-DKIM-Signature: v=1; a=rsa-sha256; c=relaxed/relaxed; d=1e100.net; s=20230601; t=1719546160; x=1720150960; h=cc:to:from:subject:message-id:date:x-gm-message-state:from:to:cc :subject:date:message-id:reply-to; bh=IJ/2OeYB3htGYL5HWxUo6aR+bpPJk+hmQRToAMGwiDE=; b=YqRZGMlAXV4q2+m3HHlkGz37RRjhx3HHgEiNovX2F7zMGncdVpiwcEYgIGXJAfEOps xpW303ubpsq1bz3+D0p7zelx+p26pG/sCpmrjhDr188ls9wUFqiv4ZNjTv0rBi9Fue3E ZpR38ApYC3mMyGyqXfzbDMCGDYlPO9DOZIFgnoajiiZlKjDtBhs9MXq/Kh+g41sXdnxH sxnh4h4CtKkhZgm71z3L71A/jVHR3YMiQvzf57Kva3OMzmDsLhPP2FyrbJqPyfrZ7RXy RZr4JDrtxA4C53tOXNl3x+cKEyPuGBAQL452Zg01riK8I0aettNj1w1fCXwILXU1TwOa 0ssw== X-Gm-Message-State: AOJu0YyPm6nUkIaaU3nGtLnWG0BjvMjQQXqt+ExanPbTcF7uYaM0YR8l BGFPPnFJ475xEx/uzpJIKo2Y80Ijf0Rz5HISf3nfxRoqOH7UiIIftgM6PBQ1nYTw+82eFTaBGTQ vh+C0Fl1HUn910EkBVCflEQl4ZIiM76wz5Etl4LPcbBOzjjDs+wUYYPSO X-Google-Smtp-Source: AGHT+IGCZhYIcVUCenxDLdfWQ1ar/EvGX/lHDCQAU/bkqp/k1tcWyaP22Rorj8ySI33HPOpq3Pof3+P8R9kR X-Received: by 2002:a81:9216:0:b0:64a:9779:916d with SMTP id 00721157ae682-64a97799346mr13554487b3.9.1719546160009; Thu, 27 Jun 2024 20:42:40 -0700 (PDT) Received: from postal.iol.unh.edu (postal.iol.unh.edu. [2606:4100:3880:1234::84]) by smtp-relay.gmail.com with ESMTPS id 00721157ae682-64a9a616567sm283987b3.25.2024.06.27.20.42.39 (version=TLS1_2 cipher=ECDHE-ECDSA-AES128-GCM-SHA256 bits=128/128); Thu, 27 Jun 2024 20:42:39 -0700 (PDT) X-Relaying-Domain: iol.unh.edu Date: Thu, 27 Jun 2024 20:42:39 -0700 (PDT) Message-ID: <667e312f.050a0220.6650f.2106SMTPIN_ADDED_MISSING@mx.google.com> Received: from [172.21.0.7] (unknown [172.18.0.240]) by postal.iol.unh.edu (Postfix) with ESMTP id A0F12605C373; Thu, 27 Jun 2024 23:42:39 -0400 (EDT) Subject: |SUCCESS| [GIT MASTER] 3b80379078a1f7c09b8d0ece24442c8ff2e2c67c From: dpdklab@iol.unh.edu To: Test Report Cc: dpdk-test-reports@iol.unh.edu, Akhil Goyal Content-Type: text/plain X-BeenThere: test-report@dpdk.org X-Mailman-Version: 2.1.29 Precedence: list List-Id: automatic DPDK test reports List-Unsubscribe: , List-Archive: List-Post: List-Help: List-Subscribe: , Errors-To: test-report-bounces@dpdk.org _Testing PASS_ Branch: dpdk-next-crypto 3b80379078a1f7c09b8d0ece24442c8ff2e2c67c --> testing pass Test environment and result as below: +---------------------+--------------------+----------------------+-------------------+------------------+-------------------+ | Environment | dpdk_meson_compile | dpdk_mingw64_compile | dpdk_msvc_compile | dpdk_compile_ovs | dpdk_compile_spdk | +=====================+====================+======================+===================+==================+===================+ | FreeBSD 13.3 | PASS | SKIPPED | SKIPPED | SKIPPED | SKIPPED | +---------------------+--------------------+----------------------+-------------------+------------------+-------------------+ | Windows Server 2019 | PASS | PASS | SKIPPED | SKIPPED | SKIPPED | +---------------------+--------------------+----------------------+-------------------+------------------+-------------------+ | Windows Server 2022 | PASS | PASS | PASS | SKIPPED | SKIPPED | +---------------------+--------------------+----------------------+-------------------+------------------+-------------------+ | FreeBSD 14.1 | PASS | SKIPPED | SKIPPED | SKIPPED | SKIPPED | +---------------------+--------------------+----------------------+-------------------+------------------+-------------------+ | Debian Bullseye | PASS | SKIPPED | SKIPPED | PASS | PASS | +---------------------+--------------------+----------------------+-------------------+------------------+-------------------+ | Fedora 37 | PASS | SKIPPED | SKIPPED | PASS | PASS | +---------------------+--------------------+----------------------+-------------------+------------------+-------------------+ | Fedora 38 | PASS | SKIPPED | SKIPPED | PASS | PASS | +---------------------+--------------------+----------------------+-------------------+------------------+-------------------+ | RHEL8 | PASS | SKIPPED | SKIPPED | PASS | SKIPPED | +---------------------+--------------------+----------------------+-------------------+------------------+-------------------+ | Fedora 39 | PASS | SKIPPED | SKIPPED | PASS | SKIPPED | +---------------------+--------------------+----------------------+-------------------+------------------+-------------------+ FreeBSD 13.3 Kernel: 13.3-RELEASE-p1 Compiler: clang 17.0.6 Windows Server 2019 Kernel: 10.0.17763 Compiler: clang 14.0 and gcc 8.1.0 (MinGW) Windows Server 2022 Kernel: 10.0.20348.2031 Compiler: clang 15.0.7, gcc 8.1.0 (MinGW), and MSVC VS 17.9 FreeBSD 14.1 Kernel: 14.1 Compiler: clang 18.1.5 Debian Bullseye Kernel: 5.4.0-167-generic Compiler: gcc 10.2.1-6 Fedora 37 Kernel: Depends on container host system Compiler: gcc 12.3.1 Fedora 38 Kernel: Depends on container host Compiler: gcc 13.2.1 RHEL8 Kernel: 5.4.0-167-generic Compiler: gcc 8.5.0 20210514 (Red Hat 8.5.0-20) Fedora 39 Kernel: Depends on container host Compiler: gcc 13.2.1 To view detailed results, visit: https://lab.dpdk.org/results/dashboard/tarballs/29626/ UNH-IOL DPDK Community Lab To manage your email subscriptions, visit: https://lab.dpdk.org/results/dashboard/preferences/subscriptions/