From mboxrd@z Thu Jan 1 00:00:00 1970 Return-Path: Received: from mails.dpdk.org (mails.dpdk.org [217.70.189.124]) by inbox.dpdk.org (Postfix) with ESMTP id E6FE04551C for ; Fri, 28 Jun 2024 05:55:51 +0200 (CEST) Received: from mails.dpdk.org (localhost [127.0.0.1]) by mails.dpdk.org (Postfix) with ESMTP id DEF354111B; Fri, 28 Jun 2024 05:55:51 +0200 (CEST) Received: from mail-qk1-f227.google.com (mail-qk1-f227.google.com [209.85.222.227]) by mails.dpdk.org (Postfix) with ESMTP id 2CFBA4029B for ; Fri, 28 Jun 2024 05:55:36 +0200 (CEST) Received: by mail-qk1-f227.google.com with SMTP id af79cd13be357-79c06169e9cso10903085a.3 for ; Thu, 27 Jun 2024 20:55:36 -0700 (PDT) DKIM-Signature: v=1; a=rsa-sha256; c=relaxed/relaxed; d=iol.unh.edu; s=unh-iol; t=1719546935; x=1720151735; darn=dpdk.org; h=cc:to:from:subject:message-id:date:from:to:cc:subject:date :message-id:reply-to; bh=8YHn54Nj5Zc7QCCQz3VwwZhwK2rJEU1yd5v+Z6j4oZ0=; b=UcNSKtj8apl/RZfdT1gQ6z25KiYtM0bS6xKbMuDl2BWrA+qa2xSRIC6KIPdvznMtlf QK2LP3yHNAC2SaVQBSGNji4YyXMhGgZW2E1UwML9F0xjfkBeDPRSuFJzwV+MCDUE/w/M 0T+BMc6wZd2Fr6cWdgtzbFHaWK0lk22tb2DPY= X-Google-DKIM-Signature: v=1; a=rsa-sha256; c=relaxed/relaxed; d=1e100.net; s=20230601; t=1719546935; x=1720151735; h=cc:to:from:subject:message-id:date:x-gm-message-state:from:to:cc :subject:date:message-id:reply-to; bh=8YHn54Nj5Zc7QCCQz3VwwZhwK2rJEU1yd5v+Z6j4oZ0=; b=TBqhy0b3Ck+E+mZk44ns9N0+gvHr/JzWKHM/UEZa2hPhU9EyLuzpP1lhULRyJwH50L 5h8vbHV4pntLKYcCYw23jR1i2+NXstB54P/Bj/1pTPErV0JsVzPQt4uIRreJghkcw07r 0kh7jlA/WwpNTWsr2z3LG3yr9RkywoYtIt/GE02n3nwEpXtXrJFs3oOQbx0GG8Je3FrH 7UBSMp34SwgkKIu9nrRLSBxQnzZ07RJZGf393AtVRt+23KeCCMygJHkhK5NIrbanx+8v 6IO/1aN8HdMv6g8CqLSdVbi52Q+3wzWyIIVBU+dc5tIHDQr77oV79lTUExnTg8+a8a8F 0oLA== X-Gm-Message-State: AOJu0YwBF85UVk0NCfu6sRm4UZQT96HixkGy1juM7L8fB80+3ik3ZGyZ nC4LKgNYB/9W3PFQWFP/W7Kb53FXzFYa5waW9imAmLA5rGQcg9mdflD7zk3VG18zlshmtQmJGJz lGwGR9rFxfczzkXVc8h57HxhI03goxAWhrQ/h77gulbuxuw1IBqIgzDAn X-Google-Smtp-Source: AGHT+IHMwxwThXlmjcwNtSsCo9xAqH4XDWZo2hqBvx9zsRqUQLGetPcNXdDzkS5lNhG7Nm1hdELG8UnaaIIU X-Received: by 2002:a05:6214:20af:b0:6b5:a000:81ad with SMTP id 6a1803df08f44-6b5a00082bcmr13545106d6.63.1719546935606; Thu, 27 Jun 2024 20:55:35 -0700 (PDT) Received: from postal.iol.unh.edu (postal.iol.unh.edu. [2606:4100:3880:1234::84]) by smtp-relay.gmail.com with ESMTPS id 6a1803df08f44-6b59e577349sm460836d6.46.2024.06.27.20.55.35 (version=TLS1_2 cipher=ECDHE-ECDSA-AES128-GCM-SHA256 bits=128/128); Thu, 27 Jun 2024 20:55:35 -0700 (PDT) X-Relaying-Domain: iol.unh.edu Date: Thu, 27 Jun 2024 20:55:35 -0700 (PDT) Message-ID: <667e3437.d40a0220.b5485.34d1SMTPIN_ADDED_MISSING@mx.google.com> Received: from [172.21.0.6] (unknown [172.18.0.240]) by postal.iol.unh.edu (Postfix) with ESMTP id 5019F605C373; Thu, 27 Jun 2024 23:55:35 -0400 (EDT) Subject: |SUCCESS| [GIT MASTER] 3b80379078a1f7c09b8d0ece24442c8ff2e2c67c From: dpdklab@iol.unh.edu To: Test Report Cc: dpdk-test-reports@iol.unh.edu, Akhil Goyal Content-Type: text/plain X-BeenThere: test-report@dpdk.org X-Mailman-Version: 2.1.29 Precedence: list List-Id: automatic DPDK test reports List-Unsubscribe: , List-Archive: List-Post: List-Help: List-Subscribe: , Errors-To: test-report-bounces@dpdk.org _Testing PASS_ Branch: dpdk-next-crypto 3b80379078a1f7c09b8d0ece24442c8ff2e2c67c --> testing pass Test environment and result as below: +---------------------+--------------------+----------------------+-------------------+------------------+-------------------+ | Environment | dpdk_meson_compile | dpdk_mingw64_compile | dpdk_msvc_compile | dpdk_compile_ovs | dpdk_compile_spdk | +=====================+====================+======================+===================+==================+===================+ | FreeBSD 13.3 | PASS | SKIPPED | SKIPPED | SKIPPED | SKIPPED | +---------------------+--------------------+----------------------+-------------------+------------------+-------------------+ | Windows Server 2019 | PASS | PASS | SKIPPED | SKIPPED | SKIPPED | +---------------------+--------------------+----------------------+-------------------+------------------+-------------------+ | Windows Server 2022 | PASS | PASS | PASS | SKIPPED | SKIPPED | +---------------------+--------------------+----------------------+-------------------+------------------+-------------------+ | FreeBSD 14.1 | PASS | SKIPPED | SKIPPED | SKIPPED | SKIPPED | +---------------------+--------------------+----------------------+-------------------+------------------+-------------------+ | Debian Bullseye | PASS | SKIPPED | SKIPPED | PASS | PASS | +---------------------+--------------------+----------------------+-------------------+------------------+-------------------+ | Fedora 37 | PASS | SKIPPED | SKIPPED | PASS | PASS | +---------------------+--------------------+----------------------+-------------------+------------------+-------------------+ | Fedora 38 | PASS | SKIPPED | SKIPPED | PASS | PASS | +---------------------+--------------------+----------------------+-------------------+------------------+-------------------+ | RHEL8 | PASS | SKIPPED | SKIPPED | PASS | SKIPPED | +---------------------+--------------------+----------------------+-------------------+------------------+-------------------+ | Fedora 39 | PASS | SKIPPED | SKIPPED | PASS | PASS | +---------------------+--------------------+----------------------+-------------------+------------------+-------------------+ | openSUSE Leap 15 | PASS | SKIPPED | SKIPPED | PASS | SKIPPED | +---------------------+--------------------+----------------------+-------------------+------------------+-------------------+ | Ubuntu 20.04 | PASS | SKIPPED | SKIPPED | PASS | SKIPPED | +---------------------+--------------------+----------------------+-------------------+------------------+-------------------+ | Fedora 39 (Clang) | PASS | SKIPPED | SKIPPED | PASS | PASS | +---------------------+--------------------+----------------------+-------------------+------------------+-------------------+ | Fedora 38 (Clang) | PASS | SKIPPED | SKIPPED | PASS | PASS | +---------------------+--------------------+----------------------+-------------------+------------------+-------------------+ | Fedora 40 | PASS | SKIPPED | SKIPPED | PASS | PASS | +---------------------+--------------------+----------------------+-------------------+------------------+-------------------+ FreeBSD 13.3 Kernel: 13.3-RELEASE-p1 Compiler: clang 17.0.6 Windows Server 2019 Kernel: 10.0.17763 Compiler: clang 14.0 and gcc 8.1.0 (MinGW) Windows Server 2022 Kernel: 10.0.20348.2031 Compiler: clang 15.0.7, gcc 8.1.0 (MinGW), and MSVC VS 17.9 FreeBSD 14.1 Kernel: 14.1 Compiler: clang 18.1.5 Debian Bullseye Kernel: 5.4.0-167-generic Compiler: gcc 10.2.1-6 Fedora 37 Kernel: Depends on container host system Compiler: gcc 12.3.1 Fedora 38 Kernel: Depends on container host Compiler: gcc 13.2.1 RHEL8 Kernel: 5.4.0-167-generic Compiler: gcc 8.5.0 20210514 (Red Hat 8.5.0-20) Fedora 39 Kernel: Depends on container host Compiler: gcc 13.2.1 openSUSE Leap 15 Kernel: 5.4.0-167-generic Compiler: gcc 7.5.0 Ubuntu 20.04 Kernel: 5.4.0-167-generic Compiler: gcc 9.4.0-1ubuntu1~20.04.1 Fedora 39 (Clang) Kernel: Depends on container host Compiler: clang 17.0.6 Fedora 38 (Clang) Kernel: Depends on container host Compiler: clang 16.0.6 Fedora 40 Kernel: Depends on container host Compiler: gcc 14.1.1 To view detailed results, visit: https://lab.dpdk.org/results/dashboard/tarballs/29626/ UNH-IOL DPDK Community Lab To manage your email subscriptions, visit: https://lab.dpdk.org/results/dashboard/preferences/subscriptions/