From mboxrd@z Thu Jan 1 00:00:00 1970 Return-Path: Received: from mails.dpdk.org (mails.dpdk.org [217.70.189.124]) by inbox.dpdk.org (Postfix) with ESMTP id 112044551C for ; Fri, 28 Jun 2024 05:55:52 +0200 (CEST) Received: from mails.dpdk.org (localhost [127.0.0.1]) by mails.dpdk.org (Postfix) with ESMTP id 0B72B427E0; Fri, 28 Jun 2024 05:55:52 +0200 (CEST) Received: from mail-il1-f226.google.com (mail-il1-f226.google.com [209.85.166.226]) by mails.dpdk.org (Postfix) with ESMTP id 41A7E4029B for ; Fri, 28 Jun 2024 05:55:47 +0200 (CEST) Received: by mail-il1-f226.google.com with SMTP id e9e14a558f8ab-37636c38d6aso900315ab.3 for ; Thu, 27 Jun 2024 20:55:47 -0700 (PDT) DKIM-Signature: v=1; a=rsa-sha256; c=relaxed/relaxed; d=iol.unh.edu; s=unh-iol; t=1719546946; x=1720151746; darn=dpdk.org; h=cc:to:from:subject:message-id:date:from:to:cc:subject:date :message-id:reply-to; bh=8YHn54Nj5Zc7QCCQz3VwwZhwK2rJEU1yd5v+Z6j4oZ0=; b=bX/xHkeMbhlF9cUR/e9M9IiPSa+IbPNRaR4xXl/yxCgptwDkWBE/aaCaODNqWagq16 tJboGXC35EhjTEs/+ADlBdSb7N/UtF9yo08ykiCSQj80+HyUCkHr6CMqxoNmlFcgWSrt 7QY9DiuF2Am9PYKJv1Drak5MGks6k6j15v+58= X-Google-DKIM-Signature: v=1; a=rsa-sha256; c=relaxed/relaxed; d=1e100.net; s=20230601; t=1719546946; x=1720151746; h=cc:to:from:subject:message-id:date:x-gm-message-state:from:to:cc :subject:date:message-id:reply-to; bh=8YHn54Nj5Zc7QCCQz3VwwZhwK2rJEU1yd5v+Z6j4oZ0=; b=bXHwtjBORVS622OxiXCSVS9DlOTcDkqKEttXbUfpdA4ZXrFLQZbk28u+5YTadwx6E6 SlIPbUKPeCh7qsiCUTCs3zy/9faxYx4H8Qn0P+3ulc3imb+WtFCNdcEacpkfoD+F5o0a lWa5FIQB7VTUAq+24/8w9iD9TcvYMfbNH5/CuiHCve2HKGrT7LUm+yHoFKlD1sBFNvP8 6HfvNHPHizvOqbA/9zPy/1yhayTIT9FDSAX7+wOBT5OA3rcsTO/4tHcTE67WNQt2IOuT HHgGFzHirXrx5LwWgaE8SywhR1BSUNAnOQWwKizy2OIBjuty1EBh71Yzf1qYDMYU5C1S 1egw== X-Gm-Message-State: AOJu0Yxg7in6TUz4uHRZb4i0E6k2KGwctT3dkaUaomSBjbTgw3/9L5wy 5PxBbd1BMfVrC1jq4Lbsmj0kHdI72PC7aRiraosRKA97xKqpTUMdj5NV/fBmPjgxwSAIe14rE7+ 4P1h1ENT45YDecM2hWhDHR1jp5MEOH8UvSpsO7NffNI6iweOjB4tLIHgp X-Google-Smtp-Source: AGHT+IHvYPZJfSJ/XG0cUz+gHv48Y048Ee0TnUNBjYAcVaTrqMqeo5zBFYPauhWoN/ghKHkGtcokUeZlRNa8 X-Received: by 2002:a05:6e02:1ca3:b0:375:9c7e:d09 with SMTP id e9e14a558f8ab-3763f59e0aamr237912145ab.7.1719546946523; Thu, 27 Jun 2024 20:55:46 -0700 (PDT) Received: from postal.iol.unh.edu (postal.iol.unh.edu. [2606:4100:3880:1234::84]) by smtp-relay.gmail.com with ESMTPS id e9e14a558f8ab-37ad2e4bfc5sm423035ab.34.2024.06.27.20.55.46 (version=TLS1_2 cipher=ECDHE-ECDSA-AES128-GCM-SHA256 bits=128/128); Thu, 27 Jun 2024 20:55:46 -0700 (PDT) X-Relaying-Domain: iol.unh.edu Date: Thu, 27 Jun 2024 20:55:46 -0700 (PDT) Message-ID: <667e3442.920a0220.aff7.3171SMTPIN_ADDED_MISSING@mx.google.com> Received: from [172.21.0.7] (unknown [172.18.0.240]) by postal.iol.unh.edu (Postfix) with ESMTP id 03BC5605C373; Thu, 27 Jun 2024 23:55:46 -0400 (EDT) Subject: |SUCCESS| [GIT MASTER] 3b80379078a1f7c09b8d0ece24442c8ff2e2c67c From: dpdklab@iol.unh.edu To: Test Report Cc: dpdk-test-reports@iol.unh.edu, Akhil Goyal Content-Type: text/plain X-BeenThere: test-report@dpdk.org X-Mailman-Version: 2.1.29 Precedence: list List-Id: automatic DPDK test reports List-Unsubscribe: , List-Archive: List-Post: List-Help: List-Subscribe: , Errors-To: test-report-bounces@dpdk.org _Testing PASS_ Branch: dpdk-next-crypto 3b80379078a1f7c09b8d0ece24442c8ff2e2c67c --> testing pass Test environment and result as below: +---------------------+--------------------+----------------------+-------------------+------------------+-------------------+ | Environment | dpdk_meson_compile | dpdk_mingw64_compile | dpdk_msvc_compile | dpdk_compile_ovs | dpdk_compile_spdk | +=====================+====================+======================+===================+==================+===================+ | FreeBSD 13.3 | PASS | SKIPPED | SKIPPED | SKIPPED | SKIPPED | +---------------------+--------------------+----------------------+-------------------+------------------+-------------------+ | Windows Server 2019 | PASS | PASS | SKIPPED | SKIPPED | SKIPPED | +---------------------+--------------------+----------------------+-------------------+------------------+-------------------+ | Windows Server 2022 | PASS | PASS | PASS | SKIPPED | SKIPPED | +---------------------+--------------------+----------------------+-------------------+------------------+-------------------+ | FreeBSD 14.1 | PASS | SKIPPED | SKIPPED | SKIPPED | SKIPPED | +---------------------+--------------------+----------------------+-------------------+------------------+-------------------+ | Debian Bullseye | PASS | SKIPPED | SKIPPED | PASS | PASS | +---------------------+--------------------+----------------------+-------------------+------------------+-------------------+ | Fedora 37 | PASS | SKIPPED | SKIPPED | PASS | PASS | +---------------------+--------------------+----------------------+-------------------+------------------+-------------------+ | Fedora 38 | PASS | SKIPPED | SKIPPED | PASS | PASS | +---------------------+--------------------+----------------------+-------------------+------------------+-------------------+ | RHEL8 | PASS | SKIPPED | SKIPPED | PASS | SKIPPED | +---------------------+--------------------+----------------------+-------------------+------------------+-------------------+ | Fedora 39 | PASS | SKIPPED | SKIPPED | PASS | PASS | +---------------------+--------------------+----------------------+-------------------+------------------+-------------------+ | openSUSE Leap 15 | PASS | SKIPPED | SKIPPED | PASS | SKIPPED | +---------------------+--------------------+----------------------+-------------------+------------------+-------------------+ | Ubuntu 20.04 | PASS | SKIPPED | SKIPPED | PASS | SKIPPED | +---------------------+--------------------+----------------------+-------------------+------------------+-------------------+ | Fedora 39 (Clang) | PASS | SKIPPED | SKIPPED | PASS | PASS | +---------------------+--------------------+----------------------+-------------------+------------------+-------------------+ | Fedora 38 (Clang) | PASS | SKIPPED | SKIPPED | PASS | PASS | +---------------------+--------------------+----------------------+-------------------+------------------+-------------------+ | Fedora 40 | PASS | SKIPPED | SKIPPED | PASS | PASS | +---------------------+--------------------+----------------------+-------------------+------------------+-------------------+ FreeBSD 13.3 Kernel: 13.3-RELEASE-p1 Compiler: clang 17.0.6 Windows Server 2019 Kernel: 10.0.17763 Compiler: clang 14.0 and gcc 8.1.0 (MinGW) Windows Server 2022 Kernel: 10.0.20348.2031 Compiler: clang 15.0.7, gcc 8.1.0 (MinGW), and MSVC VS 17.9 FreeBSD 14.1 Kernel: 14.1 Compiler: clang 18.1.5 Debian Bullseye Kernel: 5.4.0-167-generic Compiler: gcc 10.2.1-6 Fedora 37 Kernel: Depends on container host system Compiler: gcc 12.3.1 Fedora 38 Kernel: Depends on container host Compiler: gcc 13.2.1 RHEL8 Kernel: 5.4.0-167-generic Compiler: gcc 8.5.0 20210514 (Red Hat 8.5.0-20) Fedora 39 Kernel: Depends on container host Compiler: gcc 13.2.1 openSUSE Leap 15 Kernel: 5.4.0-167-generic Compiler: gcc 7.5.0 Ubuntu 20.04 Kernel: 5.4.0-167-generic Compiler: gcc 9.4.0-1ubuntu1~20.04.1 Fedora 39 (Clang) Kernel: Depends on container host Compiler: clang 17.0.6 Fedora 38 (Clang) Kernel: Depends on container host Compiler: clang 16.0.6 Fedora 40 Kernel: Depends on container host Compiler: gcc 14.1.1 To view detailed results, visit: https://lab.dpdk.org/results/dashboard/tarballs/29626/ UNH-IOL DPDK Community Lab To manage your email subscriptions, visit: https://lab.dpdk.org/results/dashboard/preferences/subscriptions/