From mboxrd@z Thu Jan 1 00:00:00 1970 Return-Path: Received: from mails.dpdk.org (mails.dpdk.org [217.70.189.124]) by inbox.dpdk.org (Postfix) with ESMTP id EAD114551D for ; Fri, 28 Jun 2024 06:01:57 +0200 (CEST) Received: from mails.dpdk.org (localhost [127.0.0.1]) by mails.dpdk.org (Postfix) with ESMTP id E54964111B; Fri, 28 Jun 2024 06:01:57 +0200 (CEST) Received: from mail-oa1-f98.google.com (mail-oa1-f98.google.com [209.85.160.98]) by mails.dpdk.org (Postfix) with ESMTP id 1A8D54029B for ; Fri, 28 Jun 2024 06:01:57 +0200 (CEST) Received: by mail-oa1-f98.google.com with SMTP id 586e51a60fabf-25d57957b37so131908fac.2 for ; Thu, 27 Jun 2024 21:01:57 -0700 (PDT) DKIM-Signature: v=1; a=rsa-sha256; c=relaxed/relaxed; d=iol.unh.edu; s=unh-iol; t=1719547316; x=1720152116; darn=dpdk.org; h=cc:to:from:subject:message-id:date:from:to:cc:subject:date :message-id:reply-to; bh=C3mXHf+Sa0ex1crDikN+ljQA9fBFgJZWxXFAXIYt3dI=; b=GyZtBVYIcqchsGWQp+vcHprbbjdtm2zj0Z4kIFXW3FevX1GJ2xful5tE+8cubidh0i Dy4JCB00iF7T+GlmQmEoBFbKftPo51MBNjg7t8azcfEgKo72kIn+IxVLsm6qA41q8+D5 TuZkKSQISKY51LfVRo7gdFLfrNffrJ/Yx/7Kg= X-Google-DKIM-Signature: v=1; a=rsa-sha256; c=relaxed/relaxed; d=1e100.net; s=20230601; t=1719547316; x=1720152116; h=cc:to:from:subject:message-id:date:x-gm-message-state:from:to:cc :subject:date:message-id:reply-to; bh=C3mXHf+Sa0ex1crDikN+ljQA9fBFgJZWxXFAXIYt3dI=; b=pWGbvUy2J7YOibg6lB01XDaVXkvGWTyXA6V5wPA/2mbuXAldaPB7dTYZ6+8gOtGsp9 z+G9xIufTgmR3gAyKzbK1ffuhNQAWe0AhHy9PJVLRMXec+XB4vaxKT/hfFEifuSDYOpn t7/APux8qiAIR6q9fVWnslBnhU5bViJ2C5Lf14YVeQTM8PJYaE3pTZwaM2mOJLZTj2/K eTWB4CXFGB/OdEBfyrLklFrfZfmL4HpxCMbW2FvCxOL8Qg0gvpLoMIpr1mkUabmxJAQ8 XKXMJfvWsFP1ImWaTH8+5GQaDQDyEJFAKENaLoqMPkq9+MQrfXn0VaA/SzXlmYslS794 GckA== X-Gm-Message-State: AOJu0YwKAmXNyJg5MAjKap3HJtndzjZ9GlEPMsrjwga+7AfLw21pZFZH 9hF1BGpkrXN0OpesajEOwH8MUCiMHxV8OonSx21OlYPyG2SywpVyPJ3TENH8P8xEgpDBnULEYku KDMMYEQY4eHF9h9vtB/qf2MoAl/nykf4wASsMwlD80j8L/m6UwDfPBzWp X-Google-Smtp-Source: AGHT+IEOEMRpTvFoTSAPf2OTDAILmbg5bx/AMrOjIiCaaD3mNYJtIDKN/DYGDJyDwGuzVkFrvk2UvlRkS0+r X-Received: by 2002:a05:6870:6590:b0:254:bd24:de83 with SMTP id 586e51a60fabf-25d06bc8508mr14630798fac.12.1719547316317; Thu, 27 Jun 2024 21:01:56 -0700 (PDT) Received: from postal.iol.unh.edu (postal.iol.unh.edu. [2606:4100:3880:1234::84]) by smtp-relay.gmail.com with ESMTPS id d2e1a72fcca58-708037115fdsm35659b3a.23.2024.06.27.21.01.56 (version=TLS1_2 cipher=ECDHE-ECDSA-AES128-GCM-SHA256 bits=128/128); Thu, 27 Jun 2024 21:01:56 -0700 (PDT) X-Relaying-Domain: iol.unh.edu Date: Thu, 27 Jun 2024 21:01:56 -0700 (PDT) Message-ID: <667e35b4.050a0220.4b36d.2ac3SMTPIN_ADDED_MISSING@mx.google.com> Received: from [172.21.0.6] (unknown [172.18.0.240]) by postal.iol.unh.edu (Postfix) with ESMTP id 7B7E7605C373; Fri, 28 Jun 2024 00:01:55 -0400 (EDT) Subject: |SUCCESS| [GIT MASTER] 3b80379078a1f7c09b8d0ece24442c8ff2e2c67c From: dpdklab@iol.unh.edu To: Test Report Cc: dpdk-test-reports@iol.unh.edu, Akhil Goyal Content-Type: text/plain X-BeenThere: test-report@dpdk.org X-Mailman-Version: 2.1.29 Precedence: list List-Id: automatic DPDK test reports List-Unsubscribe: , List-Archive: List-Post: List-Help: List-Subscribe: , Errors-To: test-report-bounces@dpdk.org _Testing PASS_ Branch: dpdk-next-crypto 3b80379078a1f7c09b8d0ece24442c8ff2e2c67c --> testing pass Test environment and result as below: +---------------------+--------------------+----------------------+-------------------+------------------+-------------------+ | Environment | dpdk_meson_compile | dpdk_mingw64_compile | dpdk_msvc_compile | dpdk_compile_ovs | dpdk_compile_spdk | +=====================+====================+======================+===================+==================+===================+ | FreeBSD 13.3 | PASS | SKIPPED | SKIPPED | SKIPPED | SKIPPED | +---------------------+--------------------+----------------------+-------------------+------------------+-------------------+ | Windows Server 2019 | PASS | PASS | SKIPPED | SKIPPED | SKIPPED | +---------------------+--------------------+----------------------+-------------------+------------------+-------------------+ | Windows Server 2022 | PASS | PASS | PASS | SKIPPED | SKIPPED | +---------------------+--------------------+----------------------+-------------------+------------------+-------------------+ | FreeBSD 14.1 | PASS | SKIPPED | SKIPPED | SKIPPED | SKIPPED | +---------------------+--------------------+----------------------+-------------------+------------------+-------------------+ | Debian Bullseye | PASS | SKIPPED | SKIPPED | PASS | PASS | +---------------------+--------------------+----------------------+-------------------+------------------+-------------------+ | Fedora 37 | PASS | SKIPPED | SKIPPED | PASS | PASS | +---------------------+--------------------+----------------------+-------------------+------------------+-------------------+ | Fedora 38 | PASS | SKIPPED | SKIPPED | PASS | PASS | +---------------------+--------------------+----------------------+-------------------+------------------+-------------------+ | RHEL8 | PASS | SKIPPED | SKIPPED | PASS | SKIPPED | +---------------------+--------------------+----------------------+-------------------+------------------+-------------------+ | Fedora 39 | PASS | SKIPPED | SKIPPED | PASS | PASS | +---------------------+--------------------+----------------------+-------------------+------------------+-------------------+ | openSUSE Leap 15 | PASS | SKIPPED | SKIPPED | PASS | SKIPPED | +---------------------+--------------------+----------------------+-------------------+------------------+-------------------+ | Ubuntu 20.04 | PASS | SKIPPED | SKIPPED | PASS | SKIPPED | +---------------------+--------------------+----------------------+-------------------+------------------+-------------------+ | Fedora 39 (Clang) | PASS | SKIPPED | SKIPPED | PASS | PASS | +---------------------+--------------------+----------------------+-------------------+------------------+-------------------+ | Fedora 38 (Clang) | PASS | SKIPPED | SKIPPED | PASS | PASS | +---------------------+--------------------+----------------------+-------------------+------------------+-------------------+ | Fedora 40 | PASS | SKIPPED | SKIPPED | PASS | PASS | +---------------------+--------------------+----------------------+-------------------+------------------+-------------------+ | Fedora 40 (Clang) | PASS | SKIPPED | SKIPPED | PASS | PASS | +---------------------+--------------------+----------------------+-------------------+------------------+-------------------+ | Ubuntu 24.04 | PASS | SKIPPED | SKIPPED | PASS | PASS | +---------------------+--------------------+----------------------+-------------------+------------------+-------------------+ | Ubuntu 22.04 | PASS | SKIPPED | SKIPPED | PASS | PASS | +---------------------+--------------------+----------------------+-------------------+------------------+-------------------+ FreeBSD 13.3 Kernel: 13.3-RELEASE-p1 Compiler: clang 17.0.6 Windows Server 2019 Kernel: 10.0.17763 Compiler: clang 14.0 and gcc 8.1.0 (MinGW) Windows Server 2022 Kernel: 10.0.20348.2031 Compiler: clang 15.0.7, gcc 8.1.0 (MinGW), and MSVC VS 17.9 FreeBSD 14.1 Kernel: 14.1 Compiler: clang 18.1.5 Debian Bullseye Kernel: 5.4.0-167-generic Compiler: gcc 10.2.1-6 Fedora 37 Kernel: Depends on container host system Compiler: gcc 12.3.1 Fedora 38 Kernel: Depends on container host Compiler: gcc 13.2.1 RHEL8 Kernel: 5.4.0-167-generic Compiler: gcc 8.5.0 20210514 (Red Hat 8.5.0-20) Fedora 39 Kernel: Depends on container host Compiler: gcc 13.2.1 openSUSE Leap 15 Kernel: 5.4.0-167-generic Compiler: gcc 7.5.0 Ubuntu 20.04 Kernel: 5.4.0-167-generic Compiler: gcc 9.4.0-1ubuntu1~20.04.1 Fedora 39 (Clang) Kernel: Depends on container host Compiler: clang 17.0.6 Fedora 38 (Clang) Kernel: Depends on container host Compiler: clang 16.0.6 Fedora 40 Kernel: Depends on container host Compiler: gcc 14.1.1 Fedora 40 (Clang) Kernel: Depends on container host Compiler: clang 18.1.6 Ubuntu 24.04 Kernel: 5.4.0-167-generic Compiler: gcc 13.2.0 Ubuntu 22.04 Kernel: 5.4.0-167-generic Compiler: gcc 11.4.0 To view detailed results, visit: https://lab.dpdk.org/results/dashboard/tarballs/29626/ UNH-IOL DPDK Community Lab To manage your email subscriptions, visit: https://lab.dpdk.org/results/dashboard/preferences/subscriptions/