From mboxrd@z Thu Jan 1 00:00:00 1970 Return-Path: Received: from mails.dpdk.org (mails.dpdk.org [217.70.189.124]) by inbox.dpdk.org (Postfix) with ESMTP id 9482C4551D for ; Fri, 28 Jun 2024 06:15:17 +0200 (CEST) Received: from mails.dpdk.org (localhost [127.0.0.1]) by mails.dpdk.org (Postfix) with ESMTP id 9078A42D26; Fri, 28 Jun 2024 06:15:17 +0200 (CEST) Received: from mail-pf1-f228.google.com (mail-pf1-f228.google.com [209.85.210.228]) by mails.dpdk.org (Postfix) with ESMTP id 0A08442D26 for ; Fri, 28 Jun 2024 06:15:06 +0200 (CEST) Received: by mail-pf1-f228.google.com with SMTP id d2e1a72fcca58-7024d571d8eso178860b3a.0 for ; Thu, 27 Jun 2024 21:15:05 -0700 (PDT) DKIM-Signature: v=1; a=rsa-sha256; c=relaxed/relaxed; d=iol.unh.edu; s=unh-iol; t=1719548105; x=1720152905; darn=dpdk.org; h=cc:to:from:subject:message-id:date:from:to:cc:subject:date :message-id:reply-to; bh=oAc2wmBXQ8GfkwH8RHNM8S+AS0Yul34525qla6BP2cY=; b=RbwNSfoPVZKGUsWaDl/WVB4rh9qWo0o5CBOjyOfDF3BorZb429uhJYiXaC95UHSBCp BShTwWV9OcPjlFpH7uT80/WOKARMVjl9HEyePbf6W9S9JbNVG6fkTYlGOP6ZEk2anfh7 D9CtSLvYmiDfI1MF/2ocTo6vRy6AXUXOjV7Tg= X-Google-DKIM-Signature: v=1; a=rsa-sha256; c=relaxed/relaxed; d=1e100.net; s=20230601; t=1719548105; x=1720152905; h=cc:to:from:subject:message-id:date:x-gm-message-state:from:to:cc :subject:date:message-id:reply-to; bh=oAc2wmBXQ8GfkwH8RHNM8S+AS0Yul34525qla6BP2cY=; b=Ff8eRIqevWUur9aWO1BfQNfDnFFduFxNRSa2R3EVgkR4APaPecRwb3mMDpVrIGVFCs SsbqbIGX2QvrpHgUJT37XiHKSW78nz9gx+n2Hpw5KgsJnBg8Yisjp+B/VGXkJGqxc1fk SqwLPUETC2I3/zDiN/25+H4iBAgPmOyI4gomvA8X+ln5YMsJ8qEXhwF4Z+lPRzqq9W5u quPZQVKjZ3JOyolXjteiwp3xMCotcDkRTYNXhqfdtKCBpRFyOKH3JJN8sEHFBp4ccmL3 kfJg3QztFG4koHey+v6/GUH4iLyw6MwanFovS1jbFJMknWlThnH5H7fEPbux4bRh+xKv W3Sw== X-Gm-Message-State: AOJu0YySktUKt5Tzzsscx/QMnsgi83DEgWEz+HWaqGTEzgI20vvgRmY3 HdtXTTTX20LULjYTmvTIT1/SGygs6TyZkAWMlIagl2W1dttJxa3/UfaeidEhwLpjb8bIRkIv3QX uF5680/Sm7tqFtm0pr73qeu6ogxBKF5nI6XJu+T50 X-Google-Smtp-Source: AGHT+IEBNhUeaXMyEGzOj1dGoABKz3CgFsnl8gCZ4e5WGp18+EE1FZp2Z9VQ/melGCG7s8bOux+oSp85DXtC X-Received: by 2002:a05:6a20:1b1f:b0:1bd:251a:b657 with SMTP id adf61e73a8af0-1bd251ab704mr10031409637.52.1719548105048; Thu, 27 Jun 2024 21:15:05 -0700 (PDT) Received: from postal.iol.unh.edu (postal.iol.unh.edu. [132.177.123.84]) by smtp-relay.gmail.com with ESMTPS id d9443c01a7336-1fac15b2bbcsm267275ad.140.2024.06.27.21.15.04 (version=TLS1_2 cipher=ECDHE-ECDSA-AES128-GCM-SHA256 bits=128/128); Thu, 27 Jun 2024 21:15:05 -0700 (PDT) X-Relaying-Domain: iol.unh.edu Date: Thu, 27 Jun 2024 21:15:05 -0700 (PDT) Message-ID: <667e38c9.170a0220.f4f48.1f0bSMTPIN_ADDED_MISSING@mx.google.com> Received: from [172.21.0.7] (unknown [172.18.0.240]) by postal.iol.unh.edu (Postfix) with ESMTP id 84003605C373; Fri, 28 Jun 2024 00:15:04 -0400 (EDT) Subject: |SUCCESS| [GIT MASTER] 3b80379078a1f7c09b8d0ece24442c8ff2e2c67c From: dpdklab@iol.unh.edu To: Test Report Cc: dpdk-test-reports@iol.unh.edu, Akhil Goyal Content-Type: text/plain X-BeenThere: test-report@dpdk.org X-Mailman-Version: 2.1.29 Precedence: list List-Id: automatic DPDK test reports List-Unsubscribe: , List-Archive: List-Post: List-Help: List-Subscribe: , Errors-To: test-report-bounces@dpdk.org _Testing PASS_ Branch: dpdk-next-crypto 3b80379078a1f7c09b8d0ece24442c8ff2e2c67c --> testing pass Test environment and result as below: +---------------------+--------------------+----------------------+-------------------+------------------+-------------------+ | Environment | dpdk_meson_compile | dpdk_mingw64_compile | dpdk_msvc_compile | dpdk_compile_ovs | dpdk_compile_spdk | +=====================+====================+======================+===================+==================+===================+ | FreeBSD 13.3 | PASS | SKIPPED | SKIPPED | SKIPPED | SKIPPED | +---------------------+--------------------+----------------------+-------------------+------------------+-------------------+ | Windows Server 2019 | PASS | PASS | SKIPPED | SKIPPED | SKIPPED | +---------------------+--------------------+----------------------+-------------------+------------------+-------------------+ | Windows Server 2022 | PASS | PASS | PASS | SKIPPED | SKIPPED | +---------------------+--------------------+----------------------+-------------------+------------------+-------------------+ | FreeBSD 14.1 | PASS | SKIPPED | SKIPPED | SKIPPED | SKIPPED | +---------------------+--------------------+----------------------+-------------------+------------------+-------------------+ | Debian Bullseye | PASS | SKIPPED | SKIPPED | PASS | PASS | +---------------------+--------------------+----------------------+-------------------+------------------+-------------------+ | Fedora 37 | PASS | SKIPPED | SKIPPED | PASS | PASS | +---------------------+--------------------+----------------------+-------------------+------------------+-------------------+ | Fedora 38 | PASS | SKIPPED | SKIPPED | PASS | PASS | +---------------------+--------------------+----------------------+-------------------+------------------+-------------------+ | RHEL8 | PASS | SKIPPED | SKIPPED | PASS | SKIPPED | +---------------------+--------------------+----------------------+-------------------+------------------+-------------------+ | Fedora 39 | PASS | SKIPPED | SKIPPED | PASS | PASS | +---------------------+--------------------+----------------------+-------------------+------------------+-------------------+ | openSUSE Leap 15 | PASS | SKIPPED | SKIPPED | PASS | SKIPPED | +---------------------+--------------------+----------------------+-------------------+------------------+-------------------+ | Ubuntu 20.04 | PASS | SKIPPED | SKIPPED | PASS | SKIPPED | +---------------------+--------------------+----------------------+-------------------+------------------+-------------------+ | Fedora 39 (Clang) | PASS | SKIPPED | SKIPPED | PASS | PASS | +---------------------+--------------------+----------------------+-------------------+------------------+-------------------+ | Fedora 38 (Clang) | PASS | SKIPPED | SKIPPED | PASS | PASS | +---------------------+--------------------+----------------------+-------------------+------------------+-------------------+ | Fedora 40 | PASS | SKIPPED | SKIPPED | PASS | PASS | +---------------------+--------------------+----------------------+-------------------+------------------+-------------------+ | Fedora 40 (Clang) | PASS | SKIPPED | SKIPPED | PASS | PASS | +---------------------+--------------------+----------------------+-------------------+------------------+-------------------+ | Ubuntu 24.04 | PASS | SKIPPED | SKIPPED | PASS | PASS | +---------------------+--------------------+----------------------+-------------------+------------------+-------------------+ | Ubuntu 22.04 | PASS | SKIPPED | SKIPPED | PASS | PASS | +---------------------+--------------------+----------------------+-------------------+------------------+-------------------+ | CentOS Stream 9 | PASS | SKIPPED | SKIPPED | PASS | PASS | +---------------------+--------------------+----------------------+-------------------+------------------+-------------------+ FreeBSD 13.3 Kernel: 13.3-RELEASE-p1 Compiler: clang 17.0.6 Windows Server 2019 Kernel: 10.0.17763 Compiler: clang 14.0 and gcc 8.1.0 (MinGW) Windows Server 2022 Kernel: 10.0.20348.2031 Compiler: clang 15.0.7, gcc 8.1.0 (MinGW), and MSVC VS 17.9 FreeBSD 14.1 Kernel: 14.1 Compiler: clang 18.1.5 Debian Bullseye Kernel: 5.4.0-167-generic Compiler: gcc 10.2.1-6 Fedora 37 Kernel: Depends on container host system Compiler: gcc 12.3.1 Fedora 38 Kernel: Depends on container host Compiler: gcc 13.2.1 RHEL8 Kernel: 5.4.0-167-generic Compiler: gcc 8.5.0 20210514 (Red Hat 8.5.0-20) Fedora 39 Kernel: Depends on container host Compiler: gcc 13.2.1 openSUSE Leap 15 Kernel: 5.4.0-167-generic Compiler: gcc 7.5.0 Ubuntu 20.04 Kernel: 5.4.0-167-generic Compiler: gcc 9.4.0-1ubuntu1~20.04.1 Fedora 39 (Clang) Kernel: Depends on container host Compiler: clang 17.0.6 Fedora 38 (Clang) Kernel: Depends on container host Compiler: clang 16.0.6 Fedora 40 Kernel: Depends on container host Compiler: gcc 14.1.1 Fedora 40 (Clang) Kernel: Depends on container host Compiler: clang 18.1.6 Ubuntu 24.04 Kernel: 5.4.0-167-generic Compiler: gcc 13.2.0 Ubuntu 22.04 Kernel: 5.4.0-167-generic Compiler: gcc 11.4.0 CentOS Stream 9 Kernel: 5.4.0-167-generic Compiler: gcc 11.4.1 20230605 To view detailed results, visit: https://lab.dpdk.org/results/dashboard/tarballs/29626/ UNH-IOL DPDK Community Lab To manage your email subscriptions, visit: https://lab.dpdk.org/results/dashboard/preferences/subscriptions/