From mboxrd@z Thu Jan 1 00:00:00 1970 Return-Path: Received: from mails.dpdk.org (mails.dpdk.org [217.70.189.124]) by inbox.dpdk.org (Postfix) with ESMTP id 2314345510 for ; Fri, 28 Jun 2024 06:40:43 +0200 (CEST) Received: from mails.dpdk.org (localhost [127.0.0.1]) by mails.dpdk.org (Postfix) with ESMTP id ACB0142DBD; Fri, 28 Jun 2024 06:40:42 +0200 (CEST) Received: from mail-ot1-f98.google.com (mail-ot1-f98.google.com [209.85.210.98]) by mails.dpdk.org (Postfix) with ESMTP id 59ABC410E4 for ; Fri, 28 Jun 2024 06:40:33 +0200 (CEST) Received: by mail-ot1-f98.google.com with SMTP id 46e09a7af769-700ca6171f1so105952a34.2 for ; Thu, 27 Jun 2024 21:40:33 -0700 (PDT) DKIM-Signature: v=1; a=rsa-sha256; c=relaxed/relaxed; d=iol.unh.edu; s=unh-iol; t=1719549632; x=1720154432; darn=dpdk.org; h=cc:to:from:subject:message-id:date:from:to:cc:subject:date :message-id:reply-to; bh=wkeHDGMVhajRJhfByjZwlW67wjkjVcNR609QA4WpMFU=; b=MH/kOZ4D1cabidlC7MJEqbjGpeAXnwPGNPMJ8Dar1AWlhC/VL0pI1mETQh2Iqeh99A eLMmJrY3jFMQ/ivRHQpcZ/UnqI6GmgV4URUAdt1Nf2bB2nN5jAvca6dOzzLB56DW2Q1b ACK0xnzslYB1fmwFdw7WKs8JZcg9R0LOMVu80= X-Google-DKIM-Signature: v=1; a=rsa-sha256; c=relaxed/relaxed; d=1e100.net; s=20230601; t=1719549632; x=1720154432; h=cc:to:from:subject:message-id:date:x-gm-message-state:from:to:cc :subject:date:message-id:reply-to; bh=wkeHDGMVhajRJhfByjZwlW67wjkjVcNR609QA4WpMFU=; b=C5YK3g2o+E05lkOXWD/JYCHGDaRGezqcjmfoZ7ORGyaREaBjZ2YoPBcrTYCxauUhXA xEV9JIZCDPSyAsEhRsO7OHNbBGPKtB9goRiqIdRIwZ/fu9yPtQOIycm8svMuY7XYiXms l+aEPmijZw/xSoCGOih4gPZpVoPw1HnBP7c1A4pVrZ33bAAV8JRP0TOTsze0ecXEENHz uDEs2+3L5xB8tMTiZ3JhXxA8VeAPXQBpXNeNlp4bm8oF2Md5J7A7c1M85TCklTQNwNY3 G49TmM6OwCia+9c22mGft0kDMUkKphoM6EL0dItq4/beYlAOBHfoGpJJf5U8LiQa03yv I4pA== X-Gm-Message-State: AOJu0YyD0vaJvbZ1I/8S8VO9vPjJTGy2NnSv/pssiUbsZxvJOKg+DIMd LpyLhW7nzSVD0feSUyakcTbyLkB+7zN3+vdGJ+CqMEic9oDZeajdfnO9RqmLUyz0gCqmkklsjqf mSktPfK4OHH6XQniPC2Q0Jid/Vbgf20l3jQrQ3fgBAbQQjvru2MVycCNM X-Google-Smtp-Source: AGHT+IF6rlNJ+wXCScl5QAF0KNlkZGkV2W5FGj6kCyljG1NjSzJDfXPy0tmmD2WgIRzktfITXGizeOz7RIz6 X-Received: by 2002:a05:6870:1054:b0:24f:cddc:ccff with SMTP id 586e51a60fabf-25d06c118ebmr10023283fac.21.1719549632072; Thu, 27 Jun 2024 21:40:32 -0700 (PDT) Received: from postal.iol.unh.edu (postal.iol.unh.edu. [2606:4100:3880:1234::84]) by smtp-relay.gmail.com with ESMTPS id 586e51a60fabf-25d8e25ac89sm44765fac.23.2024.06.27.21.40.31 (version=TLS1_2 cipher=ECDHE-ECDSA-AES128-GCM-SHA256 bits=128/128); Thu, 27 Jun 2024 21:40:32 -0700 (PDT) X-Relaying-Domain: iol.unh.edu Date: Thu, 27 Jun 2024 21:40:32 -0700 (PDT) Message-ID: <667e3ec0.050a0220.49aca.3206SMTPIN_ADDED_MISSING@mx.google.com> Received: from [172.17.0.3] (unknown [172.18.0.217]) by postal.iol.unh.edu (Postfix) with ESMTP id 87339605C373; Fri, 28 Jun 2024 00:40:31 -0400 (EDT) Subject: |SUCCESS| [GIT MASTER] 3b80379078a1f7c09b8d0ece24442c8ff2e2c67c From: dpdklab@iol.unh.edu To: Test Report Cc: dpdk-test-reports@iol.unh.edu, Akhil Goyal Content-Type: text/plain X-BeenThere: test-report@dpdk.org X-Mailman-Version: 2.1.29 Precedence: list List-Id: automatic DPDK test reports List-Unsubscribe: , List-Archive: List-Post: List-Help: List-Subscribe: , Errors-To: test-report-bounces@dpdk.org _Testing PASS_ Branch: dpdk-next-crypto 3b80379078a1f7c09b8d0ece24442c8ff2e2c67c --> testing pass Test environment and result as below: +----------------------------------------+--------------------+ | Environment | dpdk_meson_compile | +========================================+====================+ | Ubuntu 20.04 aarch32 GCC Cross Compile | PASS | +----------------------------------------+--------------------+ | Ubuntu 20.04 ARM Clang Cross Compile | PASS | +----------------------------------------+--------------------+ | Ubuntu 20.04 ARM SVE | PASS | +----------------------------------------+--------------------+ Ubuntu 20.04 aarch32 GCC Cross Compile Kernel: 5.4.0-167-generic Compiler: gcc 9.4.0 Ubuntu 20.04 ARM Clang Cross Compile Kernel: 5.4.0-72-generic Compiler: clang 10.0.0-4ubuntu1 Ubuntu 20.04 ARM SVE Kernel: 5.4.0-167-generic Compiler: gcc (Ubuntu 10.5.0-1ubuntu1~20.04) 10.5.0 To view detailed results, visit: https://lab.dpdk.org/results/dashboard/tarballs/29626/ UNH-IOL DPDK Community Lab To manage your email subscriptions, visit: https://lab.dpdk.org/results/dashboard/preferences/subscriptions/