From mboxrd@z Thu Jan 1 00:00:00 1970 Return-Path: Received: from mails.dpdk.org (mails.dpdk.org [217.70.189.124]) by inbox.dpdk.org (Postfix) with ESMTP id 0EC2C45513 for ; Fri, 28 Jun 2024 07:25:11 +0200 (CEST) Received: from mails.dpdk.org (localhost [127.0.0.1]) by mails.dpdk.org (Postfix) with ESMTP id 7D790427DB; Fri, 28 Jun 2024 07:25:10 +0200 (CEST) Received: from mail-pg1-f228.google.com (mail-pg1-f228.google.com [209.85.215.228]) by mails.dpdk.org (Postfix) with ESMTP id 34B9E410EA for ; Fri, 28 Jun 2024 07:18:04 +0200 (CEST) Received: by mail-pg1-f228.google.com with SMTP id 41be03b00d2f7-71816f36d4dso125415a12.2 for ; Thu, 27 Jun 2024 22:18:04 -0700 (PDT) DKIM-Signature: v=1; a=rsa-sha256; c=relaxed/relaxed; d=iol.unh.edu; s=unh-iol; t=1719551883; x=1720156683; darn=dpdk.org; h=cc:to:from:subject:message-id:date:from:to:cc:subject:date :message-id:reply-to; bh=07Vup5Il2I/42Vc2oVllX9HsunLWhnV9yBU1852Elw8=; b=df27EdSnlumAKBtIyxqoH/0qc09J5shQ2OkfJa+F/2gCRbA9ozcwYNCg4hhDWOO39p UtnNAX/zwHemJifPWa3AtOiBXUtRPVlx/F1mb9XAV/A6dEa//Egm8jlYfncetHG9cPsK YbTLybn0CK6TcZiCyWB9PfCGUKSibXCEShA4s= X-Google-DKIM-Signature: v=1; a=rsa-sha256; c=relaxed/relaxed; d=1e100.net; s=20230601; t=1719551883; x=1720156683; h=cc:to:from:subject:message-id:date:x-gm-message-state:from:to:cc :subject:date:message-id:reply-to; bh=07Vup5Il2I/42Vc2oVllX9HsunLWhnV9yBU1852Elw8=; b=js4AldVB4Ni5GUAPo4Xx5FMCqIo7Zv3Jslx0WGqE+hzZIapG00DEA/jcFC4ilzboSp vU/LN8b0MrrtnudpNp7VRHIWYQonNgKkwCzXFbT253AmDMxs2M+MqOwchXpVAOXoJUZk b57vDGwBDiqW7amfhoURWATKohcKYxyg02dkTP8jpUj5Ja5zLi6xw9uLjJ8VJV5krXA0 +vqn30XnyxXRcBQKk8Tu0vkATGAWJ7KI6QvbuUI9CZe3XWEYQq/M3hRj/JErbAOES9Rk y82dK5b6crdYQrNTzkMC5Ityq/nOUjEWluybXgBerk5h85OHO2ecAbWYVJ6m0ywcBapt iEfg== X-Gm-Message-State: AOJu0Ywo5OB2qyNgYMV4/sCz/02QHjlMTkYdNgXH/OKcOE6ZmUu6m7es mX7VZdGoaHFNJopFJ24lSWQmcFQb45zPZO34h3P2O6MSs6jOxffw3dj0XWDM0ResXKgGUVtMtCQ oxxczOOIoyQEpozJal2F6YcGiJ++sFjRCblxkzQx3 X-Google-Smtp-Source: AGHT+IGNnVdDBTXVPXVZYwOIYKB3qUCsvuultV+Jxr8Sq4FmG/d0TfkeXLJw+nZBGnCYcydxkh3+aYOExDuk X-Received: by 2002:a05:6a20:841c:b0:1b2:3ab8:5194 with SMTP id adf61e73a8af0-1bcf7e7ee71mr22499831637.23.1719551883335; Thu, 27 Jun 2024 22:18:03 -0700 (PDT) Received: from postal.iol.unh.edu (postal.iol.unh.edu. [132.177.123.84]) by smtp-relay.gmail.com with ESMTPS id 98e67ed59e1d1-2c91ce18076sm53243a91.3.2024.06.27.22.18.03 (version=TLS1_2 cipher=ECDHE-ECDSA-AES128-GCM-SHA256 bits=128/128); Thu, 27 Jun 2024 22:18:03 -0700 (PDT) X-Relaying-Domain: iol.unh.edu Date: Thu, 27 Jun 2024 22:18:03 -0700 (PDT) Message-ID: <667e478b.170a0220.fded1.3e9aSMTPIN_ADDED_MISSING@mx.google.com> Received: from [172.17.0.2] (unknown [172.18.0.217]) by postal.iol.unh.edu (Postfix) with ESMTP id 608F4605C373; Fri, 28 Jun 2024 01:18:02 -0400 (EDT) Subject: |SUCCESS| [GIT MASTER] 3b80379078a1f7c09b8d0ece24442c8ff2e2c67c From: dpdklab@iol.unh.edu To: Test Report Cc: dpdk-test-reports@iol.unh.edu, Akhil Goyal Content-Type: text/plain X-BeenThere: test-report@dpdk.org X-Mailman-Version: 2.1.29 Precedence: list List-Id: automatic DPDK test reports List-Unsubscribe: , List-Archive: List-Post: List-Help: List-Subscribe: , Errors-To: test-report-bounces@dpdk.org _Testing PASS_ Branch: dpdk-next-crypto 3b80379078a1f7c09b8d0ece24442c8ff2e2c67c --> testing pass Test environment and result as below: +----------------------------------------+--------------------+ | Environment | dpdk_meson_compile | +========================================+====================+ | Ubuntu 20.04 aarch32 GCC Cross Compile | PASS | +----------------------------------------+--------------------+ | Ubuntu 20.04 ARM Clang Cross Compile | PASS | +----------------------------------------+--------------------+ | Ubuntu 20.04 ARM SVE | PASS | +----------------------------------------+--------------------+ | Debian 12 with MUSDK | PASS | +----------------------------------------+--------------------+ | Ubuntu 20.04 ARM GCC Cross Compile | PASS | +----------------------------------------+--------------------+ | RHEL9 (ARM) | PASS | +----------------------------------------+--------------------+ | Fedora 38 (ARM) | PASS | +----------------------------------------+--------------------+ | Fedora 40 (ARM) | PASS | +----------------------------------------+--------------------+ Ubuntu 20.04 aarch32 GCC Cross Compile Kernel: 5.4.0-167-generic Compiler: gcc 9.4.0 Ubuntu 20.04 ARM Clang Cross Compile Kernel: 5.4.0-72-generic Compiler: clang 10.0.0-4ubuntu1 Ubuntu 20.04 ARM SVE Kernel: 5.4.0-167-generic Compiler: gcc (Ubuntu 10.5.0-1ubuntu1~20.04) 10.5.0 Debian 12 with MUSDK Kernel: Container Host Kernel Compiler: gcc 12.2.0 Ubuntu 20.04 ARM GCC Cross Compile Kernel: 5.4.0-167-generic Compiler: aarch64-linux-gnu-gcc (Ubuntu 9.4.0-1ubuntu1~20.04.2) 9.4.0 RHEL9 (ARM) Kernel: Depends on container host Compiler: gcc 11.4.1 Fedora 38 (ARM) Kernel: Depends on container host Compiler: gcc 13.2.1 Fedora 40 (ARM) Kernel: Depends on container host Compiler: gcc 14.1.1 To view detailed results, visit: https://lab.dpdk.org/results/dashboard/tarballs/29626/ UNH-IOL DPDK Community Lab To manage your email subscriptions, visit: https://lab.dpdk.org/results/dashboard/preferences/subscriptions/