From mboxrd@z Thu Jan 1 00:00:00 1970 Return-Path: Received: from mails.dpdk.org (mails.dpdk.org [217.70.189.124]) by inbox.dpdk.org (Postfix) with ESMTP id 4B5D64551D for ; Fri, 28 Jun 2024 07:36:37 +0200 (CEST) Received: from mails.dpdk.org (localhost [127.0.0.1]) by mails.dpdk.org (Postfix) with ESMTP id 835B542E37; Fri, 28 Jun 2024 07:36:36 +0200 (CEST) Received: from mail-pg1-f225.google.com (mail-pg1-f225.google.com [209.85.215.225]) by mails.dpdk.org (Postfix) with ESMTP id 72974410EA for ; Fri, 28 Jun 2024 07:36:13 +0200 (CEST) Received: by mail-pg1-f225.google.com with SMTP id 41be03b00d2f7-72b070c377aso172213a12.1 for ; Thu, 27 Jun 2024 22:36:13 -0700 (PDT) DKIM-Signature: v=1; a=rsa-sha256; c=relaxed/relaxed; d=iol.unh.edu; s=unh-iol; t=1719552972; x=1720157772; darn=dpdk.org; h=cc:to:from:subject:message-id:date:from:to:cc:subject:date :message-id:reply-to; bh=D7aRIqsIzsFjnKYalv3gefjGpHgkm6uqsrCnwAA8bro=; b=jFoRX5Qky+0JHDYcVrRmnHNSroM6O/CRZernak2yIvnPpXOBcAZQXqQV9mPVpXannU Uuqi40fUe88NH8EIjrPh618/AgojX03dwshbSPNb6gMb0ZBCuNgxE3gnfYpPmvaxa5BA zUWPuGvMXlZjOQy9zn/nqki850pm5voUNtp1o= X-Google-DKIM-Signature: v=1; a=rsa-sha256; c=relaxed/relaxed; d=1e100.net; s=20230601; t=1719552972; x=1720157772; h=cc:to:from:subject:message-id:date:x-gm-message-state:from:to:cc :subject:date:message-id:reply-to; bh=D7aRIqsIzsFjnKYalv3gefjGpHgkm6uqsrCnwAA8bro=; b=mJhkIbS0+F9u8nVezbyit3X0Tvx8FhYms7m77phEilTTzvhSk77EMBakjJuCL2EGm7 Q0ThMIn+w0h8KYH9TQOsl4pBqrjFJduE+n6IoPACdM7+gi95EElqtO4PR8ziYw5xQs+r LRc5hmiuMgxnpP5rvyesv3gG7bPgJ48e9EwQLp23RNZjR31nPbeMsfh2G+fJOGmxNns1 bXFojGMTomelST/Km/Pk27aHJ0w4sUKysvcAd9rwZJgNiGYp85PaW/1FNpvgCnoWKUBM O0BkSzPL95j+x6+dx7xrsjlvbj/CUqoHbPyyAHN9x8TSgXb0nwkVzv515B2eE0vtQgbp sB2Q== X-Gm-Message-State: AOJu0YyjKtIDmdeltGptStsWaq4eAuJZ/dhLmeg+llAaY5IBkmHWQVYr pktDCkge8j0Swm7PubWK+u40ZlIDYwxNYBscn65YJYLkRBhkQN7RZtC+OU8wFGxV42lT3NKZPW1 C8uUKjCiWk8QcDvbZEBY/6YDEMeR3lH+khi3UcvTR X-Google-Smtp-Source: AGHT+IHE+Z3GNQt/QEMGT3Mu+joPfAO32ncSWF1VcPutz7ElLzlyPhUypX6Ru3EY675Yl9NTPYYDCah0XlUk X-Received: by 2002:a05:6a20:5512:b0:1bd:2656:4e64 with SMTP id adf61e73a8af0-1bee4910ac2mr929715637.11.1719552972563; Thu, 27 Jun 2024 22:36:12 -0700 (PDT) Received: from postal.iol.unh.edu (postal.iol.unh.edu. [132.177.123.84]) by smtp-relay.gmail.com with ESMTPS id d2e1a72fcca58-70801509a85sm35605b3a.8.2024.06.27.22.36.12 (version=TLS1_2 cipher=ECDHE-ECDSA-AES128-GCM-SHA256 bits=128/128); Thu, 27 Jun 2024 22:36:12 -0700 (PDT) X-Relaying-Domain: iol.unh.edu Date: Thu, 27 Jun 2024 22:36:12 -0700 (PDT) Message-ID: <667e4bcc.050a0220.22fd8.290cSMTPIN_ADDED_MISSING@mx.google.com> Received: from [172.17.0.3] (unknown [172.18.0.217]) by postal.iol.unh.edu (Postfix) with ESMTP id A56E1605C373; Fri, 28 Jun 2024 01:36:11 -0400 (EDT) Subject: |SUCCESS| [GIT MASTER] 3b80379078a1f7c09b8d0ece24442c8ff2e2c67c From: dpdklab@iol.unh.edu To: Test Report Cc: dpdk-test-reports@iol.unh.edu, Akhil Goyal Content-Type: text/plain X-BeenThere: test-report@dpdk.org X-Mailman-Version: 2.1.29 Precedence: list List-Id: automatic DPDK test reports List-Unsubscribe: , List-Archive: List-Post: List-Help: List-Subscribe: , Errors-To: test-report-bounces@dpdk.org _Testing PASS_ Branch: dpdk-next-crypto 3b80379078a1f7c09b8d0ece24442c8ff2e2c67c --> testing pass Test environment and result as below: +----------------------------------------+--------------------+ | Environment | dpdk_meson_compile | +========================================+====================+ | Ubuntu 20.04 aarch32 GCC Cross Compile | PASS | +----------------------------------------+--------------------+ | Ubuntu 20.04 ARM Clang Cross Compile | PASS | +----------------------------------------+--------------------+ | Ubuntu 20.04 ARM SVE | PASS | +----------------------------------------+--------------------+ | Debian 12 with MUSDK | PASS | +----------------------------------------+--------------------+ | Ubuntu 20.04 ARM GCC Cross Compile | PASS | +----------------------------------------+--------------------+ | RHEL9 (ARM) | PASS | +----------------------------------------+--------------------+ | Fedora 38 (ARM) | PASS | +----------------------------------------+--------------------+ | Fedora 40 (ARM) | PASS | +----------------------------------------+--------------------+ | Fedora 39 (ARM) | PASS | +----------------------------------------+--------------------+ | Ubuntu 20.04 (ARM) | PASS | +----------------------------------------+--------------------+ | Ubuntu 22.04 (ARM) | PASS | +----------------------------------------+--------------------+ Ubuntu 20.04 aarch32 GCC Cross Compile Kernel: 5.4.0-167-generic Compiler: gcc 9.4.0 Ubuntu 20.04 ARM Clang Cross Compile Kernel: 5.4.0-72-generic Compiler: clang 10.0.0-4ubuntu1 Ubuntu 20.04 ARM SVE Kernel: 5.4.0-167-generic Compiler: gcc (Ubuntu 10.5.0-1ubuntu1~20.04) 10.5.0 Debian 12 with MUSDK Kernel: Container Host Kernel Compiler: gcc 12.2.0 Ubuntu 20.04 ARM GCC Cross Compile Kernel: 5.4.0-167-generic Compiler: aarch64-linux-gnu-gcc (Ubuntu 9.4.0-1ubuntu1~20.04.2) 9.4.0 RHEL9 (ARM) Kernel: Depends on container host Compiler: gcc 11.4.1 Fedora 38 (ARM) Kernel: Depends on container host Compiler: gcc 13.2.1 Fedora 40 (ARM) Kernel: Depends on container host Compiler: gcc 14.1.1 Fedora 39 (ARM) Kernel: Depends on container host Compiler: gcc 13.2.1 Ubuntu 20.04 (ARM) Kernel: Container Host Kernel Compiler: gcc 9.4.0 Ubuntu 22.04 (ARM) Kernel: Container Host Kernel Compiler: gcc 11.4.0 To view detailed results, visit: https://lab.dpdk.org/results/dashboard/tarballs/29626/ UNH-IOL DPDK Community Lab To manage your email subscriptions, visit: https://lab.dpdk.org/results/dashboard/preferences/subscriptions/