From mboxrd@z Thu Jan 1 00:00:00 1970 Return-Path: Received: from mails.dpdk.org (mails.dpdk.org [217.70.189.124]) by inbox.dpdk.org (Postfix) with ESMTP id 8BC834551D for ; Fri, 28 Jun 2024 08:20:23 +0200 (CEST) Received: from mails.dpdk.org (localhost [127.0.0.1]) by mails.dpdk.org (Postfix) with ESMTP id 83D0241144; Fri, 28 Jun 2024 08:20:23 +0200 (CEST) Received: from mail-pl1-f228.google.com (mail-pl1-f228.google.com [209.85.214.228]) by mails.dpdk.org (Postfix) with ESMTP id 3F352410EA for ; Fri, 28 Jun 2024 08:20:22 +0200 (CEST) Received: by mail-pl1-f228.google.com with SMTP id d9443c01a7336-1fa9f540f45so1330235ad.1 for ; Thu, 27 Jun 2024 23:20:22 -0700 (PDT) DKIM-Signature: v=1; a=rsa-sha256; c=relaxed/relaxed; d=iol.unh.edu; s=unh-iol; t=1719555621; x=1720160421; darn=dpdk.org; h=cc:to:from:subject:message-id:date:from:to:cc:subject:date :message-id:reply-to; bh=K75pQi7ljm504wcCbGAKSL32lEjKpZCnAOyqpFs+YSI=; b=U6mfGDtdSJgtvla9L2g3+AhLwtC/9cePPvXLFRFlTEjGURHl3LfMobjEcSHPZA/G3s CXeAnZ1FtP8ICbU2niHQ1MWO1OSDxNfi5D5K4XUO/lQoXw/PiJom35SK2YkEztyj1Vi1 cFCVD7eEJfEajU876ZyLgGNJmBZ4Dy+NqS2mo= X-Google-DKIM-Signature: v=1; a=rsa-sha256; c=relaxed/relaxed; d=1e100.net; s=20230601; t=1719555621; x=1720160421; h=cc:to:from:subject:message-id:date:x-gm-message-state:from:to:cc :subject:date:message-id:reply-to; bh=K75pQi7ljm504wcCbGAKSL32lEjKpZCnAOyqpFs+YSI=; b=P10XSoZ/3gcGGlKmKXU68hUBvcZHLi4NlMvP3JFrXIZxWyrXybMi+Zb+QzJPAA/ANA +j+n7LVi1CTts2s7p32Wa9WQBxiKXXBbAas+kCsRz7X+Qli/38Z/TUOMaJAWcqzNRp+N 0sYKdKCoKYhEx0S3aPROjnw15Ve2rSHRKW9Byz/1/j+9FzyL/ooauOrTViZ2Ewi7CV4o 6LGxOaxZ6JiuWgCMAusJ0fHtBMJLB2dvXruzYCXhFXmhmfOaJrd8/lzntB6zD43cm6/d HpLjxDUIO9YfAEshJBs/yc48EuLqvSLXyaRuM0f5KHrdjL1RqcvoZhlXa8ZiHYf7hDeU 7SpQ== X-Gm-Message-State: AOJu0Ywcurk4OnwdFXQtLOFOQatjT53g7Im6asv/JiBWxQJAdZetNaGP u2M5mPbc4l2s6wYWw1FyRE9L9YluCnqKt/GP8fV4Xrz5nCwPlTYguQ/iIwnLYaTS8fXdVH8uKE5 UoQ6bjLKvk0FnTOUsYezbTD7pRG4QkQbBhveYTPmf X-Google-Smtp-Source: AGHT+IHeWvYtvfxDyOwOGTK6wdvqk2xv5LNwJH8yBUDnPZNLIXkf24gYRtRA6Pi5NG8SSJhPpePZEwVMyWLy X-Received: by 2002:a17:902:f604:b0:1f6:ff48:1cf7 with SMTP id d9443c01a7336-1fa1594e163mr184562955ad.69.1719555621422; Thu, 27 Jun 2024 23:20:21 -0700 (PDT) Received: from postal.iol.unh.edu (postal.iol.unh.edu. [132.177.123.84]) by smtp-relay.gmail.com with ESMTPS id d9443c01a7336-1fac11e83c9sm346265ad.55.2024.06.27.23.20.21 (version=TLS1_2 cipher=ECDHE-ECDSA-AES128-GCM-SHA256 bits=128/128); Thu, 27 Jun 2024 23:20:21 -0700 (PDT) X-Relaying-Domain: iol.unh.edu Date: Thu, 27 Jun 2024 23:20:21 -0700 (PDT) Message-ID: <667e5625.170a0220.11e0.286eSMTPIN_ADDED_MISSING@mx.google.com> Received: from [172.17.0.4] (unknown [172.18.0.217]) by postal.iol.unh.edu (Postfix) with ESMTP id 73786605C373; Fri, 28 Jun 2024 02:20:20 -0400 (EDT) Subject: |SUCCESS| [GIT MASTER] 3b80379078a1f7c09b8d0ece24442c8ff2e2c67c From: dpdklab@iol.unh.edu To: Test Report Cc: dpdk-test-reports@iol.unh.edu, Akhil Goyal Content-Type: text/plain X-BeenThere: test-report@dpdk.org X-Mailman-Version: 2.1.29 Precedence: list List-Id: automatic DPDK test reports List-Unsubscribe: , List-Archive: List-Post: List-Help: List-Subscribe: , Errors-To: test-report-bounces@dpdk.org _Testing PASS_ Branch: dpdk-next-crypto 3b80379078a1f7c09b8d0ece24442c8ff2e2c67c --> testing pass Test environment and result as below: +----------------------------------------+--------------------+ | Environment | dpdk_meson_compile | +========================================+====================+ | Ubuntu 20.04 aarch32 GCC Cross Compile | PASS | +----------------------------------------+--------------------+ | Ubuntu 20.04 ARM Clang Cross Compile | PASS | +----------------------------------------+--------------------+ | Ubuntu 20.04 ARM SVE | PASS | +----------------------------------------+--------------------+ | Debian 12 with MUSDK | PASS | +----------------------------------------+--------------------+ | Ubuntu 20.04 ARM GCC Cross Compile | PASS | +----------------------------------------+--------------------+ | RHEL9 (ARM) | PASS | +----------------------------------------+--------------------+ | Fedora 38 (ARM) | PASS | +----------------------------------------+--------------------+ | Fedora 40 (ARM) | PASS | +----------------------------------------+--------------------+ | Fedora 39 (ARM) | PASS | +----------------------------------------+--------------------+ | Ubuntu 20.04 (ARM) | PASS | +----------------------------------------+--------------------+ | Ubuntu 22.04 (ARM) | PASS | +----------------------------------------+--------------------+ | Debian 11 (Buster) (ARM) | PASS | +----------------------------------------+--------------------+ | Fedora 37 (ARM) | PASS | +----------------------------------------+--------------------+ | Ubuntu 24.04 (ARM) | PASS | +----------------------------------------+--------------------+ | Debian 12 (arm) | PASS | +----------------------------------------+--------------------+ | Fedora 40 (ARM Clang) | PASS | +----------------------------------------+--------------------+ | Fedora 38 (ARM Clang) | PASS | +----------------------------------------+--------------------+ Ubuntu 20.04 aarch32 GCC Cross Compile Kernel: 5.4.0-167-generic Compiler: gcc 9.4.0 Ubuntu 20.04 ARM Clang Cross Compile Kernel: 5.4.0-72-generic Compiler: clang 10.0.0-4ubuntu1 Ubuntu 20.04 ARM SVE Kernel: 5.4.0-167-generic Compiler: gcc (Ubuntu 10.5.0-1ubuntu1~20.04) 10.5.0 Debian 12 with MUSDK Kernel: Container Host Kernel Compiler: gcc 12.2.0 Ubuntu 20.04 ARM GCC Cross Compile Kernel: 5.4.0-167-generic Compiler: aarch64-linux-gnu-gcc (Ubuntu 9.4.0-1ubuntu1~20.04.2) 9.4.0 RHEL9 (ARM) Kernel: Depends on container host Compiler: gcc 11.4.1 Fedora 38 (ARM) Kernel: Depends on container host Compiler: gcc 13.2.1 Fedora 40 (ARM) Kernel: Depends on container host Compiler: gcc 14.1.1 Fedora 39 (ARM) Kernel: Depends on container host Compiler: gcc 13.2.1 Ubuntu 20.04 (ARM) Kernel: Container Host Kernel Compiler: gcc 9.4.0 Ubuntu 22.04 (ARM) Kernel: Container Host Kernel Compiler: gcc 11.4.0 Debian 11 (Buster) (ARM) Kernel: Container Host Kernel Compiler: gcc 10.2.1 Fedora 37 (ARM) Kernel: Depends on container host Compiler: gcc 12.3.1 Ubuntu 24.04 (ARM) Kernel: 5.4.0-167-generic Compiler: gcc 13.2.0 Debian 12 (arm) Kernel: Container Host Kernel Compiler: gcc 12.2.0 Fedora 40 (ARM Clang) Kernel: Depends on container host Compiler: clang 18.1.6 Fedora 38 (ARM Clang) Kernel: Depends on container host Compiler: clang 16.0.6 To view detailed results, visit: https://lab.dpdk.org/results/dashboard/tarballs/29626/ UNH-IOL DPDK Community Lab To manage your email subscriptions, visit: https://lab.dpdk.org/results/dashboard/preferences/subscriptions/