From mboxrd@z Thu Jan  1 00:00:00 1970
Return-Path: <test-report-bounces@dpdk.org>
Received: from mails.dpdk.org (mails.dpdk.org [217.70.189.124])
	by inbox.dpdk.org (Postfix) with ESMTP id 9FCEF4551D
	for <public@inbox.dpdk.org>; Fri, 28 Jun 2024 08:20:47 +0200 (CEST)
Received: from mails.dpdk.org (localhost [127.0.0.1])
	by mails.dpdk.org (Postfix) with ESMTP id 9B05041144;
	Fri, 28 Jun 2024 08:20:47 +0200 (CEST)
Received: from mail-qk1-f226.google.com (mail-qk1-f226.google.com
 [209.85.222.226])
 by mails.dpdk.org (Postfix) with ESMTP id D479C410EA
 for <test-report@dpdk.org>; Fri, 28 Jun 2024 08:20:46 +0200 (CEST)
Received: by mail-qk1-f226.google.com with SMTP id
 af79cd13be357-79d5e61704eso19470285a.3
 for <test-report@dpdk.org>; Thu, 27 Jun 2024 23:20:46 -0700 (PDT)
DKIM-Signature: v=1; a=rsa-sha256; c=relaxed/relaxed;
 d=iol.unh.edu; s=unh-iol; t=1719555646; x=1720160446; darn=dpdk.org;
 h=references:in-reply-to:cc:to:from:subject:message-id:date:from:to
 :cc:subject:date:message-id:reply-to;
 bh=dzyZ+LplWzYHmiU6t0+Rx+odIj1pHyM9yxz7wCVe088=;
 b=OYtXfampnVSz3uQ2SfeZb5y3QwgO/Dd1NyxENoXu7/Ed8VdhOgpaW8/ArsSVAn0s95
 14BI9DaGJ9h8RV+Cxwvxp6qDxO2FJWYCa3jw44ZkOjOYBPR4UIjqqZcrdYO1WwWh22Wh
 J3vLQYjfsT1ZFk+mvN3xZnil2k7xd4J70yarE=
X-Google-DKIM-Signature: v=1; a=rsa-sha256; c=relaxed/relaxed;
 d=1e100.net; s=20230601; t=1719555646; x=1720160446;
 h=references:in-reply-to:cc:to:from:subject:message-id:date
 :x-gm-message-state:from:to:cc:subject:date:message-id:reply-to;
 bh=dzyZ+LplWzYHmiU6t0+Rx+odIj1pHyM9yxz7wCVe088=;
 b=T0CUWWerY18n0XtaUNwwFABsoG0hC3hAO/TSLgCB4wvbPK4nnypDIJcti9g4kScnZP
 kMFBN+bYJ9tQ17blbYrBIUqWYFwV5L7R87sfonDr+yYiDoiIBDy6EY/cQtzB66BcUa0V
 Yl9xX4O5q5wk2R8RK+vKjTubF8bwodwTHcS3HKAYqNESN+jThoy9DdXluNOEv85ma5WJ
 DWSPj6k4GhuN8AA5hf+nCdMRNfuOVwQfhgvkFds8axSPU30wu3QNUmxTFbxAPWr5xQpA
 Nstv+UE1gCSq4gSFsEMQ9lt1WiPH5JHgL0Q+DCidMELt0Cn2ROnnpjs431uHf2noFpws
 Jomg==
X-Gm-Message-State: AOJu0YwVUdVOHYcFMhv+OvF/EGIbn8M/6NbxZPpEG4gfS9ZCK8DAlqXr
 fEaMm2cUSKFVYDZ9yDkTdnEzIvCX8oM7tZeD8bBaqU1bujEcSpuC2gUP0CVboAcZ4YpnvOyCKIE
 ZgdBKO2AmGt1UrGI+Vrmqan+Nt12V8JIYHGILJ7HnBMIX/CLSF20gO9XI
X-Google-Smtp-Source: AGHT+IGq7uVLAJWTfan76kEq7bcwlW4Y+8+SgDa6nsuaflmkMi740MXEt/b/pyRA0oLsmOEm4+kCZZ8VK+ju
X-Received: by 2002:ad4:51d0:0:b0:6b5:786e:fd43 with SMTP id
 6a1803df08f44-6b5786efdf9mr97548486d6.7.1719555646246; 
 Thu, 27 Jun 2024 23:20:46 -0700 (PDT)
Received: from postal.iol.unh.edu (postal.iol.unh.edu.
 [2606:4100:3880:1234::84]) by smtp-relay.gmail.com with ESMTPS id
 6a1803df08f44-6b59e55f744sm527246d6.21.2024.06.27.23.20.46
 (version=TLS1_2 cipher=ECDHE-ECDSA-AES128-GCM-SHA256 bits=128/128);
 Thu, 27 Jun 2024 23:20:46 -0700 (PDT)
X-Relaying-Domain: iol.unh.edu
Date: Thu, 27 Jun 2024 23:20:46 -0700 (PDT)
Message-ID: <667e563e.d40a0220.3b14f.4137SMTPIN_ADDED_MISSING@mx.google.com>
Received: from [172.17.0.4] (unknown [172.18.0.217])
 by postal.iol.unh.edu (Postfix) with ESMTP id EC9D7605C373;
 Fri, 28 Jun 2024 02:20:45 -0400 (EDT)
Subject: |SUCCESS| pw141956-141958 [PATCH] [v2,3/3] test/bpf: add extra test 
From: dpdklab@iol.unh.edu
To: Test Report <test-report@dpdk.org>
Cc: dpdk-test-reports@iol.unh.edu
In-Reply-To: <20240627180442.1602-4-konstantin.v.ananyev@yandex.ru>
References: <20240627180442.1602-4-konstantin.v.ananyev@yandex.ru>
Content-Type: text/plain
X-BeenThere: test-report@dpdk.org
X-Mailman-Version: 2.1.29
Precedence: list
List-Id: automatic DPDK test reports <test-report.dpdk.org>
List-Unsubscribe: <https://mails.dpdk.org/options/test-report>,
 <mailto:test-report-request@dpdk.org?subject=unsubscribe>
List-Archive: <http://mails.dpdk.org/archives/test-report/>
List-Post: <mailto:test-report@dpdk.org>
List-Help: <mailto:test-report-request@dpdk.org?subject=help>
List-Subscribe: <https://mails.dpdk.org/listinfo/test-report>,
 <mailto:test-report-request@dpdk.org?subject=subscribe>
Errors-To: test-report-bounces@dpdk.org

Test-Label: iol-compile-amd64-testing
Test-Status: SUCCESS
http://dpdk.org/patch/141958

_Testing PASS_

Submitter: Konstantin Ananyev <konstantin.v.ananyev@yandex.ru>
Date: Thursday, June 27 2024 18:04:42 
DPDK git baseline: Repo:dpdk
  Branch: master
  CommitID:c15902587b538ff02cfb0fbb4dd481f1503d936b

141956-141958 --> testing pass

Test environment and result as below:

+---------------------+--------------------+-------------------+----------------------+------------------+-------------------+
|     Environment     | dpdk_meson_compile | dpdk_msvc_compile | dpdk_mingw64_compile | dpdk_compile_ovs | dpdk_compile_spdk |
+=====================+====================+===================+======================+==================+===================+
| FreeBSD 13.3        | PASS               | SKIPPED           | SKIPPED              | SKIPPED          | SKIPPED           |
+---------------------+--------------------+-------------------+----------------------+------------------+-------------------+
| Windows Server 2019 | PASS               | SKIPPED           | PASS                 | SKIPPED          | SKIPPED           |
+---------------------+--------------------+-------------------+----------------------+------------------+-------------------+
| FreeBSD 14.1        | PASS               | SKIPPED           | SKIPPED              | SKIPPED          | SKIPPED           |
+---------------------+--------------------+-------------------+----------------------+------------------+-------------------+
| Windows Server 2022 | PASS               | PASS              | PASS                 | SKIPPED          | SKIPPED           |
+---------------------+--------------------+-------------------+----------------------+------------------+-------------------+
| CentOS Stream 8     | PASS               | SKIPPED           | SKIPPED              | PASS             | PASS              |
+---------------------+--------------------+-------------------+----------------------+------------------+-------------------+
| Debian Bullseye     | PASS               | SKIPPED           | SKIPPED              | PASS             | PASS              |
+---------------------+--------------------+-------------------+----------------------+------------------+-------------------+
| Fedora 37           | PASS               | SKIPPED           | SKIPPED              | PASS             | PASS              |
+---------------------+--------------------+-------------------+----------------------+------------------+-------------------+
| Debian 12           | PASS               | SKIPPED           | SKIPPED              | PASS             | PASS              |
+---------------------+--------------------+-------------------+----------------------+------------------+-------------------+


FreeBSD 13.3
	Kernel: 13.3-RELEASE-p1
	Compiler: clang 17.0.6

Windows Server 2019
	Kernel: 10.0.17763
	Compiler: clang 14.0 and gcc 8.1.0 (MinGW)

FreeBSD 14.1
	Kernel: 14.1
	Compiler: clang 18.1.5

Windows Server 2022
	Kernel: 10.0.20348.2031
	Compiler: clang 15.0.7, gcc 8.1.0 (MinGW), and MSVC VS 17.9

CentOS Stream 8
	Kernel: 5.4.0-167-generic
	Compiler: gcc 8.5.0 20210514

Debian Bullseye
	Kernel: 5.4.0-167-generic
	Compiler: gcc 10.2.1-6

Fedora 37
	Kernel: Depends on container host system
	Compiler: gcc 12.3.1

Debian 12
	Kernel: Container Host Kernel
	Compiler: gcc 12.2.0

To view detailed results, visit:
https://lab.dpdk.org/results/dashboard/patchsets/30342/

UNH-IOL DPDK Community Lab

To manage your email subscriptions, visit: 
https://lab.dpdk.org/results/dashboard/preferences/subscriptions/