From mboxrd@z Thu Jan  1 00:00:00 1970
Return-Path: <test-report-bounces@dpdk.org>
Received: from mails.dpdk.org (mails.dpdk.org [217.70.189.124])
	by inbox.dpdk.org (Postfix) with ESMTP id 218B84551D
	for <public@inbox.dpdk.org>; Fri, 28 Jun 2024 08:38:32 +0200 (CEST)
Received: from mails.dpdk.org (localhost [127.0.0.1])
	by mails.dpdk.org (Postfix) with ESMTP id 1A834427B0;
	Fri, 28 Jun 2024 08:38:32 +0200 (CEST)
Received: from mail-pl1-f227.google.com (mail-pl1-f227.google.com
 [209.85.214.227])
 by mails.dpdk.org (Postfix) with ESMTP id F1346410EA
 for <test-report@dpdk.org>; Fri, 28 Jun 2024 08:38:27 +0200 (CEST)
Received: by mail-pl1-f227.google.com with SMTP id
 d9443c01a7336-1f9a78c6c5dso1428055ad.1
 for <test-report@dpdk.org>; Thu, 27 Jun 2024 23:38:27 -0700 (PDT)
DKIM-Signature: v=1; a=rsa-sha256; c=relaxed/relaxed;
 d=iol.unh.edu; s=unh-iol; t=1719556707; x=1720161507; darn=dpdk.org;
 h=references:in-reply-to:cc:to:from:subject:message-id:date:from:to
 :cc:subject:date:message-id:reply-to;
 bh=p9OkHp8u67ozUZ3B6SUiCmDtnJqD9Sa/zO1of3rBJDo=;
 b=bouBwNjEJK2MtnaRl798r2XJ1gZJ8rkTxLyYCaKefUMyT+Ij8DkJZC5WrAJoemgdny
 OBR+KajJpuD2i2qwuRNplFN3ICAOVvrwJ+qZmtgGDDvc0NdNt2UI8yrYvKL89meCxWrc
 mphUlcYIogXPaWrrkAr02d/JFFsnyexH/Fuuo=
X-Google-DKIM-Signature: v=1; a=rsa-sha256; c=relaxed/relaxed;
 d=1e100.net; s=20230601; t=1719556707; x=1720161507;
 h=references:in-reply-to:cc:to:from:subject:message-id:date
 :x-gm-message-state:from:to:cc:subject:date:message-id:reply-to;
 bh=p9OkHp8u67ozUZ3B6SUiCmDtnJqD9Sa/zO1of3rBJDo=;
 b=K+pKNA+ZOJ/TfwTskjxKtf/CQf9/DZdGmNVpwjJ7XrG98VurYggtgC3lXc+jElTY3P
 O/psL37bEgML4gZCgkfEk0dUODqchuHyuIkK3mTHriFb5Kh26Ir4CEktTZECarep1kz7
 I7RVZA/Z1rXC1ulgpau4euWAzfZarznmlkv5MIibC5s5FVk1SeJn6hOHfjuAlIULSf4m
 IVN1/YNfxrE4pti7QWg/luEnsnbDUM8ISZUjnMJznHpWGoTw07VWoI4XV8p62HRMNnhk
 /Kkxw8SDiLwqAMoJ7j9VgpDSwSF+qG4aoLukdku51a8VhEaJ1h69P/b1+Ce+Axj7hkV/
 uhtw==
X-Gm-Message-State: AOJu0YySyRVCBM4/2cVS2w/l1aVbrzAWu3Jg/rJUHYLsI+QXQ4CEw4jL
 mJ5ntwV3/UcOv3holBR5i5xIgrj5FC9b/BiUlv3l9Mw7BfVMgq1qDWWdm1wu6nCeEAXsD0OzvvH
 XJStItsSlTRf7CxiuJGOtQwUKz2+nvhpBHNri0lgywTV8LiVbclyJHKih
X-Google-Smtp-Source: AGHT+IEu75XAhLI3dCGsC3V6BEbksH+o0HN4TpepMB/tegJDKKFsEgUJFVwMULEHlfMITI2/3ub2GiZfNH7E
X-Received: by 2002:a17:902:ce82:b0:1f9:c0b3:7b19 with SMTP id
 d9443c01a7336-1fa23f1723cmr165119675ad.55.1719556707104; 
 Thu, 27 Jun 2024 23:38:27 -0700 (PDT)
Received: from postal.iol.unh.edu (postal.iol.unh.edu.
 [2606:4100:3880:1234::84]) by smtp-relay.gmail.com with ESMTPS id
 d9443c01a7336-1fac12f66fasm345155ad.73.2024.06.27.23.38.26
 (version=TLS1_2 cipher=ECDHE-ECDSA-AES128-GCM-SHA256 bits=128/128);
 Thu, 27 Jun 2024 23:38:27 -0700 (PDT)
X-Relaying-Domain: iol.unh.edu
Date: Thu, 27 Jun 2024 23:38:27 -0700 (PDT)
Message-ID: <667e5a63.170a0220.b1473.2931SMTPIN_ADDED_MISSING@mx.google.com>
Received: from [172.21.0.6] (unknown [172.18.0.240])
 by postal.iol.unh.edu (Postfix) with ESMTP id 52016605C373;
 Fri, 28 Jun 2024 02:38:26 -0400 (EDT)
Subject: |SUCCESS| pw141921 [PATCH] [v3] config/arm: add Ampere AmpereOneX pl
From: dpdklab@iol.unh.edu
To: Test Report <test-report@dpdk.org>
Cc: dpdk-test-reports@iol.unh.edu
In-Reply-To: <20240627024414.8598-1-jiangyutang@os.amperecomputing.com>
References: <20240627024414.8598-1-jiangyutang@os.amperecomputing.com>
Content-Type: text/plain
X-BeenThere: test-report@dpdk.org
X-Mailman-Version: 2.1.29
Precedence: list
List-Id: automatic DPDK test reports <test-report.dpdk.org>
List-Unsubscribe: <https://mails.dpdk.org/options/test-report>,
 <mailto:test-report-request@dpdk.org?subject=unsubscribe>
List-Archive: <http://mails.dpdk.org/archives/test-report/>
List-Post: <mailto:test-report@dpdk.org>
List-Help: <mailto:test-report-request@dpdk.org?subject=help>
List-Subscribe: <https://mails.dpdk.org/listinfo/test-report>,
 <mailto:test-report-request@dpdk.org?subject=subscribe>
Errors-To: test-report-bounces@dpdk.org

Test-Label: iol-unit-arm64-testing
Test-Status: SUCCESS
http://dpdk.org/patch/141921

_Testing PASS_

Submitter: Yutang Jiang <jiangyutang@os.amperecomputing.com>
Date: Thursday, June 27 2024 02:44:14 
DPDK git baseline: Repo:dpdk
  Branch: master
  CommitID:c15902587b538ff02cfb0fbb4dd481f1503d936b

141921 --> testing pass

Test environment and result as below:

+-----------------------------+----------------+--------------+---------------------------+------------------------------+
|         Environment         | dpdk_unit_test | lpm_autotest | cryptodev_sw_zuc_autotest | cryptodev_sw_snow3g_autotest |
+=============================+================+==============+===========================+==============================+
| 32-bit Ubuntu 20.04.4 (ARM) | PASS           | SKIPPED      | SKIPPED                   | SKIPPED                      |
+-----------------------------+----------------+--------------+---------------------------+------------------------------+
| CentOS Stream 9 (ARM)       | PASS           | SKIPPED      | SKIPPED                   | SKIPPED                      |
+-----------------------------+----------------+--------------+---------------------------+------------------------------+
| Debian 11 (Buster) (ARM)    | PASS           | SKIPPED      | SKIPPED                   | SKIPPED                      |
+-----------------------------+----------------+--------------+---------------------------+------------------------------+
| Debian 12 (arm)             | PASS           | SKIPPED      | PASS                      | PASS                         |
+-----------------------------+----------------+--------------+---------------------------+------------------------------+
| Fedora 37 (ARM)             | PASS           | SKIPPED      | SKIPPED                   | SKIPPED                      |
+-----------------------------+----------------+--------------+---------------------------+------------------------------+
| Fedora 38 (ARM)             | PASS           | SKIPPED      | SKIPPED                   | SKIPPED                      |
+-----------------------------+----------------+--------------+---------------------------+------------------------------+
| Fedora 39 (ARM)             | PASS           | SKIPPED      | SKIPPED                   | SKIPPED                      |
+-----------------------------+----------------+--------------+---------------------------+------------------------------+
| Fedora 38 (ARM Clang)       | PASS           | SKIPPED      | SKIPPED                   | SKIPPED                      |
+-----------------------------+----------------+--------------+---------------------------+------------------------------+
| Fedora 39 (ARM Clang)       | PASS           | SKIPPED      | SKIPPED                   | SKIPPED                      |
+-----------------------------+----------------+--------------+---------------------------+------------------------------+
| Ubuntu 20.04 ARM SVE        | SKIPPED        | PASS         | SKIPPED                   | SKIPPED                      |
+-----------------------------+----------------+--------------+---------------------------+------------------------------+


32-bit Ubuntu 20.04.4 (ARM)
	Kernel: 5.4.0-155-generic aarch64
	Compiler: gcc 9.4

CentOS Stream 9 (ARM)
	Kernel: Container Host Kernel
	Compiler: gcc 11.4.1

Debian 11 (Buster) (ARM)
	Kernel: Container Host Kernel
	Compiler: gcc 10.2.1

Debian 12 (arm)
	Kernel: Container Host Kernel
	Compiler: gcc 12.2.0

Fedora 37 (ARM)
	Kernel: Depends on container host
	Compiler: gcc 12.3.1

Fedora 38 (ARM)
	Kernel: Depends on container host
	Compiler: gcc 13.2.1

Fedora 39 (ARM)
	Kernel: Depends on container host
	Compiler: gcc 13.2.1

Fedora 38 (ARM Clang)
	Kernel: Depends on container host
	Compiler: clang 16.0.6

Fedora 39 (ARM Clang)
	Kernel: Depends on container host
	Compiler: clang 17.0.6

Ubuntu 20.04 ARM SVE
	Kernel: 5.4.0-167-generic
	Compiler: gcc (Ubuntu 10.5.0-1ubuntu1~20.04) 10.5.0

To view detailed results, visit:
https://lab.dpdk.org/results/dashboard/patchsets/30334/

UNH-IOL DPDK Community Lab

To manage your email subscriptions, visit: 
https://lab.dpdk.org/results/dashboard/preferences/subscriptions/