From mboxrd@z Thu Jan 1 00:00:00 1970 Return-Path: Received: from mails.dpdk.org (mails.dpdk.org [217.70.189.124]) by inbox.dpdk.org (Postfix) with ESMTP id 4C0034551D for ; Fri, 28 Jun 2024 08:51:16 +0200 (CEST) Received: from mails.dpdk.org (localhost [127.0.0.1]) by mails.dpdk.org (Postfix) with ESMTP id 255FD410EA; Fri, 28 Jun 2024 08:51:16 +0200 (CEST) Received: from mail-il1-f228.google.com (mail-il1-f228.google.com [209.85.166.228]) by mails.dpdk.org (Postfix) with ESMTP id A431B4029B for ; Fri, 28 Jun 2024 08:49:12 +0200 (CEST) Received: by mail-il1-f228.google.com with SMTP id e9e14a558f8ab-37636c3872bso1207195ab.3 for ; Thu, 27 Jun 2024 23:49:12 -0700 (PDT) DKIM-Signature: v=1; a=rsa-sha256; c=relaxed/relaxed; d=iol.unh.edu; s=unh-iol; t=1719557352; x=1720162152; darn=dpdk.org; h=cc:to:from:subject:message-id:date:from:to:cc:subject:date :message-id:reply-to; bh=42rjRFf0Ygo6PbL+mhyhpw/CAf3ukiibtHCyavEmAaA=; b=BGe5oZ9Hr2vHrCaJqC1byOr8ADI1NkwQ6G1agrWLbii2vFWErVy3Q3rMwl8cSrLJr5 1FgJrbzM3i52eHgaYoz5YdjzPhGAtpIGQLZZ4gZl0ut3LIYL8ji5MPKwLFtVvu+HpTtY Y9D8GNGOjW+fisELl/cXavg1g/KHYIG2yNLh8= X-Google-DKIM-Signature: v=1; a=rsa-sha256; c=relaxed/relaxed; d=1e100.net; s=20230601; t=1719557352; x=1720162152; h=cc:to:from:subject:message-id:date:x-gm-message-state:from:to:cc :subject:date:message-id:reply-to; bh=42rjRFf0Ygo6PbL+mhyhpw/CAf3ukiibtHCyavEmAaA=; b=YbNt5ItrY8ItNg/LyWTmCoLVzztS73G6KHmOnixTYsuP98lGIOMrXlZbPx8X0rrnYu lDyk/5pk6XVKPsI9jPCy0PaQvv65Cesm7K5N3GHmZyfLF7d1rw1RwGuthKV21wmzSMDM 1uQfBXz1qWTDOWK47zxjN1xPbwX+Q9VMO/9Afr/3OOhT1L7QFBiQACZlPmzw7zY/XL// pDQfFkCChVN+FvamWXBjkjLbyEBihxcAExtntezueUm10mi2/NjxWKHGqsmDgRaR74/0 OXZZiHjcnRjp1EGN3+FsoIax9GPJ8h0ugeEPO4JwKRBoQjXuI8n/5v8vw7a5nRZAcjWo Oi/w== X-Gm-Message-State: AOJu0YzqELryBzYAuds67JJNqFCMVoq8NRMPDsbjW9YblrpAdsk1zrbd CZJtbDXVFH31ATO45wMelHHDdzU4sxqtoh0yRthzqHTXpR51sMNqtK6t2eqj9nWmhGG8k0Bhvvc DZyIgdL69eg4pivguimEyDiVIsGuhXYo2rmlqrAtOqf9bqxL1jSOhI9rr X-Google-Smtp-Source: AGHT+IEmwjSf9mWER5biFS745UkIeviDW+IuQsepfipl7CHeK2abAd05yl9AnytdzBzBW0QhbV6uEH8e0Feb X-Received: by 2002:a05:6e02:152b:b0:374:593f:914a with SMTP id e9e14a558f8ab-3763f5adc2emr219277045ab.4.1719557351983; Thu, 27 Jun 2024 23:49:11 -0700 (PDT) Received: from postal.iol.unh.edu (postal.iol.unh.edu. [2606:4100:3880:1234::84]) by smtp-relay.gmail.com with ESMTPS id 41be03b00d2f7-72c6a8deb9bsm45064a12.12.2024.06.27.23.49.11 (version=TLS1_2 cipher=ECDHE-ECDSA-AES128-GCM-SHA256 bits=128/128); Thu, 27 Jun 2024 23:49:11 -0700 (PDT) X-Relaying-Domain: iol.unh.edu Date: Thu, 27 Jun 2024 23:49:11 -0700 (PDT) Message-ID: <667e5ce7.630a0220.acaa.33fbSMTPIN_ADDED_MISSING@mx.google.com> Received: from [172.21.0.7] (unknown [172.18.0.240]) by postal.iol.unh.edu (Postfix) with ESMTP id 14388605C373; Fri, 28 Jun 2024 02:49:11 -0400 (EDT) Subject: |SUCCESS| [GIT MASTER] 3b80379078a1f7c09b8d0ece24442c8ff2e2c67c From: dpdklab@iol.unh.edu To: Test Report Cc: dpdk-test-reports@iol.unh.edu, Akhil Goyal Content-Type: text/plain X-BeenThere: test-report@dpdk.org X-Mailman-Version: 2.1.29 Precedence: list List-Id: automatic DPDK test reports List-Unsubscribe: , List-Archive: List-Post: List-Help: List-Subscribe: , Errors-To: test-report-bounces@dpdk.org _Testing PASS_ Branch: dpdk-next-crypto 3b80379078a1f7c09b8d0ece24442c8ff2e2c67c --> testing pass Test environment and result as below: +----------------------------------------+--------------------+ | Environment | dpdk_meson_compile | +========================================+====================+ | Ubuntu 20.04 aarch32 GCC Cross Compile | PASS | +----------------------------------------+--------------------+ | Ubuntu 20.04 ARM Clang Cross Compile | PASS | +----------------------------------------+--------------------+ | Ubuntu 20.04 ARM SVE | PASS | +----------------------------------------+--------------------+ | Debian 12 with MUSDK | PASS | +----------------------------------------+--------------------+ | Ubuntu 20.04 ARM GCC Cross Compile | PASS | +----------------------------------------+--------------------+ | RHEL9 (ARM) | PASS | +----------------------------------------+--------------------+ | Fedora 38 (ARM) | PASS | +----------------------------------------+--------------------+ | Fedora 40 (ARM) | PASS | +----------------------------------------+--------------------+ | Fedora 39 (ARM) | PASS | +----------------------------------------+--------------------+ | Ubuntu 20.04 (ARM) | PASS | +----------------------------------------+--------------------+ | Ubuntu 22.04 (ARM) | PASS | +----------------------------------------+--------------------+ | Debian 11 (Buster) (ARM) | PASS | +----------------------------------------+--------------------+ | Fedora 37 (ARM) | PASS | +----------------------------------------+--------------------+ | Ubuntu 24.04 (ARM) | PASS | +----------------------------------------+--------------------+ | Debian 12 (arm) | PASS | +----------------------------------------+--------------------+ | Fedora 40 (ARM Clang) | PASS | +----------------------------------------+--------------------+ | Fedora 38 (ARM Clang) | PASS | +----------------------------------------+--------------------+ | Fedora 39 (ARM Clang) | PASS | +----------------------------------------+--------------------+ | CentOS Stream 9 (ARM) | PASS | +----------------------------------------+--------------------+ Ubuntu 20.04 aarch32 GCC Cross Compile Kernel: 5.4.0-167-generic Compiler: gcc 9.4.0 Ubuntu 20.04 ARM Clang Cross Compile Kernel: 5.4.0-72-generic Compiler: clang 10.0.0-4ubuntu1 Ubuntu 20.04 ARM SVE Kernel: 5.4.0-167-generic Compiler: gcc (Ubuntu 10.5.0-1ubuntu1~20.04) 10.5.0 Debian 12 with MUSDK Kernel: Container Host Kernel Compiler: gcc 12.2.0 Ubuntu 20.04 ARM GCC Cross Compile Kernel: 5.4.0-167-generic Compiler: aarch64-linux-gnu-gcc (Ubuntu 9.4.0-1ubuntu1~20.04.2) 9.4.0 RHEL9 (ARM) Kernel: Depends on container host Compiler: gcc 11.4.1 Fedora 38 (ARM) Kernel: Depends on container host Compiler: gcc 13.2.1 Fedora 40 (ARM) Kernel: Depends on container host Compiler: gcc 14.1.1 Fedora 39 (ARM) Kernel: Depends on container host Compiler: gcc 13.2.1 Ubuntu 20.04 (ARM) Kernel: Container Host Kernel Compiler: gcc 9.4.0 Ubuntu 22.04 (ARM) Kernel: Container Host Kernel Compiler: gcc 11.4.0 Debian 11 (Buster) (ARM) Kernel: Container Host Kernel Compiler: gcc 10.2.1 Fedora 37 (ARM) Kernel: Depends on container host Compiler: gcc 12.3.1 Ubuntu 24.04 (ARM) Kernel: 5.4.0-167-generic Compiler: gcc 13.2.0 Debian 12 (arm) Kernel: Container Host Kernel Compiler: gcc 12.2.0 Fedora 40 (ARM Clang) Kernel: Depends on container host Compiler: clang 18.1.6 Fedora 38 (ARM Clang) Kernel: Depends on container host Compiler: clang 16.0.6 Fedora 39 (ARM Clang) Kernel: Depends on container host Compiler: clang 17.0.6 CentOS Stream 9 (ARM) Kernel: Container Host Kernel Compiler: gcc 11.4.1 To view detailed results, visit: https://lab.dpdk.org/results/dashboard/tarballs/29626/ UNH-IOL DPDK Community Lab To manage your email subscriptions, visit: https://lab.dpdk.org/results/dashboard/preferences/subscriptions/